Workbook

Sheet RANKING
A1: TERRITORIAL | C1: Cto. Internacional de España Stroke Play | D1: Copa Baleares | E1: Puntuable Nacional Juvenil Femenino | F1: Puntuable Nacional Juvenil Masculino | G1: Copa S.M. El Rey | H1: Copa S.M. La Reina | I1: Copa Andalucía | J1: Cto. Fem. Comunidad de Madrid | K1: Cto. España Jr. y Boy | L1: Campeonato de Barcelona | M1: Campeonato de España Cadetes Masculino | N1: Campeonato de España Cadetes Femenino | O1: Copa N. Puerta de Hierro | P1: Campeonato de Canarias | Q1: Campeonato Nacional de España Femenino 1ª y 2ª categoría | R1: Campeonato de España Infantil Masculino | S1: Campeonato de España Infantil Femenino | T1: Campeonato de España Alevín Masculino | U1: Campeonato de España Alevín Femenino | V1: Campeonato de España Benjamín Masculino | W1: Campeonato de España Benjamín Femenino | X1: Campeonato de España Amateur Masculino | Y1: Interclubs de España Infantil | Z1: Internterritorial Femenino sub-25 de 1ª y 2ª división | AA1: Interterritorial Masculino sub-25 de 1ª división | AB1: Interterritorial Cadete Masculino | AC1: Cto. Internacional de España Júnior Masculino | AD1: Interterritorial Masculino sub-25 de 2ª división | AE1: Interterritorial Infantil
A2: Fecha final | B2: 2012 | C2: 40919 | D2: 40944 | E2: 40965 | F2: 40965 | G2: 40972 | H2: 40972 | I2: 40985 | J2: 40993 | K2: 41003 | L2: 41021 | M2: 41030 | N2: 41030 | O2: 41035 | P2: 41048 | Q2: 41063 | R2: 41089 | S2: 41089 | T2: 41089 | U2: 41089 | V2: 41089 | W2: 41089 | X2: 41117 | Y2: 41150 | Z2: 41160 | AA2: 41160 | AB2: 41168 | AC2: 41175 | AD2: 41189 | AE2: 41196
A3: Jornadas | C3: 3 | D3: 4 | E3: 2 | F3: 2 | G3: 5 | H3: 5 | I3: 4 | J3: 3 | K3: 4 | L3: 4 | M3: 3 | N3: 3 | O3: 4 | P3: 4 | Q3: 4 | R3: 3 | S3: 3 | T3: 3 | U3: 3 | V3: 3 | W3: 3 | X3: 4 | Y3: 2 | Z3: 4 | AA3: 4 | AB3: 4 | AC3: 4 | AD3: 4 | AE3: 4
A4: TERRITORIAL | B4: Total puntos | C4: Alicante Golf | D4: Son Antem | E4: Hacienda Riquelme | F4: El Valle | G4: Alcanada | H4: El Valle | I4: La Cañada | J4: El Encín | K4: Hacienda del Álamo | L4: El Prat | M4: Sancti Petri | N4: Sancti Petri | O4: La Cañada | P4: Anfi Tauro | Q4: El Saler | R4: La Manga | S4: La Manga | T4: La Manga | U4: La Manga | V4: La Manga | W4: La Manga | X4: Pedreña | Y4: Guadalhorce | Z4: Las Pinaillas | AA4: RGC. San Sebastián | AB4: Costa Adeje | AC4: Layos | AD4: Soria | AE4: Balagares
A5: AM:REAL. FEDERACION ANDALUZA DE GOLF | B5: =SUM(C5:AE5) -> 1678 | C5: 6 | D5: 62 | E5: 91 | F5: 49 | G5: 15 | H5: 8 | I5: 115 | J5: 46 | K5: 67 | L5: 50 | M5: 39 | N5: 78 | O5: 180 | P5: 66 | Q5: 57 | R5: 50 | S5: 74 | T5: 86 | U5: 12 | V5: 11 | W5: 23 | X5: 69 | Z5: 75 | AA5: 100 | AB5: 80 | AC5: 89 | AE5: 80
A6: CM:FEDERACION DE MADRID DE GOLF | B6: =SUM(C6:AE6) -> 1385 | C6: 31 | D6: 17 | E6: 39 | F6: 41 | G6: 8 | H6: 8 | I6: 49 | J6: 51 | K6: 88 | L6: 63 | M6: 17 | N6: 41 | O6: 144 | P6: 89 | Q6: 64 | R6: 27 | S6: 50 | T6: 36 | U6: 24 | V6: 95 | W6: 23 | X6: 48 | Z6: 65 | AA6: 45 | AB6: 65 | AC6: 57 | AE6: 100
A7: CB:FEDERACION CATALANA DE GOLF | B7: =SUM(C7:AE7) -> 1347 | C7: 34 | D7: 57 | E7: 15 | F7: 59 | G7: 8 | I7: 60 | J7: 35 | K7: 57 | L7: 72 | M7: 30 | N7: 33 | O7: 50 | P7: 62 | Q7: 60 | R7: 32 | S7: 60 | T7: 57 | U7: 51 | V7: 10 | W7: 102 | X7: 85 | Z7: 70 | AA7: 75 | AB7: 70 | AC7: 33 | AE7: 70
A8: VB:FEDERACION VASCA DE GOLF | B8: =SUM(C8:AE8) -> 1089 | C8: 52 | D8: 56 | E8: 17 | F8: 0 | G8: 25 | H8: 25 | I8: 31 | J8: 20 | K8: 35 | L8: 31 | M8: 27 | N8: 48 | O8: 35 | P8: 30 | Q8: 42 | R8: 52 | S8: 0 | T8: 16 | U8: 23 | V8: 37 | W8: 86 | X8: 60 | Z8: 80 | AA8: 85 | AB8: 85 | AC8: 46 | AE8: 45
A9: LV:FEDERACION VALENCIANA DE GOLF | B9: =SUM(C9:AE9) -> 986 | C9: 50 | D9: 50 | E9: 16 | F9: 5 | H9: 58 | I9: 15 | J9: 50 | K9: 33 | L9: 47 | M9: 9 | N9: 9 | O9: 23 | P9: 14 | Q9: 48 | R9: 13 | S9: 50 | T9: 33 | U9: 67 | V9: 25 | W9: 35 | X9: 13 | Z9: 85 | AA9: 80 | AB9: 75 | AC9: 23 | AE9: 60
A10: 02:FEDERACION PRINCIPADO DE ASTURIAS | B10: =SUM(C10:AE10) -> 912 | C10: 61 | D10: 12 | E10: 41 | F10: 35 | G10: 8 | H10: 15 | I10: 30 | J10: 32 | K10: 16 | L10: 33 | M10: 63 | N10: 42 | O10: 15 | P10: 12 | Q10: 21 | R10: 29 | S10: 12 | T10: 14 | U10: 22 | V10: 15 | X10: 29 | Z10: 100 | AA10: 70 | AB10: 100 | AE10: 85
A11: BP:FEDERACION BALEAR DE GOLF | B11: =SUM(C11:AE11) -> 534 | C11: 9 | D11: 31 | F11: 0 | G11: 8 | I11: 14 | J11: 30 | K11: 27 | L11: 44 | M11: 16 | O11: 48 | P11: 38 | Q11: 30 | R11: 0 | S11: 0 | V11: 16 | W11: 8 | X11: 25 | Z11: 25 | AA11: 60 | AB11: 40 | AC11: 25 | AE11: 40
A12: GC:FEDERACION GALLEGA DE GOLF | B12: =SUM(C12:AE12) -> 419 | C12: 0 | D12: 0 | E12: 7 | F12: 0 | I12: 16 | J12: 10 | K12: 0 | L12: 6 | M12: 17 | N12: 7 | Q12: 12 | R12: 25 | S12: 0 | T12: 4 | U12: 18 | V12: 30 | X12: 7 | Z12: 60 | AA12: 65 | AB12: 60 | AE12: 75
A13: 11:FEDERACION CANTABRA DE GOLF | B13: =SUM(C13:AE13) -> 280 | C13: 30 | F13: 19 | H13: 15 | I13: 0 | J13: 13 | L13: 0 | M13: 0 | N13: 6 | Q13: 17 | R13: 45 | T13: 0 | X13: 0 | Z13: 45 | AB13: 25 | AD13: 0 | AE13: 65
A14: 77:FED TERRITORIAL CASTILLA Y LEON | B14: =SUM(C14:AE14) -> 247 | D14: 2 | E14: 0 | F14: 6 | I14: 5 | J14: 0 | K14: 10 | L14: 5 | M14: 2 | N14: 0 | P14: 13 | Q14: 0 | R14: 0 | S14: 2 | T14: 21 | U14: 1 | X14: 15 | Z14: 15 | AB14: 45 | AC14: 55 | AD14: 35 | AE14: 15
A15: 44:FEDERACION NAVARRA DE GOLF | B15: =SUM(C15:AE15) -> 218 | C15: 14 | D15: 0 | E15: 9 | F15: 1 | I15: 13 | J15: 0 | K15: 0 | L15: 0 | M15: 10 | N15: 23 | Q15: 0 | R15: 0 | S15: 22 | T15: 0 | U15: 0 | V15: 21 | X15: 0 | Z15: 45 | AB15: 15 | AC15: 0 | AD15: 10 | AE15: 35
A16: CP:FEDERACION TERRITORIAL CANARIA DE GOLF | B16: =SUM(C16:AE16) -> 212 | D16: 0 | E16: 0 | F16: 0 | I16: 0 | K16: 0 | L16: 0 | M16: 0 | P16: 27 | Q16: 0 | R16: 0 | S16: 9 | T16: 17 | U16: 30 | V16: 0 | X16: 0 | Z16: 35 | AB16: 30 | AC16: 9 | AD16: 45 | AE16: 10
A17: 01:FED. ARAGONESA DE GOLF | B17: =SUM(C17:AE17) -> 169 | C17: 0 | D17: 0 | E17: 0 | F17: 20 | I17: 3 | J17: 0 | K17: 0 | L17: 0 | M17: 31 | N17: 0 | R17: 14 | U17: 17 | V17: 0 | X17: 0 | Z17: 5 | AB17: 35 | AC17: 14 | AE17: 30
A18: MM:FEDEDERACION MURCIANA DE GOLF | B18: =SUM(C18:AE18) -> 99 | E18: 0 | K18: 18 | Q18: 0 | R18: 0 | S18: 8 | T18: 3 | U18: 22 | V18: 13 | X18: 0 | Z18: 10 | AB18: 5 | AD18: 15 | AE18: 5
A19: 88:FEDERACION DE GOLF CASTILLA LA MANCHA | B19: =SUM(C19:AE19) -> 69 | I19: 0 | M19: 12 | Q19: 0 | R19: 0 | T19: 0 | V19: 14 | X19: 0 | Z19: 3 | AB19: 10 | AC19: 0 | AD19: 5 | AE19: 25
A20: 99:FEDERACION EXTREMEÑA DE GOLF | B20: =SUM(C20:AE20) -> 39 | K20: 0 | M20: 14 | Z20: 0 | AC20: 0 | AD20: 25
A21: RL:FEDERACION DE GOLF DE LA RIOJA | B21: =SUM(C21:AE21) -> 3 | T21: 0 | X21: 0 | AD21: 3

Sheet ANDALUCIA
A1: TERRITORIAL | C1: =RANKING!C1 -> Cto. Internacional de España Stroke Play | D1: =RANKING!D1 -> Copa Baleares | E1: =RANKING!E1 -> Puntuable Nacional Juvenil Femenino | F1: =RANKING!F1 -> Puntuable Nacional Juvenil Masculino | G1: =RANKING!G1 -> Copa S.M. El Rey | H1: =RANKING!H1 -> Copa S.M. La Reina | I1: =RANKING!I1 -> Copa Andalucía | J1: =RANKING!J1 -> Cto. Fem. Comunidad de Madrid | ... AE1: =RANKING!AE1 -> Interterritorial Infantil
A2: Fecha final | C2: =RANKING!C2 -> 40919 | D2: =RANKING!D2 -> 40944 | E2: =RANKING!E2 -> 40965 | F2: =RANKING!F2 -> 40965 | G2: =RANKING!G2 -> 40972 | H2: =RANKING!H2 -> 40972 | I2: =RANKING!I2 -> 40985 | J2: =RANKING!J2 -> 40993 | ... AE2: =RANKING!AE2 -> 41196
A3: Jornadas | C3: =RANKING!C3 -> 3 | D3: =RANKING!D3 -> 4 | E3: =RANKING!E3 -> 2 | F3: =RANKING!F3 -> 2 | G3: =RANKING!G3 -> 5 | H3: =RANKING!H3 -> 5 | I3: =RANKING!I3 -> 4 | J3: =RANKING!J3 -> 3 | ... AE3: =RANKING!AE3 -> 4
A4: Club | B4: Edad | C4: =RANKING!C4 -> Alicante Golf | D4: =RANKING!D4 -> Son Antem | E4: =RANKING!E4 -> Hacienda Riquelme | F4: =RANKING!F4 -> El Valle | G4: =RANKING!G4 -> Alcanada | H4: =RANKING!H4 -> El Valle | I4: =RANKING!I4 -> La Cañada | J4: =RANKING!J4 -> El Encín | ... AE4: =RANKING!AE4 -> Balagares
A5: ANDALUCÍA | C5: =SUM(C6:C80) -> 6 | D5: =SUM(D6:D80) -> 62 | E5: =SUM(E6:E80) -> 91 | F5: =SUM(F6:F80) -> 49 | G5: =SUM(G6:G80) -> 15 | H5: =SUM(H6:H80) -> 8 | I5: =SUM(I6:I80) -> 115 | J5: =SUM(J6:J80) -> 46 | ... AE5: =SUM(AE6:AE80) -> 80
A6: GALIANO AGUILAR,MARIO | B6: 17 | D6: 4 | G6: 15 | K6: 30 | L6: 21 | O6: 45 | X6: 18 | AC6: 35 | BB6: AM11343014
A7: PASTOR RUFIAN, VICTOR | B7: 17 | D7: 16 | I7: 35 | K7: 18 | L7: 19 | X7: 2 | AC7: 13 | BB7: AM06205458
A8: FERNANDEZ SALMON, SCOTT WILLIAM | B8: 20 | X8: 30 | BB8: AM65240916
A9: LILJA MOYANO, LEONARDO AXEL | B9: 20 | I9: 30 | K9: 4 | O9: 8 | AC9: 16 | BB9: AM57240048
A10: PELAEZ TRIVIÑO, ANA | B10: 14 | E10: 11 | J10: 15 | N10: 25 | Q10: 9 | S10: 25 | BB10: AMH6360673
A11: JIMENEZ MARTIN, NOEMI | B11: 18 | C11: 6 | Q11: 25 | BB11: AM51261513
A12: GOMEZ RUIZ, LAURA MARIA | B12: 16 | E12: 25 | H12: 8 | J12: 4 | N12: 13 | Q12: 13 | BB12: AM51355449
A13: RODRIGUEZ-TABERNERO TORRES,PABLO | B13: 14 | F13: 25 | BB13: AM85320379
A14: CESTINO CASTILLA, JACOBO | B14: 42 | I14: 4 | O14: 25 | BB14: AM00038515
A15: RAFAEL MONTERO URBANO | B15: 21 | D15: 10 | O15: 8 | P15: 23 | AC15: 17 | BB15: AM06204571
A16: LEAL MONTERO, GONZALO | B16: 12 | T16: 22 | BB16: AM11600563
A17: PARRA LUQUE, MARIA | B17: 14 | E17: 19 | J17: 22 | N17: 20 | Q17: 5 | BB17: AMH6345316
A18: PASTOR RUFIAN, MARCOS | B18: 23 | I18: 19 | P18: 21 | X18: 19 | BB18: AM06142686
A19: LEANDRO RODRIGUEZ, CARLOS | B19: 16 | D19: 20 | F19: 11 | I19: 10 | M19: 13 | P19: 18 | BB19: AM07323921
A20: MONTOYA LOPEZ,LUIS | B20: 14 | R20: 20 | BB20: AM62356726
A21: PUENTE RODRIGUEZ DE AUSTRIA, IGNACI | B21: 12 | T21: 20 | BB21: AM85357364
A22: ANTONIO CRUZ-CONDE RGUEZ.-G. | B22: 16 | L22: 10 | M22: 19 | O22: 8 | BB22: AM51250345
A23: HIDALGO PORTILLO, ANGEL | B23: 14 | F23: 3 | O23: 15 | R23: 18 | BB23: AM51359858
A24: GARCIA REAL, SARA | B24: 13 | S24: 18 | BB24: AMH6608266
A25: MICHELINI, RICCARDO | B25: 16 | I25: 17 | BB25: AM11409475
A26: MARTINEZ STEPHENS,PILAR | B26: 14 | S26: 17 | BB26: AM15355511
A27: BASCUAS MARCUELLO,ISABEL | B27: 16 | E27: 8 | N27: 17 | BB27: AM17342344
A28: ANGEL ACHA SANCHEZ | B28: 22 | O28: 15 | BB28: AM75247164
A29: JIMENEZ MARTIN, LUCIA | B29: 15 | E29: 15 | N29: 2 | Q29: 2 | BB29: AM51341739
A30: BORJA CABELLO GIACALONE | B30: 18 | K30: 15 | O30: 8 | BB30: AM15346073
A31: RUIZ PAVON,MONICA | B31: 14 | S31: 14 | BB31: AM51357183
A32: ANDRES LANDALUCE,JULIA | B32: 16 | E32: 13 | BB32: AM03349001
A33: BARRENA RODRIGUEZ, FELIPE | B33: 11 | T33: 13 | BB33: AM51613551
A34: MARIN GAMERO, LUCIA | B34: 10 | W34: 12 | BB34: AM17610345
A35: ALONSO ROSADO, PABLO | B35: 12 | T35: 12 | BB35: AM15610788
A36: CONTRERAS LUNA, MARIA | B36: 12 | U36: 12 | BB36: AM55701553
A37: CASAS BAGHERIAN, DANIEL | B37: 9 | V37: 11 | BB37: AMC8771722
A38: MALDONADO FELICES, GONZALO | B38: 12 | T38: 11 | BB38: AM23604617
A39: SANCHEZ DE LA FUENTE MOLINO, ALEJAN | B39: 9 | W39: 11 | BB39: AM51771133
A40: GRESCHNER ,CALVIN JOHN | B40: 15 | F40: 10 | BB40: AMH6357349
...

Sheet ARAGON
A1: TERRITORIAL | C1: =RANKING!C1 -> Cto. Internacional de España Stroke Play | D1: =RANKING!D1 -> Copa Baleares | E1: =RANKING!E1 -> Puntuable Nacional Juvenil Femenino | F1: =RANKING!F1 -> Puntuable Nacional Juvenil Masculino | G1: =RANKING!G1 -> Copa S.M. El Rey | H1: =RANKING!H1 -> Copa S.M. La Reina | I1: =RANKING!I1 -> Copa Andalucía | J1: =RANKING!J1 -> Cto. Fem. Comunidad de Madrid | ... AE1: =RANKING!AE1 -> Interterritorial Infantil
A2: Fecha final | C2: =RANKING!C2 -> 40919 | D2: =RANKING!D2 -> 40944 | E2: =RANKING!E2 -> 40965 | F2: =RANKING!F2 -> 40965 | G2: =RANKING!G2 -> 40972 | H2: =RANKING!H2 -> 40972 | I2: =RANKING!I2 -> 40985 | J2: =RANKING!J2 -> 40993 | ... AE2: =RANKING!AE2 -> 41196
A3: Jornadas | C3: =RANKING!C3 -> 3 | D3: =RANKING!D3 -> 4 | E3: =RANKING!E3 -> 2 | F3: =RANKING!F3 -> 2 | G3: =RANKING!G3 -> 5 | H3: =RANKING!H3 -> 5 | I3: =RANKING!I3 -> 4 | J3: =RANKING!J3 -> 3 | ... AE3: =RANKING!AE3 -> 4
A4: Club | B4: Edad | C4: =RANKING!C4 -> Alicante Golf | D4: =RANKING!D4 -> Son Antem | E4: =RANKING!E4 -> Hacienda Riquelme | F4: =RANKING!F4 -> El Valle | G4: =RANKING!G4 -> Alcanada | H4: =RANKING!H4 -> El Valle | I4: =RANKING!I4 -> La Cañada | J4: =RANKING!J4 -> El Encín | ... AE4: =RANKING!AE4 -> Balagares
A5: ARAGÓN | C5: =SUM(C6:C23) -> 0 | D5: =SUM(D6:D23) -> 0 | E5: =SUM(E6:E23) -> 0 | F5: =SUM(F6:F23) -> 20 | G5: =SUM(G6:G23) -> 0 | H5: =SUM(H6:H23) -> 0 | I5: =SUM(I6:I23) -> 3 | J5: =SUM(J6:J23) -> 0 | ... AE5: =SUM(AE6:AE23) -> 30
A6: UTRILLA BURGAZ, JORGE JOSE | B6: 16 | F6: 20 | I6: 3 | M6: 30 | BB6: 102319642
A7: ESPELOSIN GONZALEZ-SIMARRO, BEATRIZ | B7: 12 | U7: 17 | BB7: 102443935
A8: SANZ POVAR, JAIME | B8: 14 | R8: 14 | BB8: 101427855
A9: REVUELTA MONCASI, GONZALO | B9: 16 | AC9: 14 | BB9: 102319643
A10: MAICAS REDONDO, JORGE | B10: 14 | M10: 1 | BB10: 106427854
A11: EQUIPO ARAGÓN | Z11: 5 | AB11: 35 | AE11: 30

Sheet ASTURIAS
A1: TERRITORIAL | C1: =RANKING!C1 -> Cto. Internacional de España Stroke Play | D1: =RANKING!D1 -> Copa Baleares | E1: =RANKING!E1 -> Puntuable Nacional Juvenil Femenino | F1: =RANKING!F1 -> Puntuable Nacional Juvenil Masculino | G1: =RANKING!G1 -> Copa S.M. El Rey | H1: =RANKING!H1 -> Copa S.M. La Reina | I1: =RANKING!I1 -> Copa Andalucía | J1: =RANKING!J1 -> Cto. Fem. Comunidad de Madrid | ... AE1: =RANKING!AE1 -> Interterritorial Infantil
A2: Fecha final | C2: =RANKING!C2 -> 40919 | D2: =RANKING!D2 -> 40944 | E2: =RANKING!E2 -> 40965 | F2: =RANKING!F2 -> 40965 | G2: =RANKING!G2 -> 40972 | H2: =RANKING!H2 -> 40972 | I2: =RANKING!I2 -> 40985 | J2: =RANKING!J2 -> 40993 | ... AE2: =RANKING!AE2 -> 41196
A3: Jornadas | C3: =RANKING!C3 -> 3 | D3: =RANKING!D3 -> 4 | E3: =RANKING!E3 -> 2 | F3: =RANKING!F3 -> 2 | G3: =RANKING!G3 -> 5 | H3: =RANKING!H3 -> 5 | I3: =RANKING!I3 -> 4 | J3: =RANKING!J3 -> 3 | ... AE3: =RANKING!AE3 -> 4
A4: Club | B4: Edad | C4: =RANKING!C4 -> Alicante Golf | D4: =RANKING!D4 -> Son Antem | E4: =RANKING!E4 -> Hacienda Riquelme | F4: =RANKING!F4 -> El Valle | G4: =RANKING!G4 -> Alcanada | H4: =RANKING!H4 -> El Valle | I4: =RANKING!I4 -> La Cañada | J4: =RANKING!J4 -> El Encín | ... AE4: =RANKING!AE4 -> Balagares
A5: ASTURIAS | C5: =SUM(C6:C23) -> 61 | D5: =SUM(D6:D23) -> 12 | E5: =SUM(E6:E23) -> 41 | F5: =SUM(F6:F23) -> 35 | G5: =SUM(G6:G23) -> 8 | H5: =SUM(H6:H23) -> 15 | I5: =SUM(I6:I23) -> 30 | J5: =SUM(J6:J23) -> 29 | ... Y5: =SUM(Y6:Y23) -> 0 | Z5: =SUM(Z6:Z40) -> 100 | AA5: =SUM(AA6:AA30) -> 70 | AB5: =SUM(AB6:AB30) -> 100 | AC5: =SUM(AC6:AC23) -> 0 | AD5: =SUM(AD6:AD23) -> 0 | AE5: =SUM(AE6:AE30) -> 85
A6: ROSETE FABOS, FRANCISCO | B6: 13 | M6: 25 | R6: 17 | BB6: 201401777
A7: FERNANDEZ LOPEZ, ALBERTO | B7: 25 | I7: 23 | L7: 17 | P7: 5 | X7: 25 | BB7: 206221190
A8: ARIAS QUIROS, ELENA | B8: 12 | U8: 22 | BB8: 224441632
A9: SANJUAN GUTIERREZ, COVADONGA | B9: 15 | C9: 16 | E9: 17 | J9: 11 | N9: 14 | Q9: 21 | BB9: 231403404
A10: ELVIRA MIJARES, MANUEL | B10: 16 | D10: 12 | F10: 18 | I10: 7 | K10: 14 | M10: 20 | BB10: 227341291
A11: PASARIN OLALLA, ALEJANDRA | B11: 14 | C11: 17 | E11: 20 | J11: 18 | N11: 19 | BB11: 201382978
A12: CANTERO GUTIERREZ, IVAN | B12: 16 | F12: 17 | L12: 16 | M12: 18 | BB12: 227325891
A13: VIDAU GETAN, CARMEN | B13: 17 | C13: 15 | BB13: 208323690
A14: PABLO CARRILES TRUEBA | B14: 17 | O14: 15 | BB14: 227368227
A15: ANA SANJUAN GUTIERREZ | B15: 17 | H15: 15 | BB15: 231367159
A16: NEIRA GARCIA, JAVIER | B16: 10 | V16: 15 | BB16: 231462521
A17: ALONSO MARTINEZ, ORLANDO | B17: 12 | T17: 14 | BB17: 231463738
A18: BARQUIN AROZAMENA, CELIA | B18: 16 | C18: 13 | N18: 9 | BB18: 227326123
A19: NEIRA GARCIA, PAULA | B19: 13 | E19: 4 | S19: 12 | BB19: 231427861
A20: MENENDEZ GARCIA, EDUARDO | B20: 14 | R20: 12 | BB20: 206401773
A21: ALBERTO FERNANDEZ LOPEZ | B21: 25 | G21: 8 | BB21: 206221190
A22: ALVAREZ ASOREY, HUGO | B22: 21 | P22: 7 | BB22: 208325536
A23: DIAZ-NEGRETE PALACIO, MIGUEL | B23: 32 | X23: 4 | BB23: 201060452
A24: SANJUAN GUTIERREZ, ANA | B24: 17 | J24: 3 | BB24: 231367159
A25: POSTIGO GUTIERREZ, ALVARO | B25: 18 | K25: 2 | BB25: 208282372
A26: EQUIPO ASTURIAS | Z26: 100 | AA26: 70 | AB26: 100 | AE26: 85

Sheet BALEARES
A1: TERRITORIAL | C1: =RANKING!C1 -> Cto. Internacional de España Stroke Play | D1: =RANKING!D1 -> Copa Baleares | E1: =RANKING!E1 -> Puntuable Nacional Juvenil Femenino | F1: =RANKING!F1 -> Puntuable Nacional Juvenil Masculino | G1: =RANKING!G1 -> Copa S.M. El Rey | H1: =RANKING!H1 -> Copa S.M. La Reina | I1: =RANKING!I1 -> Copa Andalucía | J1: =RANKING!J1 -> Cto. Fem. Comunidad de Madrid | ... AE1: =RANKING!AE1 -> Interterritorial Infantil
A2: Fecha final | C2: =RANKING!C2 -> 40919 | D2: =RANKING!D2 -> 40944 | E2: =RANKING!E2 -> 40965 | F2: =RANKING!F2 -> 40965 | G2: =RANKING!G2 -> 40972 | H2: =RANKING!H2 -> 40972 | I2: =RANKING!I2 -> 40985 | J2: =RANKING!J2 -> 40993 | ... AE2: =RANKING!AE2 -> 41196
A3: Jornadas | C3: =RANKING!C3 -> 3 | D3: =RANKING!D3 -> 4 | E3: =RANKING!E3 -> 2 | F3: =RANKING!F3 -> 2 | G3: =RANKING!G3 -> 5 | H3: =RANKING!H3 -> 5 | I3: =RANKING!I3 -> 4 | J3: =RANKING!J3 -> 3 | ... AE3: =RANKING!AE3 -> 4
A4: Club | B4: Edad | C4: =RANKING!C4 -> Alicante Golf | D4: =RANKING!D4 -> Son Antem | E4: =RANKING!E4 -> Hacienda Riquelme | F4: =RANKING!F4 -> El Valle | G4: =RANKING!G4 -> Alcanada | H4: =RANKING!H4 -> El Valle | I4: =RANKING!I4 -> La Cañada | J4: =RANKING!J4 -> El Encín | ... AE4: =RANKING!AE4 -> Balagares
A5: BALEARES | C5: =SUM(C6:C23) -> 9 | D5: =SUM(D6:D23) -> 31 | E5: =SUM(E6:E23) -> 0 | F5: =SUM(F6:F23) -> 0 | G5: =SUM(G6:G23) -> 8 | H5: =SUM(H6:H23) -> 0 | I5: =SUM(I6:I23) -> 14 | J5: =SUM(J6:J23) -> 30 | ... AE5: =SUM(AE6:AE23) -> 40
A6: ANTONI FERRER MERCANT | B6: 21 | D6: 25 | G6: 8 | I6: 14 | K6: 27 | L6: 9 | O6: 40 | P6: 19 | X6: 9 | AC6: 21 | BB6: BP02286033
A7: ITURRIOS SERVERA, NURIA MARIA | B7: 16 | C7: 9 | J7: 30 | Q7: 30 | BB7: BP02368823
A8: TOUS NICOLAU, MIGUEL | B8: 15 | M8: 16 | BB8: BP02449819
A9: JUANEDA GRIMALT, JOSEP | B9: 21 | L9: 15 | X9: 5 | BB9: BP02310313
A10: PAEZ WEINBAUM, FEDERICO | B10: 26 | L10: 13 | BB10: BP09283164
A11: BISELLACH SERVERA, MARC | B11: 9 | V11: 12 | BB11: BP02451325
A12: GONZALEZ CAMARERO-NUÑEZ, JOAN | B12: 19 | X12: 11 | BB12: BP13365924
A13: MESTRE MAS, RAMON | B13: 25 | D13: 6 | O13: 8 | P13: 10 | BB13: BP06129740
A14: VALLUZZI, FABIO | B14: 21 | L14: 7 | P14: 9 | BB14: BP02241369
A15: HORTIAN DOSCH, CAROLINA | B15: 9 | W15: 8 | BB15: BP02455813
A16: MALDONADO MARTINS, ADRIA | B16: 8 | V16: 4 | BB16: BP15457016
A17: FERRER MERCANT, ALBERT | B17: 19 | AC17: 4 | BB17: BP02286034
A18: EQUIPO BALEARES | Z18: 25 | AA18: 60 | AB18: 40 | AE18: 40

Sheet CANARIAS
A1: TERRITORIAL | C1: =RANKING!C1 -> Cto. Internacional de España Stroke Play | D1: =RANKING!D1 -> Copa Baleares | E1: =RANKING!E1 -> Puntuable Nacional Juvenil Femenino | F1: =RANKING!F1 -> Puntuable Nacional Juvenil Masculino | G1: =RANKING!G1 -> Copa S.M. El Rey | H1: =RANKING!H1 -> Copa S.M. La Reina | I1: =RANKING!I1 -> Copa Andalucía | J1: =RANKING!J1 -> Cto. Fem. Comunidad de Madrid | ... AE1: =RANKING!AE1 -> Interterritorial Infantil
A2: Fecha final | C2: =RANKING!C2 -> 40919 | D2: =RANKING!D2 -> 40944 | E2: =RANKING!E2 -> 40965 | F2: =RANKING!F2 -> 40965 | G2: =RANKING!G2 -> 40972 | H2: =RANKING!H2 -> 40972 | I2: =RANKING!I2 -> 40985 | J2: =RANKING!J2 -> 40993 | ... AE2: =RANKING!AE2 -> 41196
A3: Jornadas | C3: =RANKING!C3 -> 3 | D3: =RANKING!D3 -> 4 | E3: =RANKING!E3 -> 2 | F3: =RANKING!F3 -> 2 | G3: =RANKING!G3 -> 5 | H3: =RANKING!H3 -> 5 | I3: =RANKING!I3 -> 4 | J3: =RANKING!J3 -> 3 | ... AE3: =RANKING!AE3 -> 4
A4: Club | B4: Edad | C4: =RANKING!C4 -> Alicante Golf | D4: =RANKING!D4 -> Son Antem | E4: =RANKING!E4 -> Hacienda Riquelme | F4: =RANKING!F4 -> El Valle | G4: =RANKING!G4 -> Alcanada | H4: =RANKING!H4 -> El Valle | I4: =RANKING!I4 -> La Cañada | J4: =RANKING!J4 -> El Encín | ... AE4: =RANKING!AE4 -> Balagares
A5: CANARIAS | C5: =SUM(C6:C23) -> 0 | D5: =SUM(D6:D23) -> 0 | E5: =SUM(E6:E23) -> 0 | F5: =SUM(F6:F23) -> 0 | G5: =SUM(G6:G23) -> 0 | H5: =SUM(H6:H23) -> 0 | I5: =SUM(I6:I23) -> 0 | J5: =SUM(J6:J23) -> 0 | ... AE5: =SUM(AE6:AE23) -> 10
A6: ELEJABEITIA CORTEZO, ANA DE | B6: 12 | U6: 30 | BB6: CP01441731
A7: SANTANA BELLO, PABLO | B7: 12 | T7: 17 | BB7: CP17426562
A8: SANTANA GARCIA, SAMUEL | B8: 16 | P8: 12 | BB8: CP31363313
A9: SHAW , CRAIG | B9: 38 | P9: 11 | BB9: CP27429113
A10: MARTINEZ CALAVIA, EVA | B10: 13 | S10: 9 | BB10: CP02402885
A11: ELEJABEITIA CORTEZO, JAVIER | B11: 17 | P11: 1 | AC11: 7 | BB11: CP01320318
A12: RODRIGUEZ CALASSOU, MARC | B12: 15 | P12: 3 | BB12: CP17431868
A13: POLADURA LOPEZ, JAVIER | B13: 18 | AC13: 2 | BB13: CP31358932
A14: EQUIPO CANARIAS | Z14: 35 | AB14: 30 | AD14: 45 | AE14: 10

Sheet CANTABRIA
A1: TERRITORIAL | C1: =RANKING!C1 -> Cto. Internacional de España Stroke Play | D1: =RANKING!D1 -> Copa Baleares | E1: =RANKING!E1 -> Puntuable Nacional Juvenil Femenino | F1: =RANKING!F1 -> Puntuable Nacional Juvenil Masculino | G1: =RANKING!G1 -> Copa S.M. El Rey | H1: =RANKING!H1 -> Copa S.M. La Reina | I1: =RANKING!I1 -> Copa Andalucía | J1: =RANKING!J1 -> Cto. Fem. Comunidad de Madrid | ... AE1: =RANKING!AE1 -> Interterritorial Infantil
A2: Fecha final | C2: =RANKING!C2 -> 40919 | D2: =RANKING!D2 -> 40944 | E2: =RANKING!E2 -> 40965 | F2: =RANKING!F2 -> 40965 | G2: =RANKING!G2 -> 40972 | H2: =RANKING!H2 -> 40972 | I2: =RANKING!I2 -> 40985 | J2: =RANKING!J2 -> 40993 | ... AE2: =RANKING!AE2 -> 41196
A3: Jornadas | C3: =RANKING!C3 -> 3 | D3: =RANKING!D3 -> 4 | E3: =RANKING!E3 -> 2 | F3: =RANKING!F3 -> 2 | G3: =RANKING!G3 -> 5 | H3: =RANKING!H3 -> 5 | I3: =RANKING!I3 -> 4 | J3: =RANKING!J3 -> 3 | ... AE3: =RANKING!AE3 -> 4
A4: Club | B4: Edad | C4: =RANKING!C4 -> Alicante Golf | D4: =RANKING!D4 -> Son Antem | E4: =RANKING!E4 -> Hacienda Riquelme | F4: =RANKING!F4 -> El Valle | G4: =RANKING!G4 -> Alcanada | H4: =RANKING!H4 -> El Valle | I4: =RANKING!I4 -> La Cañada | J4: =RANKING!J4 -> El Encín | ... AE4: =RANKING!AE4 -> Balagares
A5: CANTABRIA | C5: =SUM(C6:C23) -> 30 | D5: =SUM(D6:D23) -> 0 | E5: =SUM(E6:E23) -> 0 | F5: =SUM(F6:F23) -> 19 | G5: =SUM(G6:G23) -> 0 | H5: =SUM(H6:H23) -> 15 | I5: =SUM(I6:I23) -> 0 | J5: =SUM(J6:J23) -> 13 | ... AE5: =SUM(AE6:AE23) -> 65
A6: LEE JAE, HA RANG | B6: 16 | C6: 30 | H6: 15 | J6: 13 | Q6: 17 | BB6: 1113361903
A7: GONZALEZ GUEMES, ALEJANDRO | B7: 14 | F7: 19 | R7: 30 | BB7: 1109381068
A8: PEREZ SANTANA, MARIO | B8: 13 | R8: 15 | BB8: 1106430475
A9: NORIEGA PUENTE, ANDREA | B9: 16 | N9: 6 | BB9: 1109323997
A10: EQUIPO CANTABRIA | Z10: 45 | AB10: 25 | AD10: 0 | AE10: 65

Sheet CAST-LEON
A1: TERRITORIAL | C1: =RANKING!C1 -> Cto. Internacional de España Stroke Play | D1: =RANKING!D1 -> Copa Baleares | E1: =RANKING!E1 -> Puntuable Nacional Juvenil Femenino | F1: =RANKING!F1 -> Puntuable Nacional Juvenil Masculino | G1: =RANKING!G1 -> Copa S.M. El Rey | H1: =RANKING!H1 -> Copa S.M. La Reina | I1: =RANKING!I1 -> Copa Andalucía | J1: =RANKING!J1 -> Cto. Fem. Comunidad de Madrid | ... AE1: =RANKING!AE1 -> Interterritorial Infantil
A2: Fecha final | C2: =RANKING!C2 -> 40919 | D2: =RANKING!D2 -> 40944 | E2: =RANKING!E2 -> 40965 | F2: =RANKING!F2 -> 40965 | G2: =RANKING!G2 -> 40972 | H2: =RANKING!H2 -> 40972 | I2: =RANKING!I2 -> 40985 | J2: =RANKING!J2 -> 40993 | ... AE2: =RANKING!AE2 -> 41196
A3: Jornadas | C3: =RANKING!C3 -> 3 | D3: =RANKING!D3 -> 4 | E3: =RANKING!E3 -> 2 | F3: =RANKING!F3 -> 2 | G3: =RANKING!G3 -> 5 | H3: =RANKING!H3 -> 5 | I3: =RANKING!I3 -> 4 | J3: =RANKING!J3 -> 3 | ... AE3: =RANKING!AE3 -> 4
A4: Club | B4: Edad | C4: =RANKING!C4 -> Alicante Golf | D4: =RANKING!D4 -> Son Antem | E4: =RANKING!E4 -> Hacienda Riquelme | F4: =RANKING!F4 -> El Valle | G4: =RANKING!G4 -> Alcanada | H4: =RANKING!H4 -> El Valle | I4: =RANKING!I4 -> La Cañada | J4: =RANKING!J4 -> El Encín | ... AE4: =RANKING!AE4 -> Balagares
A5: CAST-LEON | C5: =SUM(C6:C23) -> 0 | D5: =SUM(D6:D23) -> 2 | E5: =SUM(E6:E23) -> 0 | F5: =SUM(F6:F23) -> 6 | G5: =SUM(G6:G23) -> 0 | H5: =SUM(H6:H23) -> 0 | I5: =SUM(I6:I23) -> 5 | J5: =SUM(J6:J23) -> 0 | ... AE5: =SUM(AE6:AE23) -> 15
A6: BERNA MANZANARES, DANIEL | B6: 20 | D6: 2 | I6: 5 | K6: 10 | L6: 5 | P6: 13 | X6: 15 | AC6: 30 | BB6: 7753195538
A7: HERRERO LORENZO, JAVIER | B7: 17 | AC7: 25 | BB7: 7753390824
A8: AGUILERA MARTIN, ALEJANDRO | B8: 12 | T8: 19 | BB8: 7753636323
A9: ALZAGA GARCIA, JAIME | B9: 15 | F9: 6 | M9: 2 | BB9: 7770397785
A10: DIEZ MOLINER, TERESA | B10: 13 | S10: 2 | BB10: 7709441405
A11: HUERTA PASTRANA, CARLOS | B11: 12 | T11: 2 | BB11: 7711443424
A12: RABANAL VILLAYANDRE, PATRCIA | B12: 12 | U12: 1 | BB12: 7711454262
A13: EQUIPO CASTILLA-LEÓN | Z13: 15 | AB13: 45 | AD13: 35 | AE13: 15

Sheet CAST-LAMANCHA
A1: TERRITORIAL | C1: =RANKING!C1 -> Cto. Internacional de España Stroke Play | D1: =RANKING!D1 -> Copa Baleares | E1: =RANKING!E1 -> Puntuable Nacional Juvenil Femenino | F1: =RANKING!F1 -> Puntuable Nacional Juvenil Masculino | G1: =RANKING!G1 -> Copa S.M. El Rey | H1: =RANKING!H1 -> Copa S.M. La Reina | I1: =RANKING!I1 -> Copa Andalucía | J1: =RANKING!J1 -> Cto. Fem. Comunidad de Madrid | ... AE1: =RANKING!AE1 -> Interterritorial Infantil
A2: Fecha final | C2: =RANKING!C2 -> 40919 | D2: =RANKING!D2 -> 40944 | E2: =RANKING!E2 -> 40965 | F2: =RANKING!F2 -> 40965 | G2: =RANKING!G2 -> 40972 | H2: =RANKING!H2 -> 40972 | I2: =RANKING!I2 -> 40985 | J2: =RANKING!J2 -> 40993 | ... AE2: =RANKING!AE2 -> 41196
A3: Jornadas | C3: =RANKING!C3 -> 3 | D3: =RANKING!D3 -> 4 | E3: =RANKING!E3 -> 2 | F3: =RANKING!F3 -> 2 | G3: =RANKING!G3 -> 5 | H3: =RANKING!H3 -> 5 | I3: =RANKING!I3 -> 4 | J3: =RANKING!J3 -> 3 | ... AE3: =RANKING!AE3 -> 4
A4: Club | B4: Edad | C4: =RANKING!C4 -> Alicante Golf | D4: =RANKING!D4 -> Son Antem | E4: =RANKING!E4 -> Hacienda Riquelme | F4: =RANKING!F4 -> El Valle | G4: =RANKING!G4 -> Alcanada | H4: =RANKING!H4 -> El Valle | I4: =RANKING!I4 -> La Cañada | J4: =RANKING!J4 -> El Encín | ... AE4: =RANKING!AE4 -> Balagares
A5: CAST-LAMANCHA | C5: =SUM(C6:C23) -> 0 | D5: =SUM(D6:D23) -> 0 | E5: =SUM(E6:E23) -> 0 | F5: =SUM(F6:F23) -> 0 | G5: =SUM(G6:G23) -> 0 | H5: =SUM(H6:H23) -> 0 | I5: =SUM(I6:I23) -> 0 | J5: =SUM(J6:J23) -> 0 | ... AE5: =SUM(AE6:AE23) -> 25
A6: ROBLES DELVAL, DANIEL | B6: 9 | V6: 14 | BB6: 8819740397
A7: RUIZ RODRIGUEZ, GENARO | B7: 15 | M7: 12 | BB7: 8827424567
A8: EQUIPO CAST-LAMANCHA | Z8: 5 | AB8: 10 | AD8: 5 | AE8: 25

Sheet CATALUÑA
A1: TERRITORIAL | C1: =RANKING!C1 -> Cto. Internacional de España Stroke Play | D1: =RANKING!D1 -> Copa Baleares | E1: =RANKING!E1 -> Puntuable Nacional Juvenil Femenino | F1: =RANKING!F1 -> Puntuable Nacional Juvenil Masculino | G1: =RANKING!G1 -> Copa S.M. El Rey | H1: =RANKING!H1 -> Copa S.M. La Reina | I1: =RANKING!I1 -> Copa Andalucía | J1: =RANKING!J1 -> Cto. Fem. Comunidad de Madrid | ... AE1: =RANKING!AE1 -> Interterritorial Infantil
A2: Fecha final | C2: =RANKING!C2 -> 40919 | D2: =RANKING!D2 -> 40944 | E2: =RANKING!E2 -> 40965 | F2: =RANKING!F2 -> 40965 | G2: =RANKING!G2 -> 40972 | H2: =RANKING!H2 -> 40972 | I2: =RANKING!I2 -> 40985 | J2: =RANKING!J2 -> 40993 | ... AE2: =RANKING!AE2 -> 41196
A3: Jornadas | C3: =RANKING!C3 -> 3 | D3: =RANKING!D3 -> 4 | E3: =RANKING!E3 -> 2 | F3: =RANKING!F3 -> 2 | G3: =RANKING!G3 -> 5 | H3: =RANKING!H3 -> 5 | I3: =RANKING!I3 -> 4 | J3: =RANKING!J3 -> 3 | ... AE3: =RANKING!AE3 -> 4
A4: Club | B4: Edad | C4: =RANKING!C4 -> Alicante Golf | D4: =RANKING!D4 -> Son Antem | E4: =RANKING!E4 -> Hacienda Riquelme | F4: =RANKING!F4 -> El Valle | G4: =RANKING!G4 -> Alcanada | H4: =RANKING!H4 -> El Valle | I4: =RANKING!I4 -> La Cañada | J4: =RANKING!J4 -> El Encín | ... AE4: =RANKING!AE4 -> Balagares
A5: CATALUÑA | C5: =SUM(C6:C23) -> 25 | D5: =SUM(D6:D23) -> 29 | E5: =SUM(E6:E23) -> 1 | F5: =SUM(F6:F23) -> 16 | G5: =SUM(G6:G23) -> 0 | H5: =SUM(H6:H23) -> 0 | I5: =SUM(I6:I23) -> 52 | J5: =SUM(J6:J23) -> 19 | ... Y5: =SUM(Y6:Y23) -> 0 | Z5: =SUM(Z6:Z80) -> 70 | AA5: =SUM(AA6:AA65) -> 75 | AB5: =SUM(AB6:AB65) -> 70 | AC5: =SUM(AC6:AC23) -> 0 | AD5: =SUM(AD6:AD23) -> 0 | AE5: =SUM(AE6:AE65) -> 70
A6: PIGEM XAMMAR, CARLOS | B6: 22 | D6: 18 | I6: 27 | L6: 35 | P6: 35 | X6: 35 | BB6: CB35176848
A7: HEDBERG BERTRAND, CAMILLA | B7: 19 | Q7: 35 | BB7: CB02225097
A8: HEDBERG BERTRAND, ERIK | B8: 17 | K8: 12 | L8: 11 | O8: 35 | P8: 17 | BB8: CB02273326
A9: ARNAUS ANTUNEZ, ADRIA | B9: 17 | D9: 11 | I9: 25 | K9: 25 | L9: 23 | BB9: CB64268168
A10: ROUSAUD SABATE, EDUARD | B10: 12 | T10: 25 | BB10: CB42338879
A11: JONAMA ROVIRA,ANDREA | B11: 17 | C11: 25 | BB11: CB02504116
A12: CUARTERO BLANCO, EMILIO | B12: 21 | X12: 21 | BB12: CB09175854
A13: SENTMENAT RIVERO, ANDREA DE | B13: 12 | U13: 20 | BB13: CB05643008
A14: MARFA SANS, PAZ | B14: 13 | S14: 20 | BB14: CB42640123
A15: BENAGES HERNANDEZ, MARTA | B15: 10 | W15: 20 | BB15: CB64754295
A16: VACARISAS TORNDELACREU,LUCAS | B16: 14 | R16: 19 | BB16: CB18334598
A17: MARTINEZ ORTUÑO, ALICIA - YONGCHAO | B17: 10 | W17: 19 | BB17: CB19660351
A18: YAÑEZ ABADES, JOANA | B18: 21 | J18: 19 | BB18: CB23179189
A19: DOMINGO GRAELLS,EVA | B19: 15 | E19: 1 | N19: 18 | BB19: CBA2334540
A20: MORAGO AYRA,DAVID | B20: 19 | X20: 17 | BB20: CB08358141
A21: BADOSA SOLER, ALBERT | B21: 16 | F21: 16 | BB21: CB27338151
A22: SANCHEZ SABE, BERTA | B22: 10 | W22: 16 | BB22: CB64695534
A23: PIÑEIRO LLAGOSTERA, MARIA | B23: 14 | S23: 16 | BB23: CB42642809
A24: VICTOR BERTRAN CROUS | G24: 8 | O24: 15 | BB24: CB08122364
A25: AYORA GOMEZ, MIRIAM | B25: 9 | W25: 15 | BB25: CB23648562
A26: FLOTATS POZO, JORDI | B26: 18 | P26: 2 | AC26: 15 | BB26: CB42224069
A27: GARCIA BROTO,VICTOR | B27: 15 | F27: 15 | BB27: CB08509830
A28: SANCHEZ FERNANDEZ, SONIA | B28: 16 | C28: 4 | E28: 14 | J28: 7 | N28: 15 | Q28: 11 | BB28: CB02640336
A29: GUERIN ALMAZOR,ALVARO | B29: 16 | F29: 12 | M29: 15 | BB29: CB02332329
A30: LANAS IGLESIAS,GONZALO | B30: 15 | F30: 14 | BB30: CB64509329
A31: MARTINEZ MARCO, MARINA | B31: 12 | U31: 14 | BB31: CB08642174
A32: GARCIA ECHEVARRIETA BORJA | B32: 36 | D32: 14 | BB32: CB08030566
A33: SANSO ALBERICH, JORDI | B33: 18 | K33: 13 | L33: 3 | BB33: CB05652683
A34: ELIZALDE MALDONADO, MARIA | B34: 10 | W34: 13 | BB34: CB02775252
A35: BOIRA LOPEZ, XUS | B35: 13 | S35: 13 | BB35: CB35338883
A36: ANGLES ROS,PEP | B36: 19 | X36: 12 | BB36: CB04333014
A37: PANES CAPDEVILA, JORDI | B37: 17 | P37: 8 | AC37: 12 | BB37: CB05332583
A38: ARRIBAS SAN JOSE,ALBERT | B38: 16 | F38: 2 | M38: 11 | BB38: CB08504316
A39: VILARASAU AMOROS, ANDREA | B39: 18 | Q39: 10 | BB39: CB01271348
A40: MATA DE LA BARATA BARCONS, SERGI | B40: 12 | T40: 10 | BB40: CB07640210
...

Sheet EXTREMADURA
A1: TERRITORIAL | C1: =RANKING!C1 -> Cto. Internacional de España Stroke Play | D1: =RANKING!D1 -> Copa Baleares | E1: =RANKING!E1 -> Puntuable Nacional Juvenil Femenino | F1: =RANKING!F1 -> Puntuable Nacional Juvenil Masculino | G1: =RANKING!G1 -> Copa S.M. El Rey | H1: =RANKING!H1 -> Copa S.M. La Reina | I1: =RANKING!I1 -> Copa Andalucía | J1: =RANKING!J1 -> Cto. Fem. Comunidad de Madrid | ... AE1: =RANKING!AE1 -> Interterritorial Infantil
A2: Fecha final | C2: =RANKING!C2 -> 40919 | D2: =RANKING!D2 -> 40944 | E2: =RANKING!E2 -> 40965 | F2: =RANKING!F2 -> 40965 | G2: =RANKING!G2 -> 40972 | H2: =RANKING!H2 -> 40972 | I2: =RANKING!I2 -> 40985 | J2: =RANKING!J2 -> 40993 | ... AE2: =RANKING!AE2 -> 41196
A3: Jornadas | C3: =RANKING!C3 -> 3 | D3: =RANKING!D3 -> 4 | E3: =RANKING!E3 -> 2 | F3: =RANKING!F3 -> 2 | G3: =RANKING!G3 -> 5 | H3: =RANKING!H3 -> 5 | I3: =RANKING!I3 -> 4 | J3: =RANKING!J3 -> 3 | ... AE3: =RANKING!AE3 -> 4
A4: Club | B4: Edad | C4: =RANKING!C4 -> Alicante Golf | D4: =RANKING!D4 -> Son Antem | E4: =RANKING!E4 -> Hacienda Riquelme | F4: =RANKING!F4 -> El Valle | G4: =RANKING!G4 -> Alcanada | H4: =RANKING!H4 -> El Valle | I4: =RANKING!I4 -> La Cañada | J4: =RANKING!J4 -> El Encín | ... AE4: =RANKING!AE4 -> Balagares
A5: EXTREMADURA | C5: =SUM(C6:C23) -> 0 | D5: =SUM(D6:D23) -> 0 | E5: =SUM(E6:E23) -> 0 | F5: =SUM(F6:F23) -> 0 | G5: =SUM(G6:G23) -> 0 | H5: =SUM(H6:H23) -> 0 | I5: =SUM(I6:I23) -> 0 | J5: =SUM(J6:J23) -> 0 | ... AE5: =SUM(AE6:AE23) -> 0
A6: GONZALEZ CAMARERO, MANUEL | B6: 16 | M6: 14 | BB6: 9906364292
A7: EQUIPO EXTREMADURA | AD7: 25

Sheet GALICIA
A1: TERRITORIAL | C1: =RANKING!C1 -> Cto. Internacional de España Stroke Play | D1: =RANKING!D1 -> Copa Baleares | E1: =RANKING!E1 -> Puntuable Nacional Juvenil Femenino | F1: =RANKING!F1 -> Puntuable Nacional Juvenil Masculino | G1: =RANKING!G1 -> Copa S.M. El Rey | H1: =RANKING!H1 -> Copa S.M. La Reina | I1: =RANKING!I1 -> Copa Andalucía | J1: =RANKING!J1 -> Cto. Fem. Comunidad de Madrid | ... AE1: =RANKING!AE1 -> Interterritorial Infantil
A2: Fecha final | C2: =RANKING!C2 -> 40919 | D2: =RANKING!D2 -> 40944 | E2: =RANKING!E2 -> 40965 | F2: =RANKING!F2 -> 40965 | G2: =RANKING!G2 -> 40972 | H2: =RANKING!H2 -> 40972 | I2: =RANKING!I2 -> 40985 | J2: =RANKING!J2 -> 40993 | ... AE2: =RANKING!AE2 -> 41196
A3: Jornadas | C3: =RANKING!C3 -> 3 | D3: =RANKING!D3 -> 4 | E3: =RANKING!E3 -> 2 | F3: =RANKING!F3 -> 2 | G3: =RANKING!G3 -> 5 | H3: =RANKING!H3 -> 5 | I3: =RANKING!I3 -> 4 | J3: =RANKING!J3 -> 3 | ... AE3: =RANKING!AE3 -> 4
A4: Club | B4: Edad | C4: =RANKING!C4 -> Alicante Golf | D4: =RANKING!D4 -> Son Antem | E4: =RANKING!E4 -> Hacienda Riquelme | F4: =RANKING!F4 -> El Valle | G4: =RANKING!G4 -> Alcanada | H4: =RANKING!H4 -> El Valle | I4: =RANKING!I4 -> La Cañada | J4: =RANKING!J4 -> El Encín | ... AE4: =RANKING!AE4 -> Balagares
A5: GALICIA | C5: =SUM(C6:C23) -> 0 | D5: =SUM(D6:D23) -> 0 | E5: =SUM(E6:E23) -> 7 | F5: =SUM(F6:F23) -> 0 | G5: =SUM(G6:G23) -> 0 | H5: =SUM(H6:H23) -> 0 | I5: =SUM(I6:I23) -> 16 | J5: =SUM(J6:J23) -> 10 | ... AE5: =SUM(AE6:AE23) -> 75
A6: LEE, JONG BO | B6: 10 | V6: 30 | BB6: GC54423761
A7: LOPEZ-PIZARRO RODRIGUEZ, IÑIGO | B7: 14 | R7: 25 | BB7: GC08422355
A8: HERNANDEZ GONZALEZ, MANUEL | B8: 15 | M8: 17 | BB8: GC57363637
A9: VAZQUEZ MUIÑOS, ANTON | B9: 21 | I9: 16 | L9: 6 | X9: 6 | BB9: GC02222244
A10: FERNANDEZ CANO, FATIMA | B10: 16 | J10: 10 | Q10: 12 | BB10: GC03281006
A11: GARCIA LLORCA, MARTA | B11: 12 | U11: 10 | BB11: GC01449027
A12: LOPEZ-CHAVES ESTEVEZ, MARIA | B12: 12 | U12: 8 | BB12: GC01453459
A13: ALZUETA GARCIA, MARIA | B13: 15 | E13: 7 | N13: 7 | BB13: GC01361257
A14: MARURI ALDAZ, IÑIGO | B14: 11 | T14: 4 | BB14: GC01390645
A15: MARTINEZ BLANCO, ADRIAN | B15: 18 | X15: 1 | BB15: GC55361959
A16: EQUIPO GALICIA | Z16: 60 | AA16: 65 | AB16: 60 | AE16: 75

Sheet MADRID
A1: TERRITORIAL | C1: =RANKING!C1 -> Cto. Internacional de España Stroke Play | D1: =RANKING!D1 -> Copa Baleares | E1: =RANKING!E1 -> Puntuable Nacional Juvenil Femenino | F1: =RANKING!F1 -> Puntuable Nacional Juvenil Masculino | G1: =RANKING!G1 -> Copa S.M. El Rey | H1: =RANKING!H1 -> Copa S.M. La Reina | I1: =RANKING!I1 -> Copa Andalucía | J1: =RANKING!J1 -> Cto. Fem. Comunidad de Madrid | ... AE1: =RANKING!AE1 -> Interterritorial Infantil
A2: Fecha final | C2: =RANKING!C2 -> 40919 | D2: =RANKING!D2 -> 40944 | E2: =RANKING!E2 -> 40965 | F2: =RANKING!F2 -> 40965 | G2: =RANKING!G2 -> 40972 | H2: =RANKING!H2 -> 40972 | I2: =RANKING!I2 -> 40985 | J2: =RANKING!J2 -> 40993 | ... AE2: =RANKING!AE2 -> 41196
A3: Jornadas | C3: =RANKING!C3 -> 3 | D3: =RANKING!D3 -> 4 | E3: =RANKING!E3 -> 2 | F3: =RANKING!F3 -> 2 | G3: =RANKING!G3 -> 5 | H3: =RANKING!H3 -> 5 | I3: =RANKING!I3 -> 4 | J3: =RANKING!J3 -> 3 | ... AE3: =RANKING!AE3 -> 4
A4: Club | B4: Edad | C4: =RANKING!C4 -> Alicante Golf | D4: =RANKING!D4 -> Son Antem | E4: =RANKING!E4 -> Hacienda Riquelme | F4: =RANKING!F4 -> El Valle | G4: =RANKING!G4 -> Alcanada | H4: =RANKING!H4 -> El Valle | I4: =RANKING!I4 -> La Cañada | J4: =RANKING!J4 -> El Encín | ... AE4: =RANKING!AE4 -> Balagares
A5: MADRID | C5: =SUM(C6:C23) -> 22 | D5: =SUM(D6:D23) -> 17 | E5: =SUM(E6:E23) -> 19 | F5: =SUM(F6:F23) -> 0 | G5: =SUM(G6:G23) -> 8 | H5: =SUM(H6:H23) -> 8 | I5: =SUM(I6:I23) -> 47 | J5: =SUM(J6:J23) -> 50 | ... Y5: =SUM(Y6:Y23) -> 0 | Z5: =SUM(Z6:Z80) -> 65 | AA5: =SUM(AA6:AA55) -> 45 | AB5: =SUM(AB6:AB55) -> 65 | AC5: =SUM(AC6:AC23) -> 41 | AD5: =SUM(AD6:AD23) -> 0 | AE5: =SUM(AE6:AE53) -> 100
A6: MARTIN GARCIA, MARTA | B6: 16 | E6: 9 | J6: 14 | N6: 30 | BB6: CM18386323
A7: LOPEZ-CHACARRA COTO, EUGENIO | B7: 12 | T7: 30 | BB7: CM41625478
A8: HERRAEZ GALVEZ, MARIA | B8: 14 | E8: 10 | N8: 3 | S8: 30 | BB8: CM02391027
A9: PASTOR LOPEZ, JACOBO | B9: 23 | X9: 27 | BB9: CM04148372
A10: JAVIER GALLEGOS MARSAL | B10: 19 | G10: 8 | K10: 23 | L10: 12 | O10: 8 | P10: 27 | X10: 8 | AC10: 23 | BB10: CM04203764
A11: MORENO LINARES, EDER | B11: 18 | I11: 11 | L11: 27 | P11: 25 | X11: 3 | AC11: 18 | BB11: CM11219752
A12: VEGA DE SEOANE SAEZ, SANTIAGO | B12: 31 | I12: 21 | L12: 2 | O12: 25 | P12: 15 | X12: 10 | BB12: CM11089454
A13: JAVIER PARADA PUERTAS | B13: 16 | O13: 25 | BB13: CM52292473
A14: JORGE SIMON DE MIGUEL | O14: 25 | BB14: CM22252545
A15: MONTOJO FERNANDEZ, LUIS | B15: 10 | V15: 25 | BB15: CM01637215
A16: CLARA BAENA SANCHEZ | B16: 17 | C16: 22 | H16: 8 | J16: 16 | Q16: 23 | BB16: CM11300005
A17: MELIA GARCIA,BELTRAN | B17: 10 | V17: 22 | BB17: CM01636514
A18: BAENA SANCHEZ, NICOLAS | B18: 19 | I18: 9 | K18: 21 | O18: 15 | BB18: CM11279844
A19: SOBRON GALMES, LUNA | B19: 18 | J19: 20 | Q19: 15 | BB19: CM00263934
A20: SIMON DE MIGUEL, JORGE | B20: 19 | D20: 17 | I20: 6 | K20: 19 | L20: 4 | P20: 16 | BB20: CM05252545
A21: SANZ BARRIO, MARTA | B21: 20 | Q21: 19 | BB21: CM04217112
A22: CORRAL ALDECOA, CARLOS DE | B22: 32 | L22: 18 | BB22: CM04057969
A23: MASAVEU RONCAL,LUIS | B23: 9 | V23: 18 | BB23: CM52675770
A24: COTTEREAU CALVIÑO, MARIA | B24: 14 | E24: 18 | S24: 15 | BB24: CM04623089
A25: MUTTONI , JULIA | B25: 9 | W25: 17 | BB25: CM18756314
A26: GARCIA DE CASTRO TENDERO, RAFAEL | B26: 10 | V26: 17 | BB26: CM06695257
A27: ZABARTE MORENO, GORKA | B27: 13 | R27: 16 | BB27: CM07307358
A28: DIEGO ORTEGA OBISPO | B28: 19 | O28: 15 | BB28: CM22219011
A29: MONTOJO FERNANDEZ, ANA | B29: 12 | U29: 15 | BB29: CM01631816
A30: LOPEZ FERRER, SIGOT | B30: 16 | O30: 15 | AC30: 5 | BB30: CMA8429962
A31: PARRIEGO CORNEJO, SERGIO JAVIER | B31: 14 | F31: 13 | BB31: CM11305296
A32: DEL REY GONZALEZ, ALEJANDRO | B32: 14 | R32: 11 | BB32: CM52302511
A33: LOPEZ FERNANDEZ,JESUS | B33: 10 | V33: 10 | BB33: CM41672720
A34: BENITO BARRIENTOS, JAIME | B34: 17 | K34: 3 | O34: 8 | AC34: 10 | BB34: CMA8306903
A35: GANTER DOBLAS, KLAUS | B35: 15 | F35: 4 | I35: 2 | K35: 9 | M35: 3 | BB35: CM07307260
A36: LOPEZ BLANCO,JOSE MANUEL | B36: 16 | F36: 9 | BB36: CM52351276
A37: FERNANDEZ GARCIA-POGGIO,BLANCA | B37: 11 | U37: 9 | BB37: CM18670867
A38: ZABARTE MORENO, PAULA | B38: 16 | N38: 8 | BB38: CM07295228
A39: ESPOSITO MENARD, HUGO | B39: 15 | F39: 8 | K39: 8 | M39: 8 | BB39: CM11289375
A40: VEGA DE SEOANE SAEZ, JAVIER | B40: 24 | O40: 8 | P40: 6 | BB40: CM11138802
...

Sheet MELILLA
A1: TERRITORIAL | C1: =RANKING!C1 -> Cto. Internacional de España Stroke Play | D1: =RANKING!D1 -> Copa Baleares | E1: =RANKING!E1 -> Puntuable Nacional Juvenil Femenino | F1: =RANKING!F1 -> Puntuable Nacional Juvenil Masculino | G1: =RANKING!G1 -> Copa S.M. El Rey | H1: =RANKING!H1 -> Copa S.M. La Reina | I1: =RANKING!I1 -> Copa Andalucía | J1: =RANKING!J1 -> Cto. Fem. Comunidad de Madrid | ... AE1: =RANKING!AE1 -> Interterritorial Infantil
A2: Fecha final | C2: =RANKING!C2 -> 40919 | D2: =RANKING!D2 -> 40944 | E2: =RANKING!E2 -> 40965 | F2: =RANKING!F2 -> 40965 | G2: =RANKING!G2 -> 40972 | H2: =RANKING!H2 -> 40972 | I2: =RANKING!I2 -> 40985 | J2: =RANKING!J2 -> 40993 | ... AE2: =RANKING!AE2 -> 41196
A3: Jornadas | C3: =RANKING!C3 -> 3 | D3: =RANKING!D3 -> 4 | E3: =RANKING!E3 -> 2 | F3: =RANKING!F3 -> 2 | G3: =RANKING!G3 -> 5 | H3: =RANKING!H3 -> 5 | I3: =RANKING!I3 -> 4 | J3: =RANKING!J3 -> 3 | ... AE3: =RANKING!AE3 -> 4
A4: Club | B4: Edad | C4: =RANKING!C4 -> Alicante Golf | D4: =RANKING!D4 -> Son Antem | E4: =RANKING!E4 -> Hacienda Riquelme | F4: =RANKING!F4 -> El Valle | G4: =RANKING!G4 -> Alcanada | H4: =RANKING!H4 -> El Valle | I4: =RANKING!I4 -> La Cañada | J4: =RANKING!J4 -> El Encín | ... AE4: =RANKING!AE4 -> Balagares
A5: MELILLA | C5: =SUM(C6:C23) -> 0 | D5: =SUM(D6:D23) -> 0 | E5: =SUM(E6:E23) -> 0 | F5: =SUM(F6:F23) -> 0 | G5: =SUM(G6:G23) -> 0 | H5: =SUM(H6:H23) -> 0 | I5: =SUM(I6:I23) -> 0 | J5: =SUM(J6:J23) -> 0 | ... AE5: =SUM(AE6:AE23) -> 0

Sheet MURCIA
A1: TERRITORIAL | C1: =RANKING!C1 -> Cto. Internacional de España Stroke Play | D1: =RANKING!D1 -> Copa Baleares | E1: =RANKING!E1 -> Puntuable Nacional Juvenil Femenino | F1: =RANKING!F1 -> Puntuable Nacional Juvenil Masculino | G1: =RANKING!G1 -> Copa S.M. El Rey | H1: =RANKING!H1 -> Copa S.M. La Reina | I1: =RANKING!I1 -> Copa Andalucía | J1: =RANKING!J1 -> Cto. Fem. Comunidad de Madrid | ... AE1: =RANKING!AE1 -> Interterritorial Infantil
A2: Fecha final | C2: =RANKING!C2 -> 40919 | D2: =RANKING!D2 -> 40944 | E2: =RANKING!E2 -> 40965 | F2: =RANKING!F2 -> 40965 | G2: =RANKING!G2 -> 40972 | H2: =RANKING!H2 -> 40972 | I2: =RANKING!I2 -> 40985 | J2: =RANKING!J2 -> 40993 | ... AE2: =RANKING!AE2 -> 41196
A3: Jornadas | C3: =RANKING!C3 -> 3 | D3: =RANKING!D3 -> 4 | E3: =RANKING!E3 -> 2 | F3: =RANKING!F3 -> 2 | G3: =RANKING!G3 -> 5 | H3: =RANKING!H3 -> 5 | I3: =RANKING!I3 -> 4 | J3: =RANKING!J3 -> 3 | ... AE3: =RANKING!AE3 -> 4
A4: Club | B4: Edad | C4: =RANKING!C4 -> Alicante Golf | D4: =RANKING!D4 -> Son Antem | E4: =RANKING!E4 -> Hacienda Riquelme | F4: =RANKING!F4 -> El Valle | G4: =RANKING!G4 -> Alcanada | H4: =RANKING!H4 -> El Valle | I4: =RANKING!I4 -> La Cañada | J4: =RANKING!J4 -> El Encín | ... AE4: =RANKING!AE4 -> Balagares
A5: MURCIA | C5: =SUM(C6:C23) -> 0 | D5: =SUM(D6:D23) -> 0 | E5: =SUM(E6:E23) -> 0 | F5: =SUM(F6:F23) -> 0 | G5: =SUM(G6:G23) -> 0 | H5: =SUM(H6:H23) -> 0 | I5: =SUM(I6:I23) -> 0 | J5: =SUM(J6:J23) -> 0 | ... AE5: =SUM(AE6:AE23) -> 5
A6: VIUDES EMILOVA, DIMANA | B6: 12 | U6: 19 | BB6: MM04403411
A7: GARCIA MARTINEZ, IVAN | B7: 20 | K7: 17 | BB7: MM04329212
A8: PEDREÑO ALBERO, JUAN JOSE | B8: 10 | V8: 13 | BB8: MM04692190
A9: OLMOS ROS, RAQUEL | B9: 13 | S9: 8 | BB9: MM04399615
A10: PINTADO MARTINEZ, ANDRES | B10: 11 | T10: 3 | BB10: MM06697068
A11: GARRE MUÑOZ, PATRICIA | B11: 11 | U11: 3 | BB11: MM04697075
A12: PIÑERO SANCHEZ, ANTONIO | B12: 20 | K12: 1 | BB12: MM06262485
A13: EQUIPO MURCIA | Z13: 10 | AB13: 5 | AD13: 15 | AE13: 5

Sheet NAVARRA
A1: TERRITORIAL | C1: =RANKING!C1 -> Cto. Internacional de España Stroke Play | D1: =RANKING!D1 -> Copa Baleares | E1: =RANKING!E1 -> Puntuable Nacional Juvenil Femenino | F1: =RANKING!F1 -> Puntuable Nacional Juvenil Masculino | G1: =RANKING!G1 -> Copa S.M. El Rey | H1: =RANKING!H1 -> Copa S.M. La Reina | I1: =RANKING!I1 -> Copa Andalucía | J1: =RANKING!J1 -> Cto. Fem. Comunidad de Madrid | ... AE1: =RANKING!AE1 -> Interterritorial Infantil
A2: Fecha final | C2: =RANKING!C2 -> 40919 | D2: =RANKING!D2 -> 40944 | E2: =RANKING!E2 -> 40965 | F2: =RANKING!F2 -> 40965 | G2: =RANKING!G2 -> 40972 | H2: =RANKING!H2 -> 40972 | I2: =RANKING!I2 -> 40985 | J2: =RANKING!J2 -> 40993 | ... AE2: =RANKING!AE2 -> 41196
A3: Jornadas | C3: =RANKING!C3 -> 3 | D3: =RANKING!D3 -> 4 | E3: =RANKING!E3 -> 2 | F3: =RANKING!F3 -> 2 | G3: =RANKING!G3 -> 5 | H3: =RANKING!H3 -> 5 | I3: =RANKING!I3 -> 4 | J3: =RANKING!J3 -> 3 | ... AE3: =RANKING!AE3 -> 4
A4: Club | B4: Edad | C4: =RANKING!C4 -> Alicante Golf | D4: =RANKING!D4 -> Son Antem | E4: =RANKING!E4 -> Hacienda Riquelme | F4: =RANKING!F4 -> El Valle | G4: =RANKING!G4 -> Alcanada | H4: =RANKING!H4 -> El Valle | I4: =RANKING!I4 -> La Cañada | J4: =RANKING!J4 -> El Encín | ... AE4: =RANKING!AE4 -> Balagares
A5: NAVARRA | C5: =SUM(C6:C23) -> 14 | D5: =SUM(D6:D23) -> 0 | E5: =SUM(E6:E23) -> 9 | F5: =SUM(F6:F23) -> 1 | G5: =SUM(G6:G23) -> 0 | H5: =SUM(H6:H23) -> 0 | I5: =SUM(I6:I23) -> 13 | J5: =SUM(J6:J23) -> 0 | ... AE5: =SUM(AE6:AE23) -> 35
A6: HUALDE ZUÑIGA, ELENA | B6: 14 | S6: 22 | BB6: 4402398675
A7: DE ARISTEGUI LAVIN, GONZALO | B7: 10 | V7: 20 | BB7: 4402458418
A8: PEREZ IGUARAN, CRISTINA | B8: 16 | C8: 14 | E8: 3 | N8: 11 | BB8: 4405312991
A9: ERREA MAYO, XABIER | B9: 25 | I9: 13 | BB9: 4408183844
A10: SAN JUAN GARCIA DE EULATE, MONICA | B10: 15 | E10: 6 | N10: 12 | BB10: 4402367945
A11: EVANGELIO GOMEZ ESCOLAR, MIGUEL | B11: 16 | F11: 1 | M11: 10 | BB11: 4408282718
A12: RUIZ ITURRIGAGOITIA, PABLO | B12: 10 | V12: 1 | BB12: 4401750085
A13: EQUIPO NAVARRA | Z13: 45 | AB13: 15 | AD13: 10 | AE13: 35

Sheet LARIOJA
A1: TERRITORIAL | C1: =RANKING!C1 -> Cto. Internacional de España Stroke Play | D1: =RANKING!D1 -> Copa Baleares | E1: =RANKING!E1 -> Puntuable Nacional Juvenil Femenino | F1: =RANKING!F1 -> Puntuable Nacional Juvenil Masculino | G1: =RANKING!G1 -> Copa S.M. El Rey | H1: =RANKING!H1 -> Copa S.M. La Reina | I1: =RANKING!I1 -> Copa Andalucía | J1: =RANKING!J1 -> Cto. Fem. Comunidad de Madrid | ... AE1: =RANKING!AE1 -> Interterritorial Infantil
A2: Fecha final | C2: =RANKING!C2 -> 40919 | D2: =RANKING!D2 -> 40944 | E2: =RANKING!E2 -> 40965 | F2: =RANKING!F2 -> 40965 | G2: =RANKING!G2 -> 40972 | H2: =RANKING!H2 -> 40972 | I2: =RANKING!I2 -> 40985 | J2: =RANKING!J2 -> 40993 | ... AE2: =RANKING!AE2 -> 41196
A3: Jornadas | C3: =RANKING!C3 -> 3 | D3: =RANKING!D3 -> 4 | E3: =RANKING!E3 -> 2 | F3: =RANKING!F3 -> 2 | G3: =RANKING!G3 -> 5 | H3: =RANKING!H3 -> 5 | I3: =RANKING!I3 -> 4 | J3: =RANKING!J3 -> 3 | ... AE3: =RANKING!AE3 -> 4
A4: Club | B4: Edad | C4: =RANKING!C4 -> Alicante Golf | D4: =RANKING!D4 -> Son Antem | E4: =RANKING!E4 -> Hacienda Riquelme | F4: =RANKING!F4 -> El Valle | G4: =RANKING!G4 -> Alcanada | H4: =RANKING!H4 -> El Valle | I4: =RANKING!I4 -> La Cañada | J4: =RANKING!J4 -> El Encín | ... AE4: =RANKING!AE4 -> Balagares
A5: LA RIOJA | C5: =SUM(C6:C23) -> 0 | D5: =SUM(D6:D23) -> 0 | E5: =SUM(E6:E23) -> 0 | F5: =SUM(F6:F23) -> 0 | G5: =SUM(G6:G23) -> 0 | H5: =SUM(H6:H23) -> 0 | I5: =SUM(I6:I23) -> 0 | J5: =SUM(J6:J23) -> 0 | ... AE5: =SUM(AE6:AE23) -> 0
A6: EQUIPO LA RIOJA | AD6: 3

Sheet C.VALENCIANA
A1: TERRITORIAL | C1: =RANKING!C1 -> Cto. Internacional de España Stroke Play | D1: =RANKING!D1 -> Copa Baleares | E1: =RANKING!E1 -> Puntuable Nacional Juvenil Femenino | F1: =RANKING!F1 -> Puntuable Nacional Juvenil Masculino | G1: =RANKING!G1 -> Copa S.M. El Rey | H1: =RANKING!H1 -> Copa S.M. La Reina | I1: =RANKING!I1 -> Copa Andalucía | J1: =RANKING!J1 -> Cto. Fem. Comunidad de Madrid | ... AE1: =RANKING!AE1 -> Interterritorial Infantil
A2: Fecha final | C2: =RANKING!C2 -> 40919 | D2: =RANKING!D2 -> 40944 | E2: =RANKING!E2 -> 40965 | F2: =RANKING!F2 -> 40965 | G2: =RANKING!G2 -> 40972 | H2: =RANKING!H2 -> 40972 | I2: =RANKING!I2 -> 40985 | J2: =RANKING!J2 -> 40993 | ... AE2: =RANKING!AE2 -> 41196
A3: Jornadas | C3: =RANKING!C3 -> 3 | D3: =RANKING!D3 -> 4 | E3: =RANKING!E3 -> 2 | F3: =RANKING!F3 -> 2 | G3: =RANKING!G3 -> 5 | H3: =RANKING!H3 -> 5 | I3: =RANKING!I3 -> 4 | J3: =RANKING!J3 -> 3 | ... AE3: =RANKING!AE3 -> 4
A4: Club | B4: Edad | C4: =RANKING!C4 -> Alicante Golf | D4: =RANKING!D4 -> Son Antem | E4: =RANKING!E4 -> Hacienda Riquelme | F4: =RANKING!F4 -> El Valle | G4: =RANKING!G4 -> Alcanada | H4: =RANKING!H4 -> El Valle | I4: =RANKING!I4 -> La Cañada | J4: =RANKING!J4 -> El Encín | ... AE4: =RANKING!AE4 -> Balagares
A5: C. VALENCIANA | C5: =SUM(C6:C23) -> 39 | D5: =SUM(D6:D23) -> 50 | E5: =SUM(E6:E23) -> 16 | F5: =SUM(F6:F23) -> 0 | G5: =SUM(G6:G23) -> 0 | H5: =SUM(H6:H23) -> 58 | I5: =SUM(I6:I23) -> 15 | J5: =SUM(J6:J23) -> 42 | ... Y5: =SUM(Y6:Y23) -> 0 | Z5: =SUM(Z6:Z80) -> 85 | AA5: =SUM(AA6:AA40) -> 80 | AB5: =SUM(AB6:AB40) -> 75 | AC5: =SUM(AC6:AC23) -> 9 | AD5: =SUM(AD6:AD23) -> 0 | AE5: =SUM(AE6:AE40) -> 60
A6: BAÑON IBAÑEZ, SILVIA | B6: 19 | C6: 7 | H6: 35 | Q6: 18 | BB6: LV26383330
A7: MUÑOZ CLAVEROL, MARTINA | B7: 10 | W7: 30 | BB7: LV81458893
A8: FOWLER, KIERON | B8: 17 | D8: 30 | K8: 6 | BB8: LV26391313
A9: SALVADOR PAYA VILA | B9: 18 | K9: 16 | L9: 25 | O9: 15 | BB9: LV07311178
A10: HERRERO CANTERO, CARLA | B10: 12 | U10: 25 | BB10: LV54451891
A11: PEREZ SANMARTIN, MARTA | B11: 13 | C11: 2 | E11: 16 | J11: 25 | N11: 4 | Q11: 14 | BB11: LV51411223
A12: TERESA CABALLER HERNANI | B12: 20 | C12: 20 | H12: 15 | BB12: LV08284062
A13: BALLESTER BARRIO, JOSE LUIS | B13: 9 | V13: 19 | BB13: LV01753787
A14: MARTIN HARO, PATRICIA | B14: 12 | S14: 19 | BB14: LV07427463
A15: GRACIA RODRIGUEZ, GONZALO | B15: 11 | T15: 18 | BB15: LV06422469
A16: OFRECIO BACAS, CRISTINA | B16: 16 | J16: 17 | BB16: LV01381114
A17: MONTAÑES VILAR, RAQUEL | B17: 12 | U17: 16 | BB17: LV01457540
A18: NATALIA ESCURIOLA MARTINEZ | B18: 18 | C18: 10 | H18: 8 | Q18: 16 | BB18: LV01316250
A19: BONDIA GIL, JOSE | B19: 24 | D19: 13 | I19: 15 | L19: 8 | P19: 14 | BB19: LV02146182
A20: GIRONA DE LA FUENTE, JORGE | B20: 12 | T20: 15 | BB20: LV81443808
A21: GRAU TOMAS, NOEL | B21: 20 | D21: 7 | K21: 11 | L21: 14 | O21: 8 | X21: 13 | AC21: 9 | BB21: LV09318027
A22: ARNAU TERUEL, SARA | B22: 12 | U22: 13 | BB22: LV07423799
A23: AMOROS BENET, BELEN | B23: 13 | S23: 11 | BB23: LV06418086
A24: VALIENTE MARTINEZ, EVA | B24: 17 | C24: 11 | BB24: LV70243643
A25: MONTAÑES VILAR, ALEJANDRO | B25: 15 | F25: 5 | M25: 9 | AC25: 11 | BB25: LV01431556
A26: RIOS BERTOMEU, LUCIA | B26: 11 | U26: 11 | BB26: LV06451876
A27: CARCEL PEREZ, DIEGO | B27: 14 | R27: 10 | BB27: LV02437211
A28: SOBRINO GIMENEZ, BLANCA | B28: 14 | S28: 10 | BB28: LV57451273
A29: BARBERA BELLES, MARTINA | B29: 14 | N29: 5 | S29: 7 | BB29: LV01390956
A30: BLASCO ESTEVE, ALMUDENA | B30: 21 | J30: 6 | BB30: LV02237767
A31: GOMEZ ARNAU, LLUIS | B31: 10 | V31: 6 | BB31: LV01466504
A32: CAÑIZARES ALONSO, BARBARA | B32: 10 | W32: 5 | BB32: LV57771945
A33: PEREZ POLES, CRISTINA | B33: 14 | S33: 3 | BB33: LV01410143
A34: ABRIL SEGURA, CARLOS | B34: 13 | R34: 3 | BB34: LV01435059
A35: CULLA LEAL, RAFA | B35: 20 | AC35: 3 | BB35: LV07238287
A36: PERIS MENEU, GRACEL | B36: 17 | J36: 2 | BB36: LV01362341
A37: IGLESIAS CALVO, MARIA | B37: 11 | U37: 2 | BB37: LV07467859
A38: EQUIPO C. VALENCIANA | Z38: 85 | AA38: 80 | AB38: 75 | AE38: 60

Sheet P.VASCO
A1: TERRITORIAL | C1: =RANKING!C1 -> Cto. Internacional de España Stroke Play | D1: =RANKING!D1 -> Copa Baleares | E1: =RANKING!E1 -> Puntuable Nacional Juvenil Femenino | F1: =RANKING!F1 -> Puntuable Nacional Juvenil Masculino | G1: =RANKING!G1 -> Copa S.M. El Rey | H1: =RANKING!H1 -> Copa S.M. La Reina | I1: =RANKING!I1 -> Copa Andalucía | J1: =RANKING!J1 -> Cto. Fem. Comunidad de Madrid | ... AE1: =RANKING!AE1 -> Interterritorial Infantil
A2: Fecha final | C2: =RANKING!C2 -> 40919 | D2: =RANKING!D2 -> 40944 | E2: =RANKING!E2 -> 40965 | F2: =RANKING!F2 -> 40965 | G2: =RANKING!G2 -> 40972 | H2: =RANKING!H2 -> 40972 | I2: =RANKING!I2 -> 40985 | J2: =RANKING!J2 -> 40993 | ... AE2: =RANKING!AE2 -> 41196
A3: Jornadas | C3: =RANKING!C3 -> 3 | D3: =RANKING!D3 -> 4 | E3: =RANKING!E3 -> 2 | F3: =RANKING!F3 -> 2 | G3: =RANKING!G3 -> 5 | H3: =RANKING!H3 -> 5 | I3: =RANKING!I3 -> 4 | J3: =RANKING!J3 -> 3 | ... AE3: =RANKING!AE3 -> 4
A4: Club | B4: Edad | C4: =RANKING!C4 -> Alicante Golf | D4: =RANKING!D4 -> Son Antem | E4: =RANKING!E4 -> Hacienda Riquelme | F4: =RANKING!F4 -> El Valle | G4: =RANKING!G4 -> Alcanada | H4: =RANKING!H4 -> El Valle | I4: =RANKING!I4 -> La Cañada | J4: =RANKING!J4 -> El Encín | ... AE4: =RANKING!AE4 -> Balagares
A5: PAIS VASCO | C5: =SUM(C6:C23) -> 40 | D5: =SUM(D6:D23) -> 56 | E5: =SUM(E6:E23) -> 17 | F5: =SUM(F6:F23) -> 0 | G5: =SUM(G6:G23) -> 25 | H5: =SUM(H6:H23) -> 25 | I5: =SUM(I6:I23) -> 31 | J5: =SUM(J6:J23) -> 20 | ... Y5: =SUM(Y6:Y23) -> 0 | Z5: =SUM(Z6:Z80) -> 80 | AA5: =SUM(AA6:AA80) -> 85 | AB5: =SUM(AB6:AB80) -> 85 | AC5: =SUM(AC6:AC23) -> 46 | AD5: =SUM(AD6:AD23) -> 0 | AE5: =SUM(AE6:AE43) -> 45
A6: LARRAÑAGA EIZAGUIRRE, EDUARDO | B6: 26 | D6: 22 | I6: 1 | L6: 30 | O6: 35 | X6: 14 | BB6: VB03142732
A7: RAHM RODRIGUEZ, JON | B7: 17 | D7: 19 | G7: 25 | K7: 35 | X7: 23 | BB7: VB08285039
A8: SARASTI BERNARAS, JUAN FRANCISCO | B8: 24 | D8: 15 | I8: 18 | P8: 30 | BB8: VB09139200
A9: MATESANZ LARRAÑAGA, PABLO | B9: 17 | AC9: 27 | BB9: VB01246447
A10: ROLLAN BIURRARENA, IRENE | B10: 16 | E10: 5 | N10: 22 | Q10: 27 | BB10: VB01363935
A11: MARTIN TORRE, NIEVES | B11: 10 | W11: 25 | BB11: VB09643682
A12: OLARRA MUJIKA, AINHOA | B12: 17 | C12: 18 | H12: 25 | J12: 8 | Q12: 8 | BB12: VB09360214
A13: ASEGUINOLAZA MARTIN, NATALIA | B13: 10 | W13: 22 | BB13: VB09400369
A14: GOROSPE GURIDI, XABIER | B14: 14 | M14: 22 | BB14: VB09318741
A15: MARTIN TORRE, BORJA | B15: 13 | R15: 22 | BB15: VB09409306
A16: URCHEGUI GARCIA, ANE | B16: 23 | C16: 19 | Q16: 7 | BB16: VB09233180
A17: SAINZ DELGADO, JAVIER | B17: 19 | I17: 12 | L17: 1 | X17: 16 | AC17: 19 | BB17: VB04234646
A18: ETXEZARRETA HERNANDEZ, OIHANA | B18: 10 | W18: 18 | BB18: VB14429168
A19: VILLANUEVA APERRIBAY, MARIA | B19: 11 | U19: 18 | BB19: VB09385529
A20: SAINZ DELGADO, CARMEN | B20: 16 | C20: 3 | E20: 12 | J20: 12 | N20: 16 | BB20: VB04361882
A21: GARMENDIA MENDIOLA, JOSEBA | B21: 9 | V21: 16 | BB21: VB14450498
A22: GARMENDIA MENDIOLA, IÑAKI | B22: 12 | T22: 16 | BB22: VB14450497
A23: CANALES ZUBIZARRETA, CRISTINA | B23: 10 | W23: 14 | BB23: VB02721162
A24: BARBEITO ALBIZU, ASIER | B24: 14 | R24: 13 | BB24: VB01390164
A25: URQUIZU AROCENA, TERESA | B25: 22 | C25: 12 | BB25: VB01199481
A26: GURIDI IRUJO, PAULA | B26: 16 | N26: 10 | BB26: VB01367582
A27: TORRES OLAZABAL, JOSEBA | B27: 10 | V27: 9 | BB27: VB01721460
A28: GARAGORRI ALDEANUEVA, ROBERTO | B28: 14 | R28: 8 | BB28: VB09380577
A29: BEGUIRISTAIN ELUSTONDO, TOMAS | B29: 10 | V29: 7 | BB29: VB14450936
A30: ALTUBE ROTAECHE, GABRIELA | B30: 9 | W30: 7 | BB30: VB09450778
A31: ANDUAGA LARREA, JON | B31: 21 | X31: 7 | BB31: VB08384337
A32: BEÑARAN ORBE, IÑIGO | B32: 13 | R32: 6 | BB32: VB09368792
A33: OLASAGASTI LUIS, MARKEL | B33: 9 | V33: 5 | BB33: VB14721129
A34: MADINABEITIA VICO, MIREIA | B34: 11 | U34: 5 | BB34: VB13404543
A35: OTAEGUI JAUREGUI, JAVIER | B35: 15 | M35: 5 | BB35: VB14395408
A36: ELUSTONDO ANGUERA, PABLO | B36: 14 | R36: 2 | BB36: VB14445160
A37: ELUSTONDO ANGUERA, ALEJANDRO | B37: 14 | R37: 1 | BB37: VB14445161
A38: EQUIPO PAIS VASCO | Z38: 80 | AA38: 85 | AB38: 85 | AE38: 45
