Workbook

Sheet resultados
A1: CAMPEONATO DE ESPAÑA INTERCLUBES FEMENINO
A2: CG Terramar. 13 - 15 de abril de 2012
A6: CLUB | B6: JUGADORA | C6: 1 | D6: 2 | E6: 3 | F6: TOTAL | G6: POSICIÓN
A7: Basozábal | B7: URCHEGUI GARCIA, ANE | C7: 75 | D7: =HxH!U48 -> 78 | E7: =HxH!U89 -> 66 | F7: =SUM(C10:E10) -> 426 | G7: 1 | H7: =MAX(C7:C9) -> 75 | I7: =MAX(D7:D9) -> 80 | J7: =MAX(E7:E9) -> 80
B8: OLARRA MUJIKA, AINHOA | C8: 69 | D8: =HxH!U49 -> 68 | E8: =HxH!U90 -> 71
B9: TOWNED SALEGUI, CLAUDIA | C9: =HxH!U10 -> 74 | D9: =HxH!U50 -> 80 | E9: =HxH!U91 -> 80
B10: Subtotal | C10: =SUM(C7:C9)-MAX(C7:C9) -> 143 | D10: =SUM(D7:D9)-MAX(D7:D9) -> 146 | E10: =SUM(E7:E9)-MAX(E7:E9) -> 137
A11: Terramar | B11: JONAMA ROVIRA, ANDREA | C11: =HxH!U4 -> 72 | D11: =HxH!U44 -> 74 | E11: =HxH!U85 -> 73 | F11: =SUM(C14:E14) -> 433 | G11: 2 | H11: =MAX(C11:C13) -> 79 | I11: =MAX(D11:D13) -> 74 | J11: =MAX(E11:E13) -> 74
B12: SANCHEZ FERNANDEZ, SONIA | C12: =HxH!U5 -> 69 | D12: =HxH!U45 -> 72 | E12: =HxH!U86 -> 73
B13: FLORAN CAÑADELL, Mª CARMEN | C13: =HxH!U6 -> 79 | D13: =HxH!U46 -> 74 | E13: =HxH!U87 -> 74
B14: Subtotal | C14: =SUM(C11:C13)-MAX(C11:C13) -> 141 | D14: =SUM(D11:D13)-MAX(D11:D13) -> 146 | E14: =SUM(E11:E13)-MAX(E11:E13) -> 146
A15: Sant Cugat | B15: TEROL VIDAL, DIANA | C15: 71 | D15: =HxH!U52 -> 75 | E15: =HxH!U93 -> 71 | F15: =SUM(C18:E18) -> 451 | G15: 3 | H15: =MAX(C15:C17) -> 82 | I15: =MAX(D15:D17) -> 81 | J15: =MAX(E15:E17) -> 77
B16: TUSQUETS GONZALEZ, INES | C16: =HxH!U13 -> 79 | D16: =HxH!U53 -> 79 | E16: =HxH!U94 -> 77
B17: MUSTIENES FERRER, PAULA | C17: 82 | D17: =HxH!U54 -> 81 | E17: =HxH!U95 -> 76
B18: Subtotal | C18: =SUM(C15:C17)-MAX(C15:C17) -> 150 | D18: =SUM(D15:D17)-MAX(D15:D17) -> 154 | E18: =SUM(E15:E17)-MAX(E15:E17) -> 147
A19: Puerta de Hierro | B19: ORUETA PEMARTIN,MARIA | C19: =HxH!U16 -> 73 | D19: =HxH!U56 -> 73 | E19: =HxH!U97 -> 75 | F19: =SUM(C22:E22) -> 452 | G19: 4 | H19: =MAX(C19:C21) -> 85 | I19: =MAX(D19:D21) -> 84 | J19: =MAX(E19:E21) -> 80
B20: RUIZ DE VELASCO COLAS, ROCIO | C20: =HxH!U17 -> 74 | D20: =HxH!U57 -> 78 | E20: =HxH!U98 -> 80
B21: JESSEN RUBIO, MONICA | C21: =HxH!U18 -> 85 | D21: =HxH!U58 -> 84 | E21: =HxH!U99 -> 79
B22: Subtotal | C22: =SUM(C19:C21)-MAX(C19:C21) -> 147 | D22: =SUM(D19:D21)-MAX(D19:D21) -> 151 | E22: =SUM(E19:E21)-MAX(E19:E21) -> 154
A23: Llavaneras | B23: TRILLO GALINDO, MARTA | C23: =HxH!U32 -> 75 | D23: =HxH!U72 -> 71 | E23: =HxH!U113 -> 72 | F23: =SUM(C26:E26) -> 458 | G23: 5 | H23: =MAX(C23:C25) -> 87 | I23: =MAX(D23:D25) -> 88 | J23: =MAX(E23:E25) -> 95
B24: TRALLERO SANTAMARIA, MARIA | C24: =HxH!U33 -> 76 | D24: =HxH!U73 -> 82 | E24: =HxH!U114 -> 82
B25: AMIGO VIÑUALES, MIREIA | C25: =HxH!U34 -> 87 | D25: =HxH!U74 -> 88 | E25: =HxH!U115 -> 95
B26: Subtotal | C26: =SUM(C23:C25)-MAX(C23:C25) -> 151 | D26: =SUM(D23:D25)-MAX(D23:D25) -> 153 | E26: =SUM(E23:E25)-MAX(E23:E25) -> 154
A27: El Prat | B27: RIVERO TORRA-BALARI, Mª VICTOR | C27: =HxH!U24 -> 86 | D27: =HxH!U64 -> 80 | E27: =HxH!U105 -> 82 | F27: =SUM(C30:E30) -> 482 | G27: 6 | H27: =MAX(C27:C29) -> 89 | I27: =MAX(D27:D29) -> 80 | J27: =MAX(E27:E29) -> 90
B28: SANCHEZ ARMENGOL, EVA | C28: =HxH!U25 -> 78 | D28: =HxH!U65 -> 80 | E28: =HxH!U106 -> 76
B29: DESVALLS, SOLEDAD | C29: =HxH!U26 -> 89 | D29: NP | E29: =HxH!U107 -> 90
B30: Subtotal | C30: =SUM(C27:C29)-MAX(C27:C29) -> 164 | D30: 160 | E30: =SUM(E27:E29)-MAX(E27:E29) -> 158
A31: Vallromanes | B31: TEROL VIDAL, SUSANA | C31: =HxH!U20 -> 79 | D31: =HxH!U60 -> 83 | E31: =HxH!U101 -> 80 | F31: =SUM(C34:E34) -> 483 | G31: 7 | H31: =MAX(C31:C33) -> 84 | I31: =MAX(D31:D33) -> 83 | J31: =MAX(E31:E33) -> 82
B32: LAIA PASQUINA TRILLO | C32: =HxH!U21 -> 84 | D32: =HxH!U61 -> 81 | E32: =HxH!U102 -> 82
B33: ESPIN ONIEVA, MARIONA | C33: =HxH!U22 -> 82 | D33: =HxH!U62 -> 82 | E33: =HxH!U103 -> 79
B34: Subtotal | C34: =SUM(C31:C33)-MAX(C31:C33) -> 161 | D34: =SUM(D31:D33)-MAX(D31:D33) -> 163 | E34: =SUM(E31:E33)-MAX(E31:E33) -> 159
A35: Sant Joan | B35: MAESO DEITG, MARIONA | C35: NP | D35: NP | E35: NP | F35: =SUM(C38:E38) -> 484 | G35: 8 | H35: =MAX(C35:C37) -> 81 | I35: =MAX(D35:D37) -> 92 | J35: =MAX(E35:E37) -> 80
B36: MARFA SANZ, PAZ | C36: =HxH!U29 -> 81 | D36: =HxH!U69 -> 77 | E36: =HxH!U110 -> 74
B37: GUTIERREZ BECKER, CLARA | C37: =HxH!U30 -> 80 | D37: =HxH!U70 -> 92 | E37: =HxH!U111 -> 80
B38: Subtotal | C38: 161 | D38: 169 | E38: =SUM(E36:E37) -> 154
A39: Raimat | B39: PIGEM XAMMAR, ANNA | C39: =HxH!U36 -> 89 | D39: =HxH!U76 -> 87 | E39: =HxH!U117 -> 80 | F39: =SUM(C42:E42) -> 502 | G39: 9 | H39: =MAX(C39:C41) -> 91 | I39: =MAX(D39:D41) -> 87 | J39: =MAX(E39:E41) -> 98
B40: BOIRA LOPEZ, MARIA JESUS | C40: =HxH!U37 -> 82 | D40: =HxH!U77 -> 85 | E40: =HxH!U118 -> 81
B41: BOIRA LOPEZ,ARES | C41: =HxH!U38 -> 91 | D41: =HxH!U78 -> 85 | E41: =HxH!U119 -> 98
B42: Subtotal | C42: =SUM(C39:C41)-MAX(C39:C41) -> 171 | D42: =SUM(D39:D41)-MAX(D39:D41) -> 170 | E42: =SUM(E39:E41)-MAX(E39:E41) -> 161

Sheet HxH
A2: DIA 13
C3: 1 | D3: 2 | E3: 3 | F3: 4 | G3: 5 | H3: 6 | I3: 7 | J3: 8 | K3: 9 | L3: 10 | M3: 11 | N3: 12 | O3: 13 | P3: 14 | Q3: 15 | R3: 16 | S3: 17 | T3: 18 | U3: TOT
A4: Terramar | B4: JONAMA ROVIRA, ANDREA | C4: 5 | D4: 4 | E4: 3 | F4: 5 | G4: 5 | H4: 6 | I4: 3 | J4: 4 | K4: 4 | L4: 3 | M4: 3 | N4: 5 | O4: 3 | P4: 4 | Q4: 4 | R4: 4 | S4: 3 | T4: 4 | U4: =+SUM(C4:T4) -> 72
B5: SANCHEZ FERNANDEZ, SONIA | C5: 4 | D5: 4 | E5: 2 | F5: 6 | G5: 4 | H5: 4 | I5: 3 | J5: 5 | K5: 5 | L5: 2 | M5: 4 | N5: 4 | O5: 3 | P5: 4 | Q5: 4 | R5: 4 | S5: 3 | T5: 4 | U5: =+SUM(C5:T5) -> 69
B6: FLORAN CAÑADELL, Mª CARMEN | C6: 5 | D6: 5 | E6: 5 | F6: 5 | G6: 4 | H6: 4 | I6: 4 | J6: 5 | K6: 5 | L6: 4 | M6: 3 | N6: 5 | O6: 3 | P6: 4 | Q6: 6 | R6: 4 | S6: 4 | T6: 4 | U6: =+SUM(C6:T6) -> 79
B7: Subtotal | U7: =+SUM(U4:U6) -> 220
A8: Basozábal | B8: URCHEGUI GARCIA, ANE | C8: 5 | D8: 5 | E8: 3 | F8: 4 | G8: 3 | H8: 6 | I8: 4 | J8: 4 | K8: 5 | L8: 3 | M8: 4 | N8: 4 | O8: 4 | P8: 4 | Q8: 5 | R8: 5 | S8: 3 | T8: 4 | U8: =+SUM(C8:T8) -> 75
B9: OLARRA MUJIKA, AINHOA | C9: 4 | D9: 4 | E9: 3 | F9: 4 | G9: 3 | H9: 5 | I9: 3 | J9: 4 | K9: 4 | L9: 3 | M9: 5 | N9: 3 | O9: 3 | P9: 3 | Q9: 5 | R9: 6 | S9: 4 | T9: 3 | U9: =+SUM(C9:T9) -> 69
B10: TOWNED SALEGUI, CLAUDIA | C10: 5 | D10: 4 | E10: 3 | F10: 5 | G10: 4 | H10: 4 | I10: 3 | J10: 4 | K10: 5 | L10: 3 | M10: 4 | N10: 4 | O10: 4 | P10: 3 | Q10: 6 | R10: 5 | S10: 3 | T10: 5 | U10: =+SUM(C10:T10) -> 74
B11: Subtotal | U11: =+SUM(U8:U10) -> 218
A12: Sant Cugat | B12: TEROL VIDAL, DIANA | C12: 5 | D12: 4 | E12: 3 | F12: 6 | G12: 3 | H12: 3 | I12: 3 | J12: 4 | K12: 4 | L12: 3 | M12: 4 | N12: 4 | O12: 4 | P12: 4 | Q12: 5 | R12: 4 | S12: 3 | T12: 5 | U12: =+SUM(C12:T12) -> 71
B13: TUSQUETS GONZALEZ, INES | C13: 6 | D13: 7 | E13: 4 | F13: 5 | G13: 3 | H13: 5 | I13: 3 | J13: 4 | K13: 5 | L13: 3 | M13: 4 | N13: 5 | O13: 3 | P13: 4 | Q13: 6 | R13: 4 | S13: 3 | T13: 5 | U13: =+SUM(C13:T13) -> 79
B14: MUSTIENES FERRER, PAULA | C14: 6 | D14: 5 | E14: 3 | F14: 7 | G14: 5 | H14: 4 | I14: 4 | J14: 4 | K14: 5 | L14: 4 | M14: 5 | N14: 5 | O14: 3 | P14: 4 | Q14: 6 | R14: 4 | S14: 4 | T14: 4 | U14: =+SUM(C14:T14) -> 82
B15: Subtotal | U15: =+SUM(U12:U14) -> 232
A16: Puerta de Hierro | B16: ORUETA PEMARTIN,MARIA | C16: 5 | D16: 4 | E16: 2 | F16: 4 | G16: 4 | H16: 4 | I16: 3 | J16: 5 | K16: 5 | L16: 4 | M16: 4 | N16: 3 | O16: 4 | P16: 5 | Q16: 5 | R16: 5 | S16: 3 | T16: 4 | U16: =+SUM(C16:T16) -> 73
B17: RUIZ DE VELASCO COLAS, ROCIO | C17: 4 | D17: 5 | E17: 3 | F17: 5 | G17: 3 | H17: 4 | I17: 4 | J17: 3 | K17: 5 | L17: 3 | M17: 4 | N17: 4 | O17: 3 | P17: 5 | Q17: 5 | R17: 7 | S17: 3 | T17: 4 | U17: =+SUM(C17:T17) -> 74
B18: JESSEN RUBIO, MONICA | C18: 4 | D18: 5 | E18: 3 | F18: 6 | G18: 6 | H18: 4 | I18: 3 | J18: 5 | K18: 5 | L18: 5 | M18: 5 | N18: 5 | O18: 4 | P18: 6 | Q18: 7 | R18: 5 | S18: 3 | T18: 4 | U18: =+SUM(C18:T18) -> 85
B19: Subtotal | U19: =+SUM(U16:U18) -> 232
A20: Vallromanes | B20: TEROL VIDAL, SUSANA | C20: 5 | D20: 7 | E20: 3 | F20: 5 | G20: 3 | H20: 4 | I20: 4 | J20: 5 | K20: 5 | L20: 2 | M20: 5 | N20: 5 | O20: 3 | P20: 5 | Q20: 5 | R20: 6 | S20: 4 | T20: 3 | U20: =+SUM(C20:T20) -> 79
B21: LAIA PASQUINA TRILLO | C21: 5 | D21: 6 | E21: 4 | F21: 7 | G21: 4 | H21: 4 | I21: 3 | J21: 5 | K21: 5 | L21: 5 | M21: 4 | N21: 4 | O21: 4 | P21: 5 | Q21: 5 | R21: 6 | S21: 4 | T21: 4 | U21: =+SUM(C21:T21) -> 84
B22: ESPIN ONIEVA, MARIONA | C22: 7 | D22: 4 | E22: 4 | F22: 5 | G22: 4 | H22: 5 | I22: 4 | J22: 5 | K22: 5 | L22: 3 | M22: 5 | N22: 5 | O22: 3 | P22: 5 | Q22: 5 | R22: 5 | S22: 3 | T22: 5 | U22: =+SUM(C22:T22) -> 82
B23: Subtotal | U23: =+SUM(U20:U22) -> 245
A24: El Prat | B24: RIVERO TORRA-BALARI, Mª VICTOR | C24: 5 | D24: 5 | E24: 4 | F24: 7 | G24: 4 | H24: 5 | I24: 4 | J24: 5 | K24: 5 | L24: 5 | M24: 4 | N24: 5 | O24: 4 | P24: 5 | Q24: 6 | R24: 5 | S24: 3 | T24: 5 | U24: =+SUM(C24:T24) -> 86
B25: SANCHEZ ARMENGOL, EVA | C25: 5 | D25: 4 | E25: 3 | F25: 6 | G25: 4 | H25: 4 | I25: 3 | J25: 5 | K25: 5 | L25: 3 | M25: 5 | N25: 5 | O25: 4 | P25: 4 | Q25: 5 | R25: 6 | S25: 3 | T25: 4 | U25: =+SUM(C25:T25) -> 78
B26: DESVALLS, SOLEDAD | C26: 6 | D26: 4 | E26: 3 | F26: 5 | G26: 5 | H26: 8 | I26: 4 | J26: 6 | K26: 5 | L26: 5 | M26: 4 | N26: 5 | O26: 4 | P26: 7 | Q26: 4 | R26: 6 | S26: 4 | T26: 4 | U26: =+SUM(C26:T26) -> 89
B27: Subtotal | U27: =+SUM(U24:U26) -> 253
A28: Sant Joan | B28: MAESO DEITG, MARIONA | U28: =+SUM(C28:T28) -> 0
B29: MARFA, PAZ | C29: 6 | D29: 5 | E29: 4 | F29: 5 | G29: 3 | H29: 4 | I29: 4 | J29: 5 | K29: 6 | L29: 3 | M29: 4 | N29: 4 | O29: 4 | P29: 5 | Q29: 5 | R29: 5 | S29: 3 | T29: 6 | U29: =+SUM(C29:T29) -> 81
B30: GUTIERREZ BECKER, CLARA | C30: 5 | D30: 4 | E30: 3 | F30: 5 | G30: 5 | H30: 5 | I30: 3 | J30: 5 | K30: 5 | L30: 3 | M30: 6 | N30: 5 | O30: 4 | P30: 4 | Q30: 5 | R30: 5 | S30: 4 | T30: 4 | U30: =+SUM(C30:T30) -> 80
B31: Subtotal | U31: =+SUM(U28:U30) -> 161
A32: Llavaneras | B32: TRILLO GALINDO, MARTA | C32: 5 | D32: 4 | E32: 3 | F32: 5 | G32: 4 | H32: 4 | I32: 4 | J32: 4 | K32: 4 | L32: 3 | M32: 4 | N32: 4 | O32: 3 | P32: 5 | Q32: 6 | R32: 5 | S32: 4 | T32: 4 | U32: =+SUM(C32:T32) -> 75
B33: TRALLERO SANTAMARIA, MARIA | C33: 5 | D33: 5 | E33: 4 | F33: 5 | G33: 3 | H33: 4 | I33: 4 | J33: 5 | K33: 5 | L33: 3 | M33: 4 | N33: 4 | O33: 4 | P33: 4 | Q33: 6 | R33: 5 | S33: 3 | T33: 3 | U33: =+SUM(C33:T33) -> 76
B34: AMIGO VIÑUALES, MIREIA | C34: 6 | D34: 6 | E34: 5 | F34: 6 | G34: 4 | H34: 6 | I34: 3 | J34: 5 | K34: 6 | L34: 3 | M34: 5 | N34: 5 | O34: 4 | P34: 4 | Q34: 5 | R34: 5 | S34: 4 | T34: 5 | U34: =+SUM(C34:T34) -> 87
B35: Subtotal | U35: =+SUM(U32:U34) -> 238
A36: Raimat | B36: PIGEM XAMMAR, ANNA | C36: 7 | D36: 4 | E36: 5 | F36: 5 | G36: 4 | H36: 4 | I36: 6 | J36: 6 | K36: 6 | L36: 4 | M36: 4 | N36: 4 | O36: 5 | P36: 4 | Q36: 7 | R36: 6 | S36: 4 | T36: 4 | U36: =+SUM(C36:T36) -> 89
B37: BOIRA LOPEZ, MARIA JESUS | C37: 5 | D37: 3 | E37: 4 | F37: 4 | G37: 4 | H37: 4 | I37: 5 | J37: 4 | K37: 5 | L37: 3 | M37: 5 | N37: 4 | O37: 5 | P37: 6 | Q37: 8 | R37: 4 | S37: 3 | T37: 6 | U37: =+SUM(C37:T37) -> 82
B38: BOIRA LOPEZ,ARES | C38: 6 | D38: 5 | E38: 4 | F38: 8 | G38: 5 | H38: 5 | I38: 5 | J38: 3 | K38: 7 | L38: 3 | M38: 4 | N38: 5 | O38: 3 | P38: 7 | Q38: 6 | R38: 6 | S38: 4 | T38: 5 | U38: =+SUM(C38:T38) -> 91
B39: Subtotal | U39: h
A42: DIA 14
C43: 1 | D43: 2 | E43: 3 | F43: 4 | G43: 5 | H43: 6 | I43: 7 | J43: 8 | K43: 9 | L43: 10 | M43: 11 | N43: 12 | O43: 13 | P43: 14 | Q43: 15 | R43: 16 | S43: 17 | T43: 18 | U43: TOT
...

Sheet Hoja1
B1: RAIMAT | C1: PIGEM XAMMAR, ANNA | D1: 89 | E1: 87 | F1: =SUM(D1:E1) -> 176 | G1: 9
B2: SANT JOAN | C2: MAESO DEITG, MARIONA | D2: 100 | E2: 100 | F2: =SUM(D2:E2) -> 200 | G2: 8
B3: EL PRAT | C3: DESVALLS, SOLEDAD | D3: 89 | E3: 100 | F3: =SUM(D3:E3) -> 189 | G3: 7
B4: RAIMAT | C4: BOIRA LOPEZ,ARES | D4: 91 | E4: 85 | F4: =SUM(D4:E4) -> 176 | G4: 9
B5: SANT JOAN | C5: GUTIERREZ BECKER, CLARA | D5: 80 | E5: 92 | F5: =SUM(D5:E5) -> 172 | G5: 8
B6: EL PRAT | C6: RIVERO TORRA-BALARI, Mª VICTOR | D6: 86 | E6: 80 | F6: =SUM(D6:E6) -> 166 | G6: 7
B7: RAIMAT | C7: BOIRA LOPEZ, MARIA JESUS | D7: 82 | E7: 85 | F7: =SUM(D7:E7) -> 167 | G7: 9
B8: SANT JOAN | C8: MARFA SANZ, PAZ | D8: 81 | E8: 77 | F8: =SUM(D8:E8) -> 158
B9: EL PRAT | C9: SANCHEZ ARMENGOL, EVA | D9: 78 | E9: 80 | F9: =SUM(D9:E9) -> 158 | G9: 7
B10: VALLROMANAS | C10: LAIA PASQUINA TRILLO | D10: 84 | E10: 81 | F10: =SUM(D10:E10) -> 165 | G10: 6
B11: SANT CUGAT | C11: MUSTIENES FERRER, PAULA | D11: 82 | E11: 81 | F11: =SUM(D11:E11) -> 163 | G11: 5
B12: LLAVANERAS | C12: AMIGO VIÑUALES, MIREIA | D12: 87 | E12: 88 | F12: =SUM(D12:E12) -> 175 | G12: 4
B13: VALLROMANAS | C13: ESPIN ONIEVA, MARIONA | D13: 82 | E13: 82 | F13: =SUM(D13:E13) -> 164 | G13: 6
B14: SANT CUGAT | C14: TUSQUETS GONZALEZ, INES | D14: 79 | E14: 79 | F14: =SUM(D14:E14) -> 158 | G14: 5
B15: LLAVANERAS | C15: TRALLERO SANTAMARIA, MARIA | D15: 76 | E15: 82 | F15: =SUM(D15:E15) -> 158 | G15: 4
B16: VALLROMANAS | C16: TEROL VIDAL, SUSANA | D16: 79 | E16: 75 | F16: =SUM(D16:E16) -> 154 | G16: 6
B17: SANT CUGAT | C17: TEROL VIDAL, DIANA | D17: 71 | E17: 83 | F17: =SUM(D17:E17) -> 154 | G17: 5
B18: LLAVANERAS | C18: TRILLO GALINDO, MARTA | D18: 75 | E18: 71 | F18: =SUM(D18:E18) -> 146 | G18: 4
B19: PUERTA HIERRO | C19: JESSEN RUBIO, MONICA | D19: 85 | E19: 84 | F19: =SUM(D19:E19) -> 169 | G19: 3
B20: BASOZABAL | C20: TOWNED SALEGUI, CLAUDIA | D20: 74 | E20: 80 | F20: =SUM(D20:E20) -> 154 | G20: 2
... B27: TERRAMAR | C27: SANCHEZ FERNANDEZ, SONIA | D27: 69 | E27: 72 | F27: =SUM(D27:E27) -> 141 | G27: 1

Sheet Hoja2
