Workbook

Sheet resultados
A1: CAMPEONATO DE ESPAÑA INTERCLUBES FEMENINO
A2: CG Terramar. 13 - 15 de abril de 2012
A6: CLUB | B6: JUGADORA | C6: 1 | D6: 2 | E6: 3 | F6: TOTAL | G6: POSICIÓN
A7: Basozábal | B7: URCHEGUI GARCIA, ANE | C7: 75 | D7: =HxH!U48 -> 78 | E7: =HxH!U89 -> 66 | F7: =SUM(C10:E10) -> 426 | G7: 1 | H7: =MAX(C7:C9) -> 75 | I7: =MAX(D7:D9) -> 80 | J7: =MAX(E7:E9) -> 80
B8: OLARRA MUJIKA, AINHOA | C8: 69 | D8: =HxH!U49 -> 68 | E8: =HxH!U90 -> 71
B9: TOWNED SALEGUI, CLAUDIA | C9: =HxH!U10 -> 74 | D9: =HxH!U50 -> 80 | E9: =HxH!U91 -> 80
B10: Subtotal | C10: =SUM(C7:C9)-MAX(C7:C9) -> 143 | D10: =SUM(D7:D9)-MAX(D7:D9) -> 146 | E10: =SUM(E7:E9)-MAX(E7:E9) -> 137
A11: Terramar | B11: JONAMA ROVIRA, ANDREA | C11: =HxH!U4 -> 72 | D11: =HxH!U44 -> 74 | E11: =HxH!U85 -> 73 | F11: =SUM(C14:E14) -> 433 | G11: 2 | H11: =MAX(C11:C13) -> 79 | I11: =MAX(D11:D13) -> 74 | J11: =MAX(E11:E13) -> 74
B12: SANCHEZ FERNANDEZ, SONIA | C12: =HxH!U5 -> 69 | D12: =HxH!U45 -> 72 | E12: =HxH!U86 -> 73
B13: FLORAN CAÑADELL, Mª CARMEN | C13: =HxH!U6 -> 79 | D13: =HxH!U46 -> 74 | E13: =HxH!U87 -> 74
B14: Subtotal | C14: =SUM(C11:C13)-MAX(C11:C13) -> 141 | D14: =SUM(D11:D13)-MAX(D11:D13) -> 146 | E14: =SUM(E11:E13)-MAX(E11:E13) -> 146
A15: Sant Cugat | B15: TEROL VIDAL, DIANA | C15: 71 | D15: =HxH!U52 -> 75 | E15: =HxH!U93 -> 71 | F15: =SUM(C18:E18) -> 451 | G15: 3 | H15: =MAX(C15:C17) -> 82 | I15: =MAX(D15:D17) -> 81 | J15: =MAX(E15:E17) -> 77
B16: TUSQUETS GONZALEZ, INES | C16: =HxH!U13 -> 79 | D16: =HxH!U53 -> 79 | E16: =HxH!U94 -> 77
B17: MUSTIENES FERRER, PAULA | C17: 82 | D17: =HxH!U54 -> 81 | E17: =HxH!U95 -> 76
B18: Subtotal | C18: =SUM(C15:C17)-MAX(C15:C17) -> 150 | D18: =SUM(D15:D17)-MAX(D15:D17) -> 154 | E18: =SUM(E15:E17)-MAX(E15:E17) -> 147
A19: Puerta de Hierro | B19: ORUETA PEMARTIN,MARIA | C19: =HxH!U16 -> 73 | D19: =HxH!U56 -> 73 | E19: =HxH!U97 -> 75 | F19: =SUM(C22:E22) -> 452 | G19: 4 | H19: =MAX(C19:C21) -> 85 | I19: =MAX(D19:D21) -> 84 | J19: =MAX(E19:E21) -> 80
B20: RUIZ DE VELASCO COLAS, ROCIO | C20: =HxH!U17 -> 74 | D20: =HxH!U57 -> 78 | E20: =HxH!U98 -> 80
B21: JESSEN RUBIO, MONICA | C21: =HxH!U18 -> 85 | D21: =HxH!U58 -> 84 | E21: =HxH!U99 -> 79
B22: Subtotal | C22: =SUM(C19:C21)-MAX(C19:C21) -> 147 | D22: =SUM(D19:D21)-MAX(D19:D21) -> 151 | E22: =SUM(E19:E21)-MAX(E19:E21) -> 154
A23: Llavaneras | B23: TRILLO GALINDO, MARTA | C23: =HxH!U32 -> 75 | D23: =HxH!U72 -> 71 | E23: =HxH!U113 -> 72 | F23: =SUM(C26:E26) -> 458 | G23: 5 | H23: =MAX(C23:C25) -> 87 | I23: =MAX(D23:D25) -> 88 | J23: =MAX(E23:E25) -> 95
B24: TRALLERO SANTAMARIA, MARIA | C24: =HxH!U33 -> 76 | D24: =HxH!U73 -> 82 | E24: =HxH!U114 -> 82
B25: AMIGO VIÑUALES, MIREIA | C25: =HxH!U34 -> 87 | D25: =HxH!U74 -> 88 | E25: =HxH!U115 -> 95
B26: Subtotal | C26: =SUM(C23:C25)-MAX(C23:C25) -> 151 | D26: =SUM(D23:D25)-MAX(D23:D25) -> 153 | E26: =SUM(E23:E25)-MAX(E23:E25) -> 154
A27: El Prat | B27: RIVERO TORRA-BALARI, Mª VICTOR | C27: =HxH!U24 -> 86 | D27: =HxH!U64 -> 80 | E27: =HxH!U105 -> 82 | F27: =SUM(C30:E30) -> 482 | G27: 6 | H27: =MAX(C27:C29) -> 89 | I27: =MAX(D27:D29) -> 80 | J27: =MAX(E27:E29) -> 90
B28: SANCHEZ ARMENGOL, EVA | C28: =HxH!U25 -> 78 | D28: =HxH!U65 -> 80 | E28: =HxH!U106 -> 76
B29: DESVALLS, SOLEDAD | C29: =HxH!U26 -> 89 | D29: NP | E29: =HxH!U107 -> 90
B30: Subtotal | C30: =SUM(C27:C29)-MAX(C27:C29) -> 164 | D30: 160 | E30: =SUM(E27:E29)-MAX(E27:E29) -> 158
A31: Vallromanes | B31: TEROL VIDAL, SUSANA | C31: =HxH!U20 -> 79 | D31: =HxH!U60 -> 83 | E31: =HxH!U101 -> 80 | F31: =SUM(C34:E34) -> 483 | G31: 7 | H31: =MAX(C31:C33) -> 84 | I31: =MAX(D31:D33) -> 83 | J31: =MAX(E31:E33) -> 82
B32: LAIA PASQUINA TRILLO | C32: =HxH!U21 -> 84 | D32: =HxH!U61 -> 81 | E32: =HxH!U102 -> 82
B33: ESPIN ONIEVA, MARIONA | C33: =HxH!U22 -> 82 | D33: =HxH!U62 -> 82 | E33: =HxH!U103 -> 79
B34: Subtotal | C34: =SUM(C31:C33)-MAX(C31:C33) -> 161 | D34: =SUM(D31:D33)-MAX(D31:D33) -> 163 | E34: =SUM(E31:E33)-MAX(E31:E33) -> 159
A35: Sant Joan | B35: MAESO DEITG, MARIONA | C35: NP | D35: NP | E35: NP | F35: =SUM(C38:E38) -> 484 | G35: 8 | H35: =MAX(C35:C37) -> 81 | I35: =MAX(D35:D37) -> 92 | J35: =MAX(E35:E37) -> 80
B36: MARFA SANZ, PAZ | C36: =HxH!U29 -> 81 | D36: =HxH!U69 -> 77 | E36: =HxH!U110 -> 74
B37: GUTIERREZ BECKER, CLARA | C37: =HxH!U30 -> 80 | D37: =HxH!U70 -> 92 | E37: =HxH!U111 -> 80
B38: Subtotal | C38: 161 | D38: 169 | E38: =SUM(E36:E37) -> 154
A39: Raimat | B39: PIGEM XAMMAR, ANNA | C39: =HxH!U36 -> 89 | D39: =HxH!U76 -> 87 | E39: =HxH!U117 -> 80 | F39: =SUM(C42:E42) -> 502 | G39: 9 | H39: =MAX(C39:C41) -> 91 | I39: =MAX(D39:D41) -> 87 | J39: =MAX(E39:E41) -> 98
B40: BOIRA LOPEZ, MARIA JESUS | C40: =HxH!U37 -> 82 | D40: =HxH!U77 -> 85 | E40: =HxH!U118 -> 81
B41: BOIRA LOPEZ,ARES | C41: =HxH!U38 -> 91 | D41: =HxH!U78 -> 85 | E41: =HxH!U119 -> 98
B42: Subtotal | C42: =SUM(C39:C41)-MAX(C39:C41) -> 171 | D42: =SUM(D39:D41)-MAX(D39:D41) -> 170 | E42: =SUM(E39:E41)-MAX(E39:E41) -> 161

Sheet HxH
A2: DIA 13
C3: 1 | D3: 2 | E3: 3 | F3: 4 | G3: 5 | H3: 6 | I3: 7 | J3: 8 | K3: 9 | L3: 10 | M3: 11 | N3: 12 | O3: 13 | P3: 14 | Q3: 15 | R3: 16 | S3: 17 | T3: 18 | U3: TOT
A4: Terramar | B4: JONAMA ROVIRA, ANDREA | C4: 5 | D4: 4 | E4: 3 | F4: 5 | G4: 5 | H4: 6 | I4: 3 | J4: 4 | K4: 4 | L4: 3 | M4: 3 | N4: 5 | O4: 3 | P4: 4 | Q4: 4 | R4: 4 | S4: 3 | T4: 4 | U4: =+SUM(C4:T4) -> 72
B5: SANCHEZ FERNANDEZ, SONIA | C5: 4 | D5: 4 | E5: 2 | F5: 6 | G5: 4 | H5: 4 | I5: 3 | J5: 5 | K5: 5 | L5: 2 | M5: 4 | N5: 4 | O5: 3 | P5: 4 | Q5: 4 | R5: 4 | S5: 3 | T5: 4 | U5: =+SUM(C5:T5) -> 69
B6: FLORAN CAÑADELL, Mª CARMEN | C6: 5 | D6: 5 | E6: 5 | F6: 5 | G6: 4 | H6: 4 | I6: 4 | J6: 5 | K6: 5 | L6: 4 | M6: 3 | N6: 5 | O6: 3 | P6: 4 | Q6: 6 | R6: 4 | S6: 4 | T6: 4 | U6: =+SUM(C6:T6) -> 79
B7: Subtotal | U7: =+SUM(U4:U6) -> 220
A8: Basozábal | B8: URCHEGUI GARCIA, ANE | C8: 5 | D8: 5 | E8: 3 | F8: 4 | G8: 3 | H8: 6 | I8: 4 | J8: 4 | K8: 5 | L8: 3 | M8: 4 | N8: 4 | O8: 4 | P8: 4 | Q8: 5 | R8: 5 | S8: 3 | T8: 4 | U8: =+SUM(C8:T8) -> 75
B9: OLARRA MUJIKA, AINHOA | C9: 4 | D9: 4 | E9: 3 | F9: 4 | G9: 3 | H9: 5 | I9: 3 | J9: 4 | K9: 4 | L9: 3 | M9: 5 | N9: 3 | O9: 3 | P9: 3 | Q9: 5 | R9: 6 | S9: 4 | T9: 3 | U9: =+SUM(C9:T9) -> 69
B10: TOWNED SALEGUI, CLAUDIA | C10: 5 | D10: 4 | E10: 3 | F10: 5 | G10: 4 | H10: 4 | I10: 3 | J10: 4 | K10: 5 | L10: 3 | M10: 4 | N10: 4 | O10: 4 | P10: 3 | Q10: 6 | R10: 5 | S10: 3 | T10: 5 | U10: =+SUM(C10:T10) -> 74
B11: Subtotal | U11: =+SUM(U8:U10) -> 218
A12: Sant Cugat | B12: TEROL VIDAL, DIANA | C12: 5 | D12: 4 | E12: 3 | F12: 6 | G12: 3 | H12: 3 | I12: 3 | J12: 4 | K12: 4 | L12: 3 | M12: 4 | N12: 4 | O12: 4 | P12: 4 | Q12: 5 | R12: 4 | S12: 3 | T12: 5 | U12: =+SUM(C12:T12) -> 71
B13: TUSQUETS GONZALEZ, INES | C13: 6 | D13: 7 | E13: 4 | F13: 5 | G13: 3 | H13: 5 | I13: 3 | J13: 4 | K13: 5 | L13: 3 | M13: 4 | N13: 5 | O13: 3 | P13: 4 | Q13: 6 | R13: 4 | S13: 3 | T13: 5 | U13: =+SUM(C13:T13) -> 79
B14: MUSTIENES FERRER, PAULA | C14: 6 | D14: 5 | E14: 3 | F14: 7 | G14: 5 | H14: 4 | I14: 4 | J14: 4 | K14: 5 | L14: 4 | M14: 5 | N14: 5 | O14: 3 | P14: 4 | Q14: 6 | R14: 4 | S14: 4 | T14: 4 | U14: =+SUM(C14:T14) -> 82
B15: Subtotal | U15: =+SUM(U12:U14) -> 232
A16: Puerta de Hierro | B16: ORUETA PEMARTIN,MARIA | C16: 5 | D16: 4 | E16: 2 | F16: 4 | G16: 4 | H16: 4 | I16: 3 | J16: 5 | K16: 5 | L16: 4 | M16: 4 | N16: 3 | O16: 4 | P16: 5 | Q16: 5 | R16: 5 | S16: 3 | T16: 4 | U16: =+SUM(C16:T16) -> 73
B17: RUIZ DE VELASCO COLAS, ROCIO | C17: 4 | D17: 5 | E17: 3 | F17: 5 | G17: 3 | H17: 4 | I17: 4 | J17: 3 | K17: 5 | L17: 3 | M17: 4 | N17: 4 | O17: 3 | P17: 5 | Q17: 5 | R17: 7 | S17: 3 | T17: 4 | U17: =+SUM(C17:T17) -> 74
B18: JESSEN RUBIO, MONICA | C18: 4 | D18: 5 | E18: 3 | F18: 6 | G18: 6 | H18: 4 | I18: 3 | J18: 5 | K18: 5 | L18: 5 | M18: 5 | N18: 5 | O18: 4 | P18: 6 | Q18: 7 | R18: 5 | S18: 3 | T18: 4 | U18: =+SUM(C18:T18) -> 85
B19: Subtotal | U19: =+SUM(U16:U18) -> 232
A20: Vallromanes | B20: TEROL VIDAL, SUSANA | C20: 5 | D20: 7 | E20: 3 | F20: 5 | G20: 3 | H20: 4 | I20: 4 | J20: 5 | K20: 5 | L20: 2 | M20: 5 | N20: 5 | O20: 3 | P20: 5 | Q20: 5 | R20: 6 | S20: 4 | T20: 3 | U20: =+SUM(C20:T20) -> 79
B21: LAIA PASQUINA TRILLO | C21: 5 | D21: 6 | E21: 4 | F21: 7 | G21: 4 | H21: 4 | I21: 3 | J21: 5 | K21: 5 | L21: 5 | M21: 4 | N21: 4 | O21: 4 | P21: 5 | Q21: 5 | R21: 6 | S21: 4 | T21: 4 | U21: =+SUM(C21:T21) -> 84
B22: ESPIN ONIEVA, MARIONA | C22: 7 | D22: 4 | E22: 4 | F22: 5 | G22: 4 | H22: 5 | I22: 4 | J22: 5 | K22: 5 | L22: 3 | M22: 5 | N22: 5 | O22: 3 | P22: 5 | Q22: 5 | R22: 5 | S22: 3 | T22: 5 | U22: =+SUM(C22:T22) -> 82
B23: Subtotal | U23: =+SUM(U20:U22) -> 245
A24: El Prat | B24: RIVERO TORRA-BALARI, Mª VICTOR | C24: 5 | D24: 5 | E24: 4 | F24: 7 | G24: 4 | H24: 5 | I24: 4 | J24: 5 | K24: 5 | L24: 5 | M24: 4 | N24: 5 | O24: 4 | P24: 5 | Q24: 6 | R24: 5 | S24: 3 | T24: 5 | U24: =+SUM(C24:T24) -> 86
B25: SANCHEZ ARMENGOL, EVA | C25: 5 | D25: 4 | E25: 3 | F25: 6 | G25: 4 | H25: 4 | I25: 3 | J25: 5 | K25: 5 | L25: 3 | M25: 5 | N25: 5 | O25: 4 | P25: 4 | Q25: 5 | R25: 6 | S25: 3 | T25: 4 | U25: =+SUM(C25:T25) -> 78
B26: DESVALLS, SOLEDAD | C26: 6 | D26: 4 | E26: 3 | F26: 5 | G26: 5 | H26: 8 | I26: 4 | J26: 6 | K26: 5 | L26: 5 | M26: 4 | N26: 5 | O26: 4 | P26: 7 | Q26: 4 | R26: 6 | S26: 4 | T26: 4 | U26: =+SUM(C26:T26) -> 89
B27: Subtotal | U27: =+SUM(U24:U26) -> 253
A28: Sant Joan | B28: MAESO DEITG, MARIONA | U28: =+SUM(C28:T28) -> 0
B29: MARFA, PAZ | C29: 6 | D29: 5 | E29: 4 | F29: 5 | G29: 3 | H29: 4 | I29: 4 | J29: 5 | K29: 6 | L29: 3 | M29: 4 | N29: 4 | O29: 4 | P29: 5 | Q29: 5 | R29: 5 | S29: 3 | T29: 6 | U29: =+SUM(C29:T29) -> 81
B30: GUTIERREZ BECKER, CLARA | C30: 5 | D30: 4 | E30: 3 | F30: 5 | G30: 5 | H30: 5 | I30: 3 | J30: 5 | K30: 5 | L30: 3 | M30: 6 | N30: 5 | O30: 4 | P30: 4 | Q30: 5 | R30: 5 | S30: 4 | T30: 4 | U30: =+SUM(C30:T30) -> 80
B31: Subtotal | U31: =+SUM(U28:U30) -> 161
A32: Llavaneras | B32: TRILLO GALINDO, MARTA | C32: 5 | D32: 4 | E32: 3 | F32: 5 | G32: 4 | H32: 4 | I32: 4 | J32: 4 | K32: 4 | L32: 3 | M32: 4 | N32: 4 | O32: 3 | P32: 5 | Q32: 6 | R32: 5 | S32: 4 | T32: 4 | U32: =+SUM(C32:T32) -> 75
B33: TRALLERO SANTAMARIA, MARIA | C33: 5 | D33: 5 | E33: 4 | F33: 5 | G33: 3 | H33: 4 | I33: 4 | J33: 5 | K33: 5 | L33: 3 | M33: 4 | N33: 4 | O33: 4 | P33: 4 | Q33: 6 | R33: 5 | S33: 3 | T33: 3 | U33: =+SUM(C33:T33) -> 76
B34: AMIGO VIÑUALES, MIREIA | C34: 6 | D34: 6 | E34: 5 | F34: 6 | G34: 4 | H34: 6 | I34: 3 | J34: 5 | K34: 6 | L34: 3 | M34: 5 | N34: 5 | O34: 4 | P34: 4 | Q34: 5 | R34: 5 | S34: 4 | T34: 5 | U34: =+SUM(C34:T34) -> 87
B35: Subtotal | U35: =+SUM(U32:U34) -> 238
A36: Raimat | B36: PIGEM XAMMAR, ANNA | C36: 7 | D36: 4 | E36: 5 | F36: 5 | G36: 4 | H36: 4 | I36: 6 | J36: 6 | K36: 6 | L36: 4 | M36: 4 | N36: 4 | O36: 5 | P36: 4 | Q36: 7 | R36: 6 | S36: 4 | T36: 4 | U36: =+SUM(C36:T36) -> 89
B37: BOIRA LOPEZ, MARIA JESUS | C37: 5 | D37: 3 | E37: 4 | F37: 4 | G37: 4 | H37: 4 | I37: 5 | J37: 4 | K37: 5 | L37: 3 | M37: 5 | N37: 4 | O37: 5 | P37: 6 | Q37: 8 | R37: 4 | S37: 3 | T37: 6 | U37: =+SUM(C37:T37) -> 82
B38: BOIRA LOPEZ,ARES | C38: 6 | D38: 5 | E38: 4 | F38: 8 | G38: 5 | H38: 5 | I38: 5 | J38: 3 | K38: 7 | L38: 3 | M38: 4 | N38: 5 | O38: 3 | P38: 7 | Q38: 6 | R38: 6 | S38: 4 | T38: 5 | U38: =+SUM(C38:T38) -> 91
B39: Subtotal | U39: h
A42: DIA 14
C43: 1 | D43: 2 | E43: 3 | F43: 4 | G43: 5 | H43: 6 | I43: 7 | J43: 8 | K43: 9 | L43: 10 | M43: 11 | N43: 12 | O43: 13 | P43: 14 | Q43: 15 | R43: 16 | S43: 17 | T43: 18 | U43: TOT
A44: Terramar | B44: JONAMA ROVIRA, ANDREA | C44: 5 | D44: 4 | E44: 3 | F44: 5 | G44: 4 | H44: 5 | I44: 3 | J44: 3 | K44: 5 | L44: 3 | M44: 4 | N44: 4 | O44: 3 | P44: 4 | Q44: 5 | R44: 6 | S44: 3 | T44: 5 | U44: =+SUM(C44:T44) -> 74
B45: SANCHEZ FERNANDEZ, SONIA | C45: 4 | D45: 4 | E45: 3 | F45: 6 | G45: 3 | H45: 4 | I45: 4 | J45: 4 | K45: 5 | L45: 3 | M45: 4 | N45: 4 | O45: 3 | P45: 5 | Q45: 4 | R45: 5 | S45: 3 | T45: 4 | U45: =+SUM(C45:T45) -> 72
B46: FLORAN CAÑADELL, Mª CARMEN | C46: 5 | D46: 4 | E46: 3 | F46: 4 | G46: 4 | H46: 5 | I46: 3 | J46: 4 | K46: 4 | L46: 3 | M46: 5 | N46: 4 | O46: 3 | P46: 5 | Q46: 5 | R46: 5 | S46: 4 | T46: 4 | U46: =+SUM(C46:T46) -> 74
B47: Subtotal | U47: =+SUM(U44:U46) -> 220
A48: Basozábal | B48: URCHEGUI GARCIA, ANE | C48: 4 | D48: 7 | E48: 4 | F48: 4 | G48: 5 | H48: 6 | I48: 4 | J48: 4 | K48: 5 | L48: 3 | M48: 5 | N48: 4 | O48: 3 | P48: 4 | Q48: 5 | R48: 4 | S48: 3 | T48: 4 | U48: =+SUM(C48:T48) -> 78
B49: OLARRA MUJIKA, AINHOA | C49: 3 | D49: 5 | E49: 3 | F49: 5 | G49: 4 | H49: 3 | I49: 3 | J49: 3 | K49: 5 | L49: 3 | M49: 4 | N49: 3 | O49: 3 | P49: 4 | Q49: 4 | R49: 5 | S49: 4 | T49: 4 | U49: =+SUM(C49:T49) -> 68
B50: TOWNED SALEGUI, CLAUDIA | C50: 4 | D50: 5 | E50: 3 | F50: 4 | G50: 5 | H50: 6 | I50: 4 | J50: 4 | K50: 4 | L50: 3 | M50: 4 | N50: 4 | O50: 3 | P50: 6 | Q50: 5 | R50: 8 | S50: 4 | T50: 4 | U50: =+SUM(C50:T50) -> 80
B51: Subtotal | U51: =+SUM(U48:U50) -> 226
A52: Sant Cugat | B52: TEROL VIDAL, DIANA | C52: 4 | D52: 5 | E52: 3 | F52: 4 | G52: 4 | H52: 4 | I52: 3 | J52: 4 | K52: 4 | L52: 4 | M52: 4 | N52: 4 | O52: 3 | P52: 4 | Q52: 6 | R52: 7 | S52: 4 | T52: 4 | U52: =+SUM(C52:T52) -> 75
B53: TUSQUETS GONZALEZ, INES | C53: 4 | D53: 4 | E53: 4 | F53: 6 | G53: 4 | H53: 7 | I53: 3 | J53: 5 | K53: 5 | L53: 3 | M53: 5 | N53: 3 | O53: 3 | P53: 6 | Q53: 5 | R53: 4 | S53: 4 | T53: 4 | U53: =+SUM(C53:T53) -> 79
B54: MUSTIENES FERRER, PAULA | C54: 6 | D54: 5 | E54: 3 | F54: 5 | G54: 4 | H54: 4 | I54: 4 | J54: 4 | K54: 4 | L54: 3 | M54: 5 | N54: 4 | O54: 4 | P54: 5 | Q54: 6 | R54: 6 | S54: 4 | T54: 5 | U54: =+SUM(C54:T54) -> 81
B55: Subtotal | U55: =+SUM(U52:U54) -> 235
A56: Puerta de Hierro | B56: ORUETA PEMARTIN,MARIA | C56: 4 | D56: 6 | E56: 4 | F56: 6 | G56: 4 | H56: 4 | I56: 3 | J56: 5 | K56: 5 | L56: 3 | M56: 4 | N56: 3 | O56: 3 | P56: 5 | Q56: 4 | R56: 5 | S56: 2 | T56: 3 | U56: =+SUM(C56:T56) -> 73
B57: RUIZ DE VELASCO COLAS, ROCIO | C57: 4 | D57: 5 | E57: 2 | F57: 4 | G57: 4 | H57: 5 | I57: 4 | J57: 4 | K57: 5 | L57: 3 | M57: 3 | N57: 4 | O57: 6 | P57: 4 | Q57: 6 | R57: 5 | S57: 4 | T57: 6 | U57: =+SUM(C57:T57) -> 78
B58: JESSEN RUBIO, MONICA | C58: 3 | D58: 5 | E58: 4 | F58: 6 | G58: 4 | H58: 5 | I58: 4 | J58: 4 | K58: 8 | L58: 3 | M58: 4 | N58: 4 | O58: 3 | P58: 5 | Q58: 7 | R58: 5 | S58: 3 | T58: 7 | U58: =+SUM(C58:T58) -> 84
B59: Subtotal | U59: =+SUM(U56:U58) -> 235
A60: Vallromanes | B60: TEROL VIDAL, SUSANA | C60: 5 | D60: 4 | E60: 4 | F60: 5 | G60: 5 | H60: 5 | I60: 4 | J60: 3 | K60: 5 | L60: 3 | M60: 3 | N60: 5 | O60: 6 | P60: 5 | Q60: 5 | R60: 6 | S60: 4 | T60: 6 | U60: =+SUM(C60:T60) -> 83
B61: LAIA PASQUINA TRILLO | C61: 5 | D61: 5 | E61: 4 | F61: 5 | G61: 5 | H61: 4 | I61: 3 | J61: 5 | K61: 6 | L61: 3 | M61: 4 | N61: 5 | O61: 4 | P61: 6 | Q61: 4 | R61: 5 | S61: 3 | T61: 5 | U61: =+SUM(C61:T61) -> 81
B62: ESPIN ONIEVA, MARIONA | C62: 4 | D62: 5 | E62: 4 | F62: 5 | G62: 4 | H62: 5 | I62: 3 | J62: 4 | K62: 6 | L62: 3 | M62: 5 | N62: 4 | O62: 4 | P62: 4 | Q62: 6 | R62: 6 | S62: 4 | T62: 6 | U62: =+SUM(C62:T62) -> 82
B63: Subtotal | U63: =+SUM(U52:U62) -> 1186
A64: El Prat | B64: RIVERO TORRA-BALARI, Mª VICTOR | C64: 6 | D64: 4 | E64: 4 | F64: 4 | G64: 3 | H64: 5 | I64: 3 | J64: 5 | K64: 5 | L64: 4 | M64: 4 | N64: 4 | O64: 3 | P64: 6 | Q64: 5 | R64: 7 | S64: 4 | T64: 4 | U64: =+SUM(C64:T64) -> 80
B65: SANCHEZ ARMENGOL, EVA | C65: 5 | D65: 5 | E65: 3 | F65: 5 | G65: 5 | H65: 4 | I65: 4 | J65: 4 | K65: 7 | L65: 2 | M65: 5 | N65: 6 | O65: 3 | P65: 4 | Q65: 5 | R65: 5 | S65: 4 | T65: 4 | U65: =+SUM(C65:T65) -> 80
B66: DESVALLS, SOLEDAD | U66: =+SUM(C66:T66) -> 0
B67: Subtotal | U67: =+SUM(U64:U66) -> 160
A68: Sant Joan | B68: MAESO DEITG, MARIONA | U68: =+SUM(C68:T68) -> 0
B69: MARFA, PAZ | C69: 5 | D69: 5 | E69: 3 | F69: 4 | G69: 4 | H69: 4 | I69: 3 | J69: 4 | K69: 5 | L69: 4 | M69: 5 | N69: 5 | O69: 4 | P69: 5 | Q69: 4 | R69: 5 | S69: 4 | T69: 4 | U69: =+SUM(C69:T69) -> 77
B70: GUTIERREZ BECKER, CLARA | C70: 4 | D70: 6 | E70: 4 | F70: 7 | G70: 6 | H70: 4 | I70: 4 | J70: 8 | K70: 7 | L70: 3 | M70: 4 | N70: 3 | O70: 6 | P70: 4 | Q70: 8 | R70: 5 | S70: 4 | T70: 5 | U70: =+SUM(C70:T70) -> 92
B71: Subtotal | U71: =+SUM(U68:U70) -> 169
A72: Llavaneras | B72: TRILLO GALINDO, MARTA | C72: 4 | D72: 4 | E72: 3 | F72: 4 | G72: 4 | H72: 4 | I72: 3 | J72: 3 | K72: 4 | L72: 5 | M72: 4 | N72: 4 | O72: 2 | P72: 4 | Q72: 5 | R72: 5 | S72: 5 | T72: 4 | U72: =+SUM(C72:T72) -> 71
B73: TRALLERO SANTAMARIA, MARIA | C73: 6 | D73: 4 | E73: 5 | F73: 5 | G73: 4 | H73: 5 | I73: 3 | J73: 4 | K73: 5 | L73: 3 | M73: 3 | N73: 4 | O73: 5 | P73: 4 | Q73: 7 | R73: 5 | S73: 3 | T73: 7 | U73: =+SUM(C73:T73) -> 82
B74: AMIGO VIÑUALES, MIREIA | C74: 6 | D74: 7 | E74: 5 | F74: 7 | G74: 5 | H74: 5 | I74: 3 | J74: 5 | K74: 6 | L74: 4 | M74: 4 | N74: 5 | O74: 3 | P74: 5 | Q74: 4 | R74: 5 | S74: 4 | T74: 5 | U74: =+SUM(C74:T74) -> 88
B75: Subtotal | U75: =+SUM(U72:U74) -> 241
A76: Raimat | B76: PIGEM XAMMAR, ANNA | C76: 4 | D76: 4 | E76: 4 | F76: 5 | G76: 6 | H76: 5 | I76: 3 | J76: 4 | K76: 5 | L76: 2 | M76: 5 | N76: 5 | O76: 4 | P76: 7 | Q76: 9 | R76: 6 | S76: 3 | T76: 6 | U76: =+SUM(C76:T76) -> 87
B77: BOIRA LOPEZ, MARIA JESUS | C77: 5 | D77: 4 | E77: 3 | F77: 6 | G77: 5 | H77: 5 | I77: 5 | J77: 4 | K77: 5 | L77: 3 | M77: 7 | N77: 4 | O77: 5 | P77: 4 | Q77: 5 | R77: 7 | S77: 4 | T77: 4 | U77: =+SUM(C77:T77) -> 85
B78: BOIRA LOPEZ,ARES | C78: 8 | D78: 5 | E78: 4 | F78: 5 | G78: 5 | H78: 6 | I78: 3 | J78: 5 | K78: 4 | L78: 3 | M78: 5 | N78: 4 | O78: 4 | P78: 4 | Q78: 6 | R78: 5 | S78: 3 | T78: 6 | U78: =+SUM(C78:T78) -> 85
B79: Subtotal | U79: h
A83: DIA 15
C84: 1 | D84: 2 | E84: 3 | F84: 4 | G84: 5 | H84: 6 | I84: 7 | J84: 8 | K84: 9 | L84: 10 | M84: 11 | N84: 12 | O84: 13 | P84: 14 | Q84: 15 | R84: 16 | S84: 17 | T84: 18 | U84: TOT
A85: Terramar | B85: JONAMA ROVIRA, ANDREA | C85: 3 | D85: 4 | E85: 3 | F85: 5 | G85: 4 | H85: 5 | I85: 4 | J85: 5 | K85: 4 | L85: 3 | M85: 3 | N85: 5 | O85: 3 | P85: 4 | Q85: 5 | R85: 6 | S85: 3 | T85: 4 | U85: =+SUM(C85:T85) -> 73
B86: SANCHEZ FERNANDEZ, SONIA | C86: 4 | D86: 3 | E86: 4 | F86: 5 | G86: 4 | H86: 4 | I86: 3 | J86: 4 | K86: 5 | L86: 3 | M86: 5 | N86: 4 | O86: 3 | P86: 5 | Q86: 5 | R86: 4 | S86: 4 | T86: 4 | U86: =+SUM(C86:T86) -> 73
B87: FLORAN CAÑADELL, Mª CARMEN | C87: 4 | D87: 5 | E87: 3 | F87: 4 | G87: 4 | H87: 4 | I87: 4 | J87: 4 | K87: 4 | L87: 4 | M87: 3 | N87: 5 | O87: 3 | P87: 4 | Q87: 6 | R87: 5 | S87: 4 | T87: 4 | U87: =+SUM(C87:T87) -> 74
B88: Subtotal | U88: =+SUM(U85:U87) -> 220
A89: Basozábal | B89: URCHEGUI GARCIA, ANE | C89: 4 | D89: 4 | E89: 3 | F89: 4 | G89: 3 | H89: 4 | I89: 4 | J89: 3 | K89: 5 | L89: 3 | M89: 3 | N89: 3 | O89: 2 | P89: 4 | Q89: 5 | R89: 5 | S89: 3 | T89: 4 | U89: =+SUM(C89:T89) -> 66
B90: OLARRA MUJIKA, AINHOA | C90: 3 | D90: 4 | E90: 4 | F90: 4 | G90: 4 | H90: 4 | I90: 3 | J90: 4 | K90: 5 | L90: 3 | M90: 3 | N90: 5 | O90: 3 | P90: 5 | Q90: 5 | R90: 5 | S90: 3 | T90: 4 | U90: =+SUM(C90:T90) -> 71
B91: TOWNED SALEGUI, CLAUDIA | C91: 4 | D91: 5 | E91: 4 | F91: 5 | G91: 4 | H91: 5 | I91: 3 | J91: 4 | K91: 3 | L91: 3 | M91: 5 | N91: 5 | O91: 3 | P91: 5 | Q91: 6 | R91: 5 | S91: 5 | T91: 6 | U91: =+SUM(C91:T91) -> 80
B92: Subtotal | U92: =+SUM(U89:U91) -> 217
A93: Sant Cugat | B93: TEROL VIDAL, DIANA | C93: 4 | D93: 5 | E93: 3 | F93: 4 | G93: 5 | H93: 4 | I93: 3 | J93: 4 | K93: 4 | L93: 3 | M93: 3 | N93: 4 | O93: 3 | P93: 5 | Q93: 5 | R93: 5 | S93: 2 | T93: 5 | U93: =+SUM(C93:T93) -> 71
B94: TUSQUETS GONZALEZ, INES | C94: 4 | D94: 6 | E94: 4 | F94: 5 | G94: 4 | H94: 4 | I94: 4 | J94: 5 | K94: 5 | L94: 3 | M94: 3 | N94: 4 | O94: 3 | P94: 5 | Q94: 5 | R94: 6 | S94: 3 | T94: 4 | U94: =+SUM(C94:T94) -> 77
B95: MUSTIENES FERRER, PAULA | C95: 5 | D95: 4 | E95: 3 | F95: 10 | G95: 3 | H95: 4 | I95: 3 | J95: 4 | K95: 4 | L95: 3 | M95: 3 | N95: 4 | O95: 3 | P95: 5 | Q95: 4 | R95: 5 | S95: 4 | T95: 5 | U95: =+SUM(C95:T95) -> 76
B96: Subtotal | U96: =+SUM(U93:U95) -> 224
A97: Puerta de Hierro | B97: ORUETA PEMARTIN,MARIA | C97: 5 | D97: 4 | E97: 2 | F97: 4 | G97: 5 | H97: 5 | I97: 4 | J97: 4 | K97: 5 | L97: 2 | M97: 4 | N97: 4 | O97: 4 | P97: 5 | Q97: 6 | R97: 5 | S97: 2 | T97: 5 | U97: =+SUM(C97:T97) -> 75
B98: RUIZ DE VELASCO COLAS, ROCIO | C98: 5 | D98: 5 | E98: 4 | F98: 5 | G98: 4 | H98: 4 | I98: 4 | J98: 4 | K98: 6 | L98: 2 | M98: 5 | N98: 5 | O98: 4 | P98: 5 | Q98: 5 | R98: 5 | S98: 3 | T98: 5 | U98: =+SUM(C98:T98) -> 80
B99: JESSEN RUBIO, MONICA | C99: 4 | D99: 7 | E99: 3 | F99: 5 | G99: 4 | H99: 5 | I99: 3 | J99: 3 | K99: 5 | L99: 3 | M99: 4 | N99: 4 | O99: 4 | P99: 7 | Q99: 5 | R99: 6 | S99: 3 | T99: 4 | U99: =+SUM(C99:T99) -> 79
B100: Subtotal | U100: =+SUM(U97:U99) -> 234
A101: Vallromanes | B101: TEROL VIDAL, SUSANA | C101: 5 | D101: 5 | E101: 4 | F101: 5 | G101: 4 | H101: 4 | I101: 3 | J101: 4 | K101: 5 | L101: 4 | M101: 4 | N101: 5 | O101: 4 | P101: 5 | Q101: 7 | R101: 6 | S101: 2 | T101: 4 | U101: =+SUM(C101:T101) -> 80
B102: LAIA PASQUINA TRILLO | C102: 4 | D102: 6 | E102: 3 | F102: 4 | G102: 3 | H102: 5 | I102: 5 | J102: 4 | K102: 5 | L102: 3 | M102: 5 | N102: 4 | O102: 3 | P102: 5 | Q102: 6 | R102: 7 | S102: 3 | T102: 7 | U102: =+SUM(C102:T102) -> 82
B103: ESPIN ONIEVA, MARIONA | C103: 4 | D103: 6 | E103: 4 | F103: 7 | G103: 4 | H103: 4 | I103: 4 | J103: 4 | K103: 5 | L103: 3 | M103: 4 | N103: 4 | O103: 3 | P103: 4 | Q103: 5 | R103: 6 | S103: 3 | T103: 5 | U103: =+SUM(C103:T103) -> 79
B104: Subtotal | U104: =+SUM(U93:U103) -> 1157
A105: El Prat | B105: RIVERO TORRA-BALARI, Mª VICTOR | C105: 5 | D105: 4 | E105: 3 | F105: 5 | G105: 3 | H105: 4 | I105: 5 | J105: 5 | K105: 5 | L105: 4 | M105: 7 | N105: 4 | O105: 4 | P105: 5 | Q105: 6 | R105: 5 | S105: 4 | T105: 4 | U105: =+SUM(C105:T105) -> 82
B106: SANCHEZ ARMENGOL, EVA | C106: 5 | D106: 4 | E106: 4 | F106: 4 | G106: 5 | H106: 5 | I106: 3 | J106: 4 | K106: 6 | L106: 3 | M106: 4 | N106: 4 | O106: 3 | P106: 4 | Q106: 5 | R106: 5 | S106: 3 | T106: 5 | U106: =+SUM(C106:T106) -> 76
...

Sheet Hoja1
B1: RAIMAT | C1: PIGEM XAMMAR, ANNA | D1: 89 | E1: 87 | F1: =SUM(D1:E1) -> 176 | G1: 9
B2: SANT JOAN | C2: MAESO DEITG, MARIONA | D2: 100 | E2: 100 | F2: =SUM(D2:E2) -> 200 | G2: 8
B3: EL PRAT | C3: DESVALLS, SOLEDAD | D3: 89 | E3: 100 | F3: =SUM(D3:E3) -> 189 | G3: 7
B4: RAIMAT | C4: BOIRA LOPEZ,ARES | D4: 91 | E4: 85 | F4: =SUM(D4:E4) -> 176 | G4: 9
B5: SANT JOAN | C5: GUTIERREZ BECKER, CLARA | D5: 80 | E5: 92 | F5: =SUM(D5:E5) -> 172 | G5: 8
B6: EL PRAT | C6: RIVERO TORRA-BALARI, Mª VICTOR | D6: 86 | E6: 80 | F6: =SUM(D6:E6) -> 166 | G6: 7
B7: RAIMAT | C7: BOIRA LOPEZ, MARIA JESUS | D7: 82 | E7: 85 | F7: =SUM(D7:E7) -> 167 | G7: 9
B8: SANT JOAN | C8: MARFA SANZ, PAZ | D8: 81 | E8: 77 | F8: =SUM(D8:E8) -> 158
B9: EL PRAT | C9: SANCHEZ ARMENGOL, EVA | D9: 78 | E9: 80 | F9: =SUM(D9:E9) -> 158 | G9: 7
B10: VALLROMANAS | C10: LAIA PASQUINA TRILLO | D10: 84 | E10: 81 | F10: =SUM(D10:E10) -> 165 | G10: 6
B11: SANT CUGAT | C11: MUSTIENES FERRER, PAULA | D11: 82 | E11: 81 | F11: =SUM(D11:E11) -> 163 | G11: 5
B12: LLAVANERAS | C12: AMIGO VIÑUALES, MIREIA | D12: 87 | E12: 88 | F12: =SUM(D12:E12) -> 175 | G12: 4
B13: VALLROMANAS | C13: ESPIN ONIEVA, MARIONA | D13: 82 | E13: 82 | F13: =SUM(D13:E13) -> 164 | G13: 6
B14: SANT CUGAT | C14: TUSQUETS GONZALEZ, INES | D14: 79 | E14: 79 | F14: =SUM(D14:E14) -> 158 | G14: 5
B15: LLAVANERAS | C15: TRALLERO SANTAMARIA, MARIA | D15: 76 | E15: 82 | F15: =SUM(D15:E15) -> 158 | G15: 4
B16: VALLROMANAS | C16: TEROL VIDAL, SUSANA | D16: 79 | E16: 75 | F16: =SUM(D16:E16) -> 154 | G16: 6
B17: SANT CUGAT | C17: TEROL VIDAL, DIANA | D17: 71 | E17: 83 | F17: =SUM(D17:E17) -> 154 | G17: 5
B18: LLAVANERAS | C18: TRILLO GALINDO, MARTA | D18: 75 | E18: 71 | F18: =SUM(D18:E18) -> 146 | G18: 4
B19: PUERTA HIERRO | C19: JESSEN RUBIO, MONICA | D19: 85 | E19: 84 | F19: =SUM(D19:E19) -> 169 | G19: 3
B20: BASOZABAL | C20: TOWNED SALEGUI, CLAUDIA | D20: 74 | E20: 80 | F20: =SUM(D20:E20) -> 154 | G20: 2
... B27: TERRAMAR | C27: SANCHEZ FERNANDEZ, SONIA | D27: 69 | E27: 72 | F27: =SUM(D27:E27) -> 141 | G27: 1

Sheet Hoja2
