Workbook
Name http___wagr.randa.org_default.sps?pagegid__7B7CB9116A_2DC752_2D48D1_2D89C1_2DB45AD073067C_7D_redirectorid_player_PlayerId_2847_sort_week_sortorder_desc_search_1: 'WAGR 2012'!#REF!
Name http___wagr.randa.org_default.sps?pagegid__7B7CB9116A_2DC752_2D48D1_2D89C1_2DB45AD073067C_7D_redirectorid_player_PlayerId_2847_sort_week_sortorder_desc_search_1: 'WAGR 2012'!#REF!
Name http___wagr.randa.org_default.sps?pagegid__7B7CB9116A_2DC752_2D48D1_2D89C1_2DB45AD073067C_7D_redirectorid_player_PlayerId_2847_sort_week_sortorder_desc_search_1: 'WAGR 2012'!#REF!
Name http___wagr.randa.org_default.sps?pagegid__7B7CB9116A_2DC752_2D48D1_2D89C1_2DB45AD073067C_7D_redirectorid_player_PlayerId_2847_sort_week_sortorder_desc_search_1: 'WAGR 2012'!#REF!
Name http___wagr.randa.org_default.sps?pagegid__7B7CB9116A_2DC752_2D48D1_2D89C1_2DB45AD073067C_7D_redirectorid_player_PlayerId_2847_sort_week_sortorder_desc_search_1: 'WAGR 2012'!#REF!
Name http___wagr.randa.org_default.sps?pagegid__7B7CB9116A_2DC752_2D48D1_2D89C1_2DB45AD073067C_7D_redirectorid_player_PlayerId_2847_sort_week_sortorder_desc_search_1: 'WAGR 2012'!#REF!
Name http___wagr.randa.org_default.sps?pagegid__7B7CB9116A_2DC752_2D48D1_2D89C1_2DB45AD073067C_7D_redirectorid_player_PlayerId_2847_sort_week_sortorder_desc_search_1: 'WAGR 2012'!#REF!
Name http___wagr.randa.org_default.sps?pagegid__7B7CB9116A_2DC752_2D48D1_2D89C1_2DB45AD073067C_7D_redirectorid_player_PlayerId_2847_sort_week_sortorder_desc_search_1: 'WAGR 2012'!#REF!
Name http___wagr.randa.org_default.sps?pagegid__7B7CB9116A_2DC752_2D48D1_2D89C1_2DB45AD073067C_7D_redirectorid_player_PlayerId_2847_sort_week_sortorder_desc_search_1: 'WAGR 2012'!#REF!
Name http___wagr.randa.org_default.sps?pagegid__7B7CB9116A_2DC752_2D48D1_2D89C1_2DB45AD073067C_7D_redirectorid_player_PlayerId_2847_sort_week_sortorder_desc_search_1: 'WAGR 2012'!#REF!
Name http___wagr.randa.org_default.sps?pagegid__7B7CB9116A_2DC752_2D48D1_2D89C1_2DB45AD073067C_7D_redirectorid_player_PlayerId_2847_sort_week_sortorder_desc_search_1: 'WAGR 2012'!#REF!
Name http___wagr.randa.org_default.sps?pagegid__7B7CB9116A_2DC752_2D48D1_2D89C1_2DB45AD073067C_7D_redirectorid_player_PlayerId_2847_sort_week_sortorder_desc_search_1: 'WAGR 2012'!#REF!
Name http___wagr.randa.org_default.sps?pagegid__7B7CB9116A_2DC752_2D48D1_2D89C1_2DB45AD073067C_7D_redirectorid_player_PlayerId_2847_sort_week_sortorder_desc_search_1: 'WAGR 2012'!#REF!
Name http___wagr.randa.org_default.sps?pagegid__7B7CB9116A_2DC752_2D48D1_2D89C1_2DB45AD073067C_7D_redirectorid_player_PlayerId_2847_sort_week_sortorder_desc_search_1: 'WAGR 2012'!#REF!
Name http___wagr.randa.org_default.sps?pagegid__7B7CB9116A_2DC752_2D48D1_2D89C1_2DB45AD073067C_7D_redirectorid_player_PlayerId_2847_sort_week_sortorder_desc_search_1: 'WAGR 2012'!#REF!
Name http___wagr.randa.org_default.sps?pagegid__92949137_AAAB_411B_9128_869E4F252D51__sort_this_sortorder_asc_country_ESP_sCountry_Go: 'WAGR 2012'!$H$18
Name LINK__WAGR: 'WAGR 2012'!$H$7

Sheet WAGR 2012
A1: RANKING FEMENINO ABSOLUTO 2012 | G1: PUESTO RANKING 52 SEMANAS
A3: LINK WWAGR - GENERAL | D3: LINK WWAGR - JUGADORAS ESPAÑOLAS
A4: REGLAMENTO FUNCIONAMIENTO W.W.A.G.R.
A5: SEMANA 35/2012 : 6 de septiembre de 2012
A6: POS. | B6: EDAD | C6: JUGADORAS | D6: PTOS. Totales | E6: PTOS. 5 MEJORES | F6: LINK WWAGR
A7: 1 | B7: J1 | C7: Camilla Hedberg | D7: =[1]C.HEDBERG!$G$34 -> 587.625 | E7: =C.HEDBERG!G37 -> 320.25 | F7: Camilla Hedberg | G7: 1
A8: 2 | B8: J2 | C8: Silvia Bañón | D8: =[1]S.BAÑON!$G$34 -> 501.75 | E8: =S.BAÑON!G38 -> 270 | F8: Silvia Banon | G8: 7
A9: 3 | B9: J1 | C9: Rocio Sanchez Lobato | D9: =[1]R.SANCHEZ!$G$34 -> 469 | E9: =R.SANCHEZ!G37 -> 306 | F9: Rocio Sanchez Lobato | G9: 6
A10: 4 | B10: J1 | C10: Noemi Jimenez | D10: ='[1]N. JIMENEZ'!$G$34 -> 440.33 | E10: ='N. JIMENEZ'!G38 -> 244.33 | F10: Noemi Jimenez | G10: 5
A11: 5 | B11: G1 | C11: Clara Baena | D11: =[1]C.BAENA!$G$34 -> 435.83 | E11: =C.BAENA!G37 -> 298.58 | F11: Clara Baena | G11: 3
A12: 6 | B12: J | C12: Marta Sanz | D12: =[1]M.SANZ!$G$34 -> 413.68 | E12: =M.SANZ!G37 -> 207.5 | F12: Marta Sanz | G12: 5
A13: 7 | B13: G1 | C13: Ha Rang Lee | D13: =[1]H.LEE!$G$34 -> 407 | E13: =H.LEE!G37 -> 225 | F13: Ha Rang Lee | G13: 4
A14: 8 | B14: Abs | C14: Patricia Sanz | D14: =[1]P.SANZ!$G$34 -> 395.25 | E14: =P.SANZ!G39 -> 211 | F14: Patricia Sanz | G14: 11
A15: 9 | B15: G1 | C15: Ainhoa Olarra | D15: =[1]A.OLARRA!$G$34 -> 360.25 | E15: =A.OLARRA!G37 -> 213.25 | F15: Ainhoa Olarra | G15: 8
A16: 10 | B16: Abs | C16: Marta Silva Zamora | D16: =[1]M.SILVA!$G$34 -> 333.25 | E16: =M.SILVA!G37 -> 247 | F16: Marta Silva Zamora | G16: 2
A17: 11 | B17: G2 | C17: Leticia Ras-Anderica | D17: ='[1]L. RAS'!$G$34 -> 331 | E17: ='L. RAS'!G37 -> 151 | F17: Leticia Ras-Anderica | G17: 16
A18: 12 | B18: G1 | C18: Andrea Jonama | D18: =[1]A.JONAMA!$G$34 -> 327 | E18: =A.JONAMA!G37 -> 191 | F18: Andrea Jonama | G18: 10
A19: 13 | B19: G1 | C19: Nuria Iturrios | D19: ='[1]N. ITURRIOS'!$G$34 -> 295.5 | E19: ='N. ITURRIOS'!G37 -> 189.5 | F19: Nuria Iturrios | G19: 9
A20: 14 | B20: G1 | C20: Ana Sanjuan Gutierrez | D20: =[1]A.SANJUAN!$G$34 -> 287 | E20: =A.SANJUAN!G37 -> 173 | F20: Ana Sanjuan Gutierrez | G20: 15
A21: 15 | B21: C2 | C21: Celia Barquin | D21: =[1]C.BARQUIN!$G$34 -> 286 | E21: =C.BARQUIN!G37 -> 201 | F21: Celia Barquin | G21: 12
A22: 16 | B22: Abs | C22: Teresa Urquizu | D22: =[1]T.URQUIZU!$G$34 -> 263 | E22: =T.URQUIZU!G37 -> 139 | F22: Teresa Urquizu | G22: 23
A23: 17 | B23: C1 | C23: Covadonga Sanjuan | D23: =[1]C.SANJUAN!$G$34 -> 260.83 | E23: =C.SANJUAN!G37 -> 176.83 | F23: Cavadonga Sanjuan | G23: 14
A24: 18 | B24: C2 | C24: Sonia Sanchez | D24: =[1]SONIASANCHEZ!$G$34 -> 247.75 | E24: =SONIASANCHEZ!G37 -> 150.75 | F24: Sonia Sanchez | G24: 18
A25: 19 | B25: I2 | C25: Alejandra Pasarin | D25: =[1]A.PASARIN!$G$34 -> 231 | E25: =A.PASARIN!G37 -> 160 | F25: Alejandra Pasarin | G25: 19
A26: 20 | B26: G2 | C26: Luna Sobron | D26: =[1]L.SOBRON!$G$34 -> 226 | E26: =L.SOBRON!G37 -> 147 | F26: Luna Sobron | G26: 17
A27: 21 | B27: J1 | C27: Andrea Vilarasau | D27: =[1]A.VILARASAU!$G$34 -> 221 | E27: =A.VILARASAU!G37 -> 150 | F27: Andrea Vilarasau | G27: 20
A28: 22 | B28: I2 | C28: Marta Perez Sanmartin | D28: =[1]M.PEREZSMARTIN!$G$34 -> 204.75 | E28: =M.PEREZSMARTIN!G37 -> 167.75 | F28: Marta Perez Sanmartin | G28: 24
A29: 23 | B29: C2 | C29: Carmen Sainz | D29: =[1]C.SAINZ!$G$34 -> 200.75 | E29: =C.SAINZ!G37 -> 146.75 | F29: Carmen Sainz | G29: 25
A30: 24 | B30: J2 | C30: Maria Elena Villamil | D30: =[1]ME.VILLAMIL!$G$34 -> 199 | E30: =ME.VILLAMIL!G37 -> 115 | F30: Maria Elena Villamil | G30: 31
A31: 25 | B31: J1 | C31: Carmen Laguna | D31: =[1]C.LAGUNA!$G$34 -> 195 | E31: =C.LAGUNA!G37 -> 154 | F31: Carmen Laguna | G31: 29
A32: 26 | B32: C2 | C32: Irene Rollan | D32: =[1]I.ROLLAN!$G$34 -> 190.75 | E32: =I.ROLLAN!G37 -> 151.75 | F32: Irene Rollan | G32: 28
B33: C2 | C33: Marta Martin Garcia | D33: =[1]M.MARTIN!$G$34 -> 189.75 | E33: =M.MARTIN!G37 -> 135.75 | F33: Marta Martin Garcia | G33: 30
A34: 28 | B34: J2 | C34: Teresa Caballer | D34: =[1]T.CABALLER!$G$34 -> 188.75 | E34: =T.CABALLER!G37 -> 160.75 | F34: Teresa Caballer | G34: 27
A35: 29 | B35: G2 | C35: Natalia Escuriola | D35: =[1]N.ESCURIOLA!$G$34 -> 181.25 | E35: =N.ESCURIOLA!G37 -> 156.25 | F35: Natalia Escuriola | G35: 13
A36: 30 | B36: Abs | C36: Ane Urchegui | D36: =[1]A.URCHEGUI!$G$34 -> 174 | E36: =A.URCHEGUI!G37 -> 155 | F36: Ane Urchegui | G36: 32
A37: 31 | B37: G1 | C37: Marta Trillo | D37: =[1]M.TRILLO!$G$34 -> 166 | E37: =M.TRILLO!G37 -> 123 | F37: Marta Trillo | G37: 22
A38: 32 | B38: C1 | C38: Maria Parra | D38: =[1]M.PARRA!$G$34 -> 165 | E38: =M.PARRA!G37 -> 147 | F38: Maria Parra | G38: 35
A39: 33 | B39: J1 | C39: Camino Sardinero | D39: =[1]C.SARDINERO!$G$34 -> 155 | E39: =C.SARDINERO!G37 -> 101 | F39: Camino Sardinero | G39: 34
A40: 34 | B40: J2 | C40: Irene Calvo | D40: =[1]I.CALVO!$G$34 -> 146.75 | E40: =I.CALVO!G37 -> 124.75 | F40: Irene Calvo | G40: 39
A41: 35 | B41: G1 | C41: Cristina Ofrecio | D41: =[1]C.OFRECIO!$G$34 -> 142 | E41: =C.OFRECIO!G37 -> 136 | F41: Cristina Ofrecio | G41: 37
...

Sheet M.SILVA
A1: MARTA SILVA
A3: CAMPEONATO | E3: SEMANA | F3: PUNTOS | G3: PTOS TOTALES
A4: NCAA D1 Central Regional | E4: 2012/19 | F4: 26 | G4: =SUM(F4) -> 26
A5: SEC Championship | E5: 2012/16 | F5: 38.25 | G5: =SUM(G4,F5) -> 64.25
A6: Liz Murphey Collegiate Classic | E6: 2012/13 | F6: 44.75 | G6: =SUM(G5,F6) -> 109
A7: SunTrust Gator Invite | E7: 2012/11 | F7: 31 | G7: =SUM(G6,F7) -> 140
A8: Darius Rucker Intercollegiate | E8: 2012/09 | F8: 29.25 | G8: =SUM(G7,F8) -> 169.25
A9: Lady Puerto Rico Classic | E9: 2012/07 | F9: 70 | G9: =SUM(G8,F9) -> 239.25
A10: European International Amateur | E10: 2012/30 | F10: 46 | G10: =SUM(G9,F10) -> 285.25
A11: LPGA Q School Stage 1 | E11: 2012/36 | F11: 48 | G11: =SUM(G10,F11) -> 333.25
G12: =SUM(G11,F12) -> 333.25
G13: =SUM(G12,F13) -> 333.25
G14: =SUM(G13,F14) -> 333.25
G15: =SUM(G14,F15) -> 333.25
G16: =SUM(G15,F16) -> 333.25
G17: =SUM(G16,F17) -> 333.25
G18: =SUM(G17,F18) -> 333.25
G19: =SUM(G18,F19) -> 333.25
G20: =SUM(G19,F20) -> 333.25
G21: =SUM(G20,F21) -> 333.25
G22: =SUM(G21,F22) -> 333.25
G23: =SUM(G22,F23) -> 333.25
... G35: =SUM(G34,F35) -> 333.25
A37: SUMA 5 MEJORES RESULTADOS. | G37: =SUM(I37:N37) -> 247 | I37: =LARGE(F4:F34,1) -> 70 | J37: =LARGE(F4:F34,2) -> 48 | K37: =LARGE(F4:F34,3) -> 46 | L37: =LARGE(F4:F34,4) -> 44.75 | M37: =LARGE(F4:F34,5) -> 38.25

Sheet H.LEE
A1: HARANG LEE
A3: CAMPEONATO | E3: SEMANA | F3: PUNTOS | G3: PTOS TOTALES
A4: Spanish National Ladies | E4: 2012/22 | F4: 39 | G4: =SUM(F4) -> 39
A5: Internationaux De France Juniors (Trophee Esmond) | E5: 2012/15 | F5: 40 | G5: =SUM(G4,F5) -> 79
A6: Madrid Ladies Championship | E6: 2012/12 | F6: 25 | G6: =SUM(G5,F6) -> 104
A7: Spanish Ladies Amateur - Copa S.M. La Reina | E7: 2012/09 | F7: 42 | G7: =SUM(G6,F7) -> 146
A8: Portuguese International Ladies Amateur | E8: 2012/04 | F8: 38 | G8: =SUM(G7,F8) -> 184
A9: Spanish International Stroke Play | E9: 2012/02 | F9: 47 | G9: =SUM(G8,F9) -> 231
A10: Spanish National Ladies | E10: 2012/22 | F10: 39 | G10: =SUM(G9,F10) -> 270
A11: European Girls Team Championship | E11: 2012/28 | F11: 40 | G11: =SUM(G10,F11) -> 310
A12: European Girls Team Championship - Individual | E12: 2012/28 | F12: 20 | G12: =SUM(G11,F12) -> 330
A13: Girls' British Open Amateur | E13: 2012/33 | F13: 56 | G13: =SUM(G12,F13) -> 386
A14: European International Amateur | E14: 2012/30 | F14: 21 | G14: =SUM(G13,F14) -> 407
G15: =SUM(G14,F15) -> 407
G16: =SUM(G15,F16) -> 407
G17: =SUM(G16,F17) -> 407
G18: =SUM(G17,F18) -> 407
G19: =SUM(G18,F19) -> 407
G20: =SUM(G19,F20) -> 407
G21: =SUM(G20,F21) -> 407
G22: =SUM(G21,F22) -> 407
G23: =SUM(G22,F23) -> 407
G24: =SUM(G23,F24) -> 407
G25: =SUM(G24,F25) -> 407
G26: =SUM(G25,F26) -> 407
... G35: =SUM(G34,F35) -> 407
A37: SUMA 5 MEJORES RESULTADOS. | G37: =SUM(I37:N37) -> 225 | I37: =LARGE(F4:F35,1) -> 56 | J37: =LARGE(F4:F35,2) -> 47 | K37: =LARGE(F4:F35,3) -> 42 | L37: =LARGE(F4:F35,4) -> 40 | M37: =LARGE(F4:F35,5) -> 40

Sheet C.HEDBERG
A1: CAMILLA HEDBERG
A3: CAMPEONATO | E3: SEMANA | F3: PUNTOS | G3: PTOS TOTALES
A4: NCAA D1 East Regional | E4: 2012/19 | F4: 26 | G4: =SUM(F4) -> 26
A5: SEC Championship | E5: 2012/16 | F5: 34.375 | G5: =SUM(G4,F5) -> 60.375
A6: Liz Murphey Collegiate Classic | E6: 2012/13 | F6: 35 | G6: =SUM(G5,F6) -> 95.375
A7: SunTrust Gator Invite | E7: 2012/11 | F7: 53.25 | G7: =SUM(G6,F7) -> 148.625
A8: Allstate Sugar Bowl Women's Intercollegiate | E8: 2012/09 | F8: 29 | G8: =SUM(G7,F8) -> 177.625
A9: NorthropGrumman Reg Women's Challenge | E9: 2012/07 | F9: 31 | G9: =SUM(G8,F9) -> 208.625
A10: NCAA Championship | E10: 2012/21 | F10: 39 | G10: =SUM(G9,F10) -> 247.625
A11: Spanish National Ladies | E11: 2012/22 | F11: 64 | G11: =SUM(G10,F11) -> 311.625
A12: Ladies' British Open Amateur | E12: 2012/26 | F12: 63 | G12: =SUM(G11,F12) -> 374.625
A13: World University Championship | E13: 2012/27 | F13: 69 | G13: =SUM(G12,F13) -> 443.625
A14: European International Amateur | E14: 2012/30 | F14: 40 | G14: =SUM(G13,F14) -> 483.625
A15: Dale McNamara Invitational | E15: 2012/38 | F15: 33 | G15: =SUM(G14,F15) -> 516.625
A16: Cougar Classic | E16: 2012/37 | F16: 71 | G16: =SUM(G15,F16) -> 587.625
G17: =SUM(G16,F17) -> 587.625
G18: =SUM(G17,F18) -> 587.625
G19: =SUM(G18,F19) -> 587.625
G20: =SUM(G19,F20) -> 587.625
G21: =SUM(G20,F21) -> 587.625
G22: =SUM(G21,F22) -> 587.625
G23: =SUM(G22,F23) -> 587.625
G24: =SUM(G23,F24) -> 587.625
G25: =SUM(G24,F25) -> 587.625
G26: =SUM(G25,F26) -> 587.625
G27: =SUM(G26,F27) -> 587.625
G28: =SUM(G27,F28) -> 587.625
... G35: =SUM(G34,F35) -> 587.625
A37: SUMA 5 MEJORES RESULTADOS. | G37: =SUM(I37:N37) -> 320.25 | I37: =LARGE(F4:F34,1) -> 71 | J37: =LARGE(F4:F34,2) -> 69 | K37: =LARGE(F4:F34,3) -> 64 | L37: =LARGE(F4:F34,4) -> 63 | M37: =LARGE(F4:F34,5) -> 53.25

Sheet M.SANZ
A1: MARTA SANZ
A3: CAMPEONATO | E3: SEMANA | F3: PUNTOS | G3: PTOS TOTALES
A4: NCAA D1 Central Regional | E4: 2012/19 | F4: 28 | G4: =SUM(F4) -> 28
A5: SEC Championship | E5: 2012/16 | F5: 20 | G5: =SUM(G4,F5) -> 48
A6: Liz Murphey Collegiate Classic | E6: 2012/13 | F6: 31 | G6: =SUM(G5,F6) -> 79
A7: SunTrust Gator Invite | E7: 2012/11 | F7: 33 | G7: =SUM(G6,F7) -> 112
A8: Allstate Sugar Bowl Women's Intercollegiate | E8: 2012/09 | F8: 34 | G8: =SUM(G7,F8) -> 146
A9: UCF Women's Challenge | E9: 2012/07 | F9: 26 | G9: =SUM(G8,F9) -> 172
A10: Spanish National Ladies | E10: 2012/22 | F10: 39 | G10: =SUM(G9,F10) -> 211
A11: Ladies' British Open Amateur | E11: 2012/26 | F11: 41 | G11: =SUM(G10,F11) -> 252
A12: World University Championship | E12: 2012/27 | F12: 49.5 | G12: =SUM(G11,F12) -> 301.5
A13: Campeonato de Alicante | E13: 2012/28 | F13: 37 | G13: =SUM(G12,F13) -> 338.5
A14: European International Amateur | E14: 2012/30 | F14: 41 | G14: =SUM(G13,F14) -> 379.5
A15: Cougar Classic | E15: 2012/37 | F15: 34.18 | G15: =SUM(G14,F15) -> 413.68
G16: =SUM(G15,F16) -> 413.68
G17: =SUM(G16,F17) -> 413.68
G18: =SUM(G17,F18) -> 413.68
G19: =SUM(G18,F19) -> 413.68
G20: =SUM(G19,F20) -> 413.68
G21: =SUM(G20,F21) -> 413.68
G22: =SUM(G21,F22) -> 413.68
G23: =SUM(G22,F23) -> 413.68
G24: =SUM(G23,F24) -> 413.68
G25: =SUM(G24,F25) -> 413.68
G26: =SUM(G25,F26) -> 413.68
G27: =SUM(G26,F27) -> 413.68
... G35: =SUM(G34,F35) -> 413.68
A37: SUMA 5 MEJORES RESULTADOS. | G37: =SUM(I37:N37) -> 207.5 | I37: =LARGE(F4:F34,1) -> 49.5 | J37: =LARGE(F4:F34,2) -> 41 | K37: =LARGE(F4:F34,3) -> 41 | L37: =LARGE(F4:F34,4) -> 39 | M37: =LARGE(F4:F34,5) -> 37

Sheet C.BAENA
A1: CLARA BAENA
A3: CAMPEONATO | E3: SEMANA | F3: PUNTOS | G3: PTOS TOTALES
A4: Internationaux De France Juniors (Trophee Esmond) | E4: 2012/15 | F4: 18 | G4: =SUM(F4) -> 18
A5: Internationaux De France Juniors (Trophee Claude-Roger Cartier) | E5: 2012/15 | F5: 48 | G5: =SUM(G4,F5) -> 66
A6: Madrid Ladies Championship | E6: 2012/12 | F6: 27 | G6: =SUM(G5,F6) -> 93
A7: Spanish Ladies Amateur - Copa S.M. La Reina | E7: 2012/09 | F7: 25 | G7: =SUM(G6,F7) -> 118
A8: Portuguese International Ladies Amateur | E8: 2012/04 | F8: 38 | G8: =SUM(G7,F8) -> 156
A9: Spanish International Stroke Play | E9: 2012/02 | F9: 37.25 | G9: =SUM(G8,F9) -> 193.25
A10: Spanish National Ladies | E10: 2012/22 | F10: 40.33 | G10: =SUM(G9,F10) -> 233.58
A11: European Girls Team Championship | E11: 2012/28 | F11: 18 | G11: =SUM(G10,F11) -> 251.58
A12: European Girls Team Championship - Individual | E12: 2012/28 | F12: 25.25 | G12: =SUM(G11,F12) -> 276.83
A13: Annika Invitational Europe | E13: 2012/35 | F13: 31 | G13: =SUM(G12,F13) -> 307.83
A14: Girls' British Open Amateur | E14: 2012/33 | F14: 104 | G14: =SUM(G13,F14) -> 411.83
A15: European International Amateur | E15: 2012/30 | F15: 24 | G15: =SUM(G14,F15) -> 435.83
G16: =SUM(G15,F16) -> 435.83
G17: =SUM(G16,F17) -> 435.83
G18: =SUM(G17,F18) -> 435.83
G19: =SUM(G18,F19) -> 435.83
G20: =SUM(G19,F20) -> 435.83
G21: =SUM(G20,F21) -> 435.83
G22: =SUM(G21,F22) -> 435.83
G23: =SUM(G22,F23) -> 435.83
G24: =SUM(G23,F24) -> 435.83
G25: =SUM(G24,F25) -> 435.83
G26: =SUM(G25,F26) -> 435.83
G27: =SUM(G26,F27) -> 435.83
... G35: =SUM(G34,F35) -> 435.83
A37: SUMA 5 MEJORES RESULTADOS. | G37: =SUM(I37:N37) -> 298.58 | I37: =LARGE(F4:F34,1) -> 104 | J37: =LARGE(F4:F34,2) -> 48 | K37: =LARGE(F4:F34,3) -> 40.33 | L37: =LARGE(F4:F34,4) -> 38 | M37: =LARGE(F4:F34,5) -> 37.25 | N37: =LARGE(F4:F34,6) -> 31

Sheet S.BAÑON
A1: SILVIA BAÑÓN
A3: CAMPEONATO | E3: SEMANA | F3: PUNTOS | G3: PTOS TOTALES
A4: German International Amateur | E4: 2012/20 | F4: 56 | G4: =SUM(F4) -> 56
A5: Banesto Ladies Tour La Penaza Zaragoza | E5: 2012/16 | F5: 24.25 | G5: =SUM(G4,F5) -> 80.25
A6: Internationaux De France Juniors (Trophee Esmond) | E6: 2012/15 | F6: 35.5 | G6: =SUM(G5,F6) -> 115.75
A7: European Nations Cup Individual | E7: 2012/12 | F7: 27 | G7: =SUM(G6,F7) -> 142.75
A8: Castellon Ladies Amateur | E8: 2012/10 | F8: 41 | G8: =SUM(G7,F8) -> 183.75
A9: Spanish Ladies Amateur - Copa S.M. La Reina | E9: 2012/09 | F9: 84 | G9: =SUM(G8,F9) -> 267.75
A10: Spanish International Stroke Play | E10: 2012/02 | F10: 23 | G10: =SUM(G9,F10) -> 290.75
A11: Spanish National Ladies | E11: 2012/22 | F11: 39 | G11: =SUM(G10,F11) -> 329.75
A12: Ladies' British Open Amateur | E12: 2012/26 | F12: 14 | G12: =SUM(G11,F12) -> 343.75
A13: Grand Prix de Chiberta | E13: 2012/27 | F13: 40 | G13: =SUM(G12,F13) -> 383.75
A14: Campeonato de Alicante | E14: 2012/28 | F14: 48 | G14: =SUM(G13,F14) -> 431.75
A15: Finnish Amateur | E15: 2012/33 | F15: 29 | G15: =SUM(G14,F15) -> 460.75
A16: European International Amateur | E16: 2012/30 | F16: 41 | G16: =SUM(G15,F16) -> 501.75
G17: =SUM(G16,F17) -> 501.75
G18: =SUM(G17,F18) -> 501.75
G19: =SUM(G18,F19) -> 501.75
G20: =SUM(G19,F20) -> 501.75
G21: =SUM(G20,F21) -> 501.75
G22: =SUM(G21,F22) -> 501.75
G23: =SUM(G22,F23) -> 501.75
G24: =SUM(G23,F24) -> 501.75
G25: =SUM(G24,F25) -> 501.75
G26: =SUM(G25,F26) -> 501.75
G27: =SUM(G26,F27) -> 501.75
G28: =SUM(G27,F28) -> 501.75
... G36: =SUM(G35,F36) -> 501.75
A38: SUMA 5 MEJORES RESULTADOS. | G38: =SUM(I38:N38) -> 270 | I38: =LARGE(F4:F35,1) -> 84 | J38: =LARGE(F4:F35,2) -> 56 | K38: =LARGE(F4:F35,3) -> 48 | L38: =LARGE(F4:F35,4) -> 41 | M38: =LARGE(F4:F35,5) -> 41

Sheet L.SOBRON
A1: LUNA SOBRÓN
A3: CAMPEONATO | E3: SEMANA | F3: PUNTOS | G3: PTOS TOTALES
A4: Internationaux De France Juniors (Trophee Esmond) | E4: 2012/15 | F4: 18 | G4: =SUM(F4) -> 18
A5: Internationaux De France Juniors (Trophee Claude-Roger Cartier) | E5: 2012/15 | F5: 0 | G5: =SUM(G4,F5) -> 18
A6: Madrid Ladies Championship | E6: 2012/12 | F6: 31 | G6: =SUM(G5,F6) -> 49
A7: Spanish Ladies Amateur - Copa S.M. La Reina | E7: 2012/09 | F7: 16 | G7: =SUM(G6,F7) -> 65
A8: Spanish International Stroke Play | E8: 2012/02 | F8: 18 | G8: =SUM(G7,F8) -> 83
A9: Spanish National Ladies | E9: 2012/22 | F9: 37 | G9: =SUM(G8,F9) -> 120
A10: European Girls Team Championship | E10: 2012/28 | F10: 18 | G10: =SUM(G9,F10) -> 138
A11: European Girls Team Championship - Individual | E11: 2012/28 | F11: 22 | G11: =SUM(G10,F11) -> 160
A12: Annika Invitational Europe | E12: 2012/35 | F12: 32 | G12: =SUM(G11,F12) -> 192
A13: Girls' British Open Amateur | E13: 2012/33 | F13: 9 | G13: =SUM(G12,F13) -> 201
A14: Grand Prix des Landes | E14: 2012/29 | F14: 25 | G14: =SUM(G13,F14) -> 226
G15: =SUM(G14,F15) -> 226
G16: =SUM(G15,F16) -> 226
G17: =SUM(G16,F17) -> 226
G18: =SUM(G17,F18) -> 226
G19: =SUM(G18,F19) -> 226
G20: =SUM(G19,F20) -> 226
G21: =SUM(G20,F21) -> 226
G22: =SUM(G21,F22) -> 226
G23: =SUM(G22,F23) -> 226
G24: =SUM(G23,F24) -> 226
G25: =SUM(G24,F25) -> 226
G26: =SUM(G25,F26) -> 226
... G35: =SUM(G34,F35) -> 226
A37: SUMA 5 MEJORES RESULTADOS. | G37: =SUM(I37:N37) -> 147 | I37: =LARGE(F4:F34,1) -> 37 | J37: =LARGE(F4:F34,2) -> 32 | K37: =LARGE(F4:F34,3) -> 31 | L37: =LARGE(F4:F34,4) -> 25 | M37: =LARGE(F4:F34,5) -> 22

Sheet R.SANCHEZ
A1: ROCÍO SÁNCHEZ
A3: CAMPEONATO | E3: SEMANA | F3: PUNTOS | G3: PTOS TOTALES
A4: NCAA D1 Central Regional | E4: 2012/19 | F4: 36 | G4: =SUM(F4) -> 36
A5: SEC Championship | E5: 2012/16 | F5: 33 | G5: =SUM(G4,F5) -> 69
A6: Liz Murphey Collegiate Classic | E6: 2012/13 | F6: 32 | G6: =SUM(G5,F6) -> 101
A7: SunTrust Gator Invite | E7: 2012/11 | F7: 21 | G7: =SUM(G6,F7) -> 122
A8: Lady Puerto Rico Classic | E8: 2012/07 | F8: 29 | G8: =SUM(G7,F8) -> 151
A9: NCAA Championship | E9: 2012/21 | F9: 29 | G9: =SUM(G8,F9) -> 180
A10: Spanish National Ladies | E10: 2012/22 | F10: 0 | G10: =SUM(G9,F10) -> 180
A11: Ladies' British Open Amateur | E11: 2012/26 | F11: 158 | G11: =SUM(G10,F11) -> 338
A12: World University Championship | E12: 2012/27 | F12: 37 | G12: =SUM(G11,F12) -> 375
A13: European International Amateur | E13: 2012/30 | F13: 42 | G13: =SUM(G12,F13) -> 417
A14: Mason Rudolph Championship | E14: 2012/38 | F14: 28 | G14: =SUM(G13,F14) -> 445
A15: Cougar Classic | E15: 2012/37 | F15: 24 | G15: =SUM(G14,F15) -> 469
G16: =SUM(G15,F16) -> 469
G17: =SUM(G16,F17) -> 469
G18: =SUM(G17,F18) -> 469
G19: =SUM(G18,F19) -> 469
G20: =SUM(G19,F20) -> 469
G21: =SUM(G20,F21) -> 469
G22: =SUM(G21,F22) -> 469
G23: =SUM(G22,F23) -> 469
G24: =SUM(G23,F24) -> 469
G25: =SUM(G24,F25) -> 469
G26: =SUM(G25,F26) -> 469
G27: =SUM(G26,F27) -> 469
... G35: =SUM(G34,F35) -> 469
A37: SUMA 5 MEJORES RESULTADOS. | G37: =SUM(I37:N37) -> 306 | I37: =LARGE(F4:F34,1) -> 158 | J37: =LARGE(F4:F34,2) -> 42 | K37: =LARGE(F4:F34,3) -> 37 | L37: =LARGE(F4:F34,4) -> 36 | M37: =LARGE(F4:F34,5) -> 33

Sheet A.OLARRA
A1: AINHOA OLARRA
A3: CAMPEONATO | E3: SEMANA | F3: PUNTOS | G3: PTOS TOTALES
A4: Internationaux De France Juniors (Trophee Esmond) | E4: 2012/15 | F4: 35 | G4: =SUM(F4) -> 35
A5: Spanish National Team Championship | E5: 2012/15 | F5: 35.25 | G5: =SUM(G4,F5) -> 70.25
A6: Madrid Ladies Championship | E6: 2012/12 | F6: 23 | G6: =SUM(G5,F6) -> 93.25
A7: Spanish Ladies Amateur - Copa S.M. La Reina | E7: 2012/09 | F7: 55 | G7: =SUM(G6,F7) -> 148.25
A8: Portuguese International Ladies Amateur | E8: 2012/04 | F8: 30 | G8: =SUM(G7,F8) -> 178.25
A9: Spanish International Stroke Play | E9: 2012/02 | F9: 31 | G9: =SUM(G8,F9) -> 209.25
A10: Spanish National Ladies | E10: 2012/22 | F10: 32 | G10: =SUM(G9,F10) -> 241.25
A11: European Girls Team Championship | E11: 2012/28 | F11: 40 | G11: =SUM(G10,F11) -> 281.25
A12: European Girls Team Championship - Individual | E12: 2012/28 | F12: 18 | G12: =SUM(G11,F12) -> 299.25
A13: Girls' British Open Amateur | E13: 2012/33 | F13: 13 | G13: =SUM(G12,F13) -> 312.25
A14: Grand Prix des Landes | E14: 2012/29 | F14: 48 | G14: =SUM(G13,F14) -> 360.25
G15: =SUM(G14,F15) -> 360.25
G16: =SUM(G15,F16) -> 360.25
G17: =SUM(G16,F17) -> 360.25
G18: =SUM(G17,F18) -> 360.25
G19: =SUM(G18,F19) -> 360.25
G20: =SUM(G19,F20) -> 360.25
G21: =SUM(G20,F21) -> 360.25
G22: =SUM(G21,F22) -> 360.25
G23: =SUM(G22,F23) -> 360.25
G24: =SUM(G23,F24) -> 360.25
G25: =SUM(G24,F25) -> 360.25
G26: =SUM(G25,F26) -> 360.25
... G35: =SUM(G34,F35) -> 360.25
A37: SUMA 5 MEJORES RESULTADOS. | G37: =SUM(I37:N37) -> 213.25 | I37: =LARGE(F4:F34,1) -> 55 | J37: =LARGE(F4:F34,2) -> 48 | K37: =LARGE(F4:F34,3) -> 40 | L37: =LARGE(F4:F34,4) -> 35.25 | M37: =LARGE(F4:F34,5) -> 35

Sheet P.SANZ
A1: PATRICIA SANZ
A5: CAMPEONATO | E5: SEMANA | F5: PUNTOS | G5: PTOS TOTALES
A6: NCAA D1 Central Regional | E6: 2012/19 | F6: 28 | G6: =SUM(F6) -> 28
A7: SEC Championship | E7: 2012/16 | F7: 70 | G7: =SUM(G6,F7) -> 98
A8: Liz Murphey Collegiate Classic | E8: 2012/13 | F8: 18 | G8: =SUM(G7,F8) -> 116
A9: SunTrust Gator Invite | E9: 2012/11 | F9: 10 | G9: =SUM(G8,F9) -> 126
A10: Allstate Sugar Bowl Women's Intercollegiate | E10: 2012/09 | F10: 27 | G10: =SUM(G9,F10) -> 153
A11: UCF Women's Challenge | E11: 2012/07 | F11: 27 | G11: =SUM(G10,F11) -> 180
A12: Spanish National Ladies | E12: 2012/22 | F12: 29 | G12: =SUM(G11,F12) -> 209
A13: Ladies' British Open Amateur | E13: 2012/26 | F13: 41 | G13: =SUM(G12,F13) -> 250
A14: Campeonato de Alicante | E14: 2012/28 | F14: 32 | G14: =SUM(G13,F14) -> 282
A15: SunCoast Ladies LPGA International Championship | E15: 2012/35 | F15: 21.25 | G15: =SUM(G14,F15) -> 303.25
A16: SunCoast Ladies LPGA International Legends | E16: 2012/34 | F16: 28 | G16: =SUM(G15,F16) -> 331.25
A17: European International Amateur | E17: 2012/30 | F17: 39 | G17: =SUM(G16,F17) -> 370.25
A18: Tenerife Ladies Open | E18: 2012/38 | F18: 16 | G18: =SUM(G17,F18) -> 386.25
A19: LPGA Q School Stage 1 | E19: 2012/36 | F19: 9 | G19: =SUM(G18,F19) -> 395.25
G20: =SUM(G19,F20) -> 395.25
G21: =SUM(G20,F21) -> 395.25
G22: =SUM(G21,F22) -> 395.25
G23: =SUM(G22,F23) -> 395.25
G24: =SUM(G23,F24) -> 395.25
G25: =SUM(G24,F25) -> 395.25
G26: =SUM(G25,F26) -> 395.25
G27: =SUM(G26,F27) -> 395.25
G28: =SUM(G27,F28) -> 395.25
G29: =SUM(G28,F29) -> 395.25
G30: =SUM(G29,F30) -> 395.25
G31: =SUM(G30,F31) -> 395.25
... G37: =SUM(G36,F37) -> 395.25
A39: SUMA 5 MEJORES RESULTADOS. | G39: =SUM(I39:N39) -> 211 | I39: =LARGE(F6:F36,1) -> 70 | J39: =LARGE(F6:F36,2) -> 41 | K39: =LARGE(F6:F36,3) -> 39 | L39: =LARGE(F6:F36,4) -> 32 | M39: =LARGE(F6:F36,5) -> 29

Sheet A.URCHEGUI
A1: ANE URCHEGUI
A3: CAMPEONATO | E3: SEMANA | F3: PUNTOS | G3: PTOS TOTALES
A4: Spanish National Team Championship | E4: 2012/15 | F4: 22 | G4: =SUM(F4) -> 22
A5: European Nations Cup Individual | E5: 2012/12 | F5: 35 | G5: =SUM(G4,F5) -> 57
A6: Spanish Ladies Amateur - Copa S.M. La Reina | E6: 2012/09 | F6: 19 | G6: =SUM(G5,F6) -> 76
A7: Spanish International Stroke Play | E7: 2012/02 | F7: 32 | G7: =SUM(G6,F7) -> 108
A8: Spanish National Ladies | E8: 2012/22 | F8: 32 | G8: =SUM(G7,F8) -> 140
A9: Grand Prix de Chiberta | E9: 2012/27 | F9: 34 | G9: =SUM(G8,F9) -> 174
G10: =SUM(G9,F10) -> 174
G11: =SUM(G10,F11) -> 174
G12: =SUM(G11,F12) -> 174
G13: =SUM(G12,F13) -> 174
G14: =SUM(G13,F14) -> 174
G15: =SUM(G14,F15) -> 174
G16: =SUM(G15,F16) -> 174
G17: =SUM(G16,F17) -> 174
G18: =SUM(G17,F18) -> 174
G19: =SUM(G18,F19) -> 174
G20: =SUM(G19,F20) -> 174
G21: =SUM(G20,F21) -> 174
... G35: =SUM(G34,F35) -> 174
A37: SUMA 5 MEJORES RESULTADOS. | G37: =SUM(I37:N37) -> 155 | I37: =LARGE(F4:F34,1) -> 35 | J37: =LARGE(F4:F34,2) -> 34 | K37: =LARGE(F4:F34,3) -> 32 | L37: =LARGE(F4:F34,4) -> 32 | M37: =LARGE(F4:F34,5) -> 22

Sheet N.ESCURIOLA
A1: NATALIA ESCURIOLA
A3: CAMPEONATO | E3: SEMANA | F3: PUNTOS | G3: PTOS TOTALES
A4: Internationaux De France Juniors (Trophee Esmond) | E4: 2012/15 | F4: 20 | G4: =SUM(F4) -> 20
A5: Madrid Ladies Championship | E5: 2012/12 | F5: 21 | G5: =SUM(G4,F5) -> 41
A6: Spanish Ladies Amateur - Copa S.M. La Reina | E6: 2012/09 | F6: 31 | G6: =SUM(G5,F6) -> 72
A7: Spanish International Stroke Play | E7: 2012/02 | F7: 25 | G7: =SUM(G6,F7) -> 97
A8: Spanish National Ladies | E8: 2012/22 | F8: 38 | G8: =SUM(G7,F8) -> 135
A9: European Girls Team Championship | E9: 2012/28 | F9: 18 | G9: =SUM(G8,F9) -> 153
A10: European Girls Team Championship - Individual | E10: 2012/28 | F10: 28.25 | G10: =SUM(G9,F10) -> 181.25
A11: Girls' British Open Amateur | E11: 2012/33 | F11: 25 | G11: =SUM(G10,F11) -> 206.25
A12: Grand Prix des Landes | E12: 2012/29 | F12: 34 | G12: =SUM(G11,F12) -> 240.25
G13: =SUM(G12,F13) -> 240.25
G14: =SUM(G13,F14) -> 240.25
G15: =SUM(G14,F15) -> 240.25
G16: =SUM(G15,F16) -> 240.25
G17: =SUM(G16,F17) -> 240.25
G18: =SUM(G17,F18) -> 240.25
G19: =SUM(G18,F19) -> 240.25
G20: =SUM(G19,F20) -> 240.25
G21: =SUM(G20,F21) -> 240.25
G22: =SUM(G21,F22) -> 240.25
G23: =SUM(G22,F23) -> 240.25
G24: =SUM(G23,F24) -> 240.25
... G35: =SUM(G34,F35) -> 240.25
A37: SUMA 5 MEJORES RESULTADOS. | G37: =SUM(I37:N37) -> 156.25 | I37: =LARGE(F4:F34,1) -> 38 | J37: =LARGE(F4:F34,2) -> 34 | K37: =LARGE(F4:F34,3) -> 31 | L37: =LARGE(F4:F34,4) -> 28.25 | M37: =LARGE(F4:F34,5) -> 25

Sheet N. JIMENEZ
A1: NOEMÍ JIMÉNEZ
A3: CAMPEONATO | E3: SEMANA | F3: PUNTOS | G3: PTOS TOTALES
A4: NCAA D1 East Regional | E4: 2012/19 | F4: 20 | G4: =SUM(F4) -> 20
A5: PAC-12 Championship | E5: 2012/17 | F5: 27 | G5: =SUM(G4,F5) -> 47
A6: PING/ASU Invitational | E6: 2012/13 | F6: 24 | G6: =SUM(G5,F6) -> 71
A7: Battle at Rancho Bernardo | E7: 2012/12 | F7: 15 | G7: =SUM(G6,F7) -> 86
A8: NorthropGrumman Reg Women's Challenge | E8: 2012/07 | F8: 29 | G8: =SUM(G7,F8) -> 115
A9: Arizona Wildcat Women's Invitational | E9: 2012/06 | F9: 30 | G9: =SUM(G8,F9) -> 145
A10: Spanish International Stroke Play | E10: 2012/02 | F10: 22 | G10: =SUM(G9,F10) -> 167
A11: NCAA Championship | E11: 2012/21 | F11: 34 | G11: =SUM(G10,F11) -> 201
A12: Spanish National Ladies | E12: 2012/22 | F12: 40.33 | G12: =SUM(G11,F12) -> 241.33
A13: Ladies' British Open Amateur | E13: 2012/26 | F13: 92 | G13: =SUM(G12,F13) -> 333.33
A14: Grand Prix de Chiberta | E14: 2012/27 | F14: 40 | G14: =SUM(G13,F14) -> 373.33
A15: European International Amateur | E15: 2012/30 | F15: 38 | G15: =SUM(G14,F15) -> 411.33
A16: Dale McNamara Invitational | E16: 2012/38 | F16: 29 | G16: =SUM(G15,F16) -> 440.33
G17: =SUM(G16,F17) -> 440.33
G18: =SUM(G17,F18) -> 440.33
G19: =SUM(G18,F19) -> 440.33
G20: =SUM(G19,F20) -> 440.33
G21: =SUM(G20,F21) -> 440.33
G22: =SUM(G21,F22) -> 440.33
G23: =SUM(G22,F23) -> 440.33
G24: =SUM(G23,F24) -> 440.33
G25: =SUM(G24,F25) -> 440.33
G26: =SUM(G25,F26) -> 440.33
G27: =SUM(G26,F27) -> 440.33
G28: =SUM(G27,F28) -> 440.33
... G36: =SUM(G35,F36) -> 440.33
A38: SUMA 5 MEJORES RESULTADOS. | G38: =SUM(I38:N38) -> 244.33 | I38: =LARGE(F4:F35,1) -> 92 | J38: =LARGE(F4:F35,2) -> 40.33 | K38: =LARGE(F4:F35,3) -> 40 | L38: =LARGE(F4:F35,4) -> 38 | M38: =LARGE(F4:F35,5) -> 34

Sheet L. RAS
A1: LETICIA RAS-ANDERICA
A3: CAMPEONATO | E3: SEMANA | F3: PUNTOS | G3: PTOS TOTALES
A4: NCAA D1 Central Regional | E4: 2012/19 | F4: 28 | G4: =SUM(F4) -> 28
A5: ACC Championship | E5: 2012/15 | F5: 21 | G5: =SUM(G4,F5) -> 49
A6: Rebel Intercollegiate | E6: 2012/14 | F6: 18 | G6: =SUM(G5,F6) -> 67
A7: Battle at Rancho Bernardo | E7: 2012/12 | F7: 14 | G7: =SUM(G6,F7) -> 81
A8: Hurricane Invitational | E8: 2012/10 | F8: 33 | G8: =SUM(G7,F8) -> 114
A9: Sir Pizza Cards Women's Challenge | E9: 2012/09 | F9: 30 | G9: =SUM(G8,F9) -> 144
A10: UCF Women's Challenge | E10: 2012/07 | F10: 31 | G10: =SUM(G9,F10) -> 175
A11: Spanish International Stroke Play | E11: 2012/02 | F11: 16 | G11: =SUM(G10,F11) -> 191
A12: Copa Comunidad Valenciana | E12: 2012/27 | F12: 14 | G12: =SUM(G11,F12) -> 205
A13: Campeonato de Alicante | E13: 2012/28 | F13: 27 | G13: =SUM(G12,F13) -> 232
A14: Girls' British Open Amateur | E14: 2012/33 | F14: 15 | G14: =SUM(G13,F14) -> 247
A15: Dutch Junior Open | E15: 2012/29 | F15: 29 | G15: =SUM(G14,F15) -> 276
A16: Cougar Classic | E16: 2012/37 | F16: 27 | G16: =SUM(G15,F16) -> 303
A17: Mary Fossum Invitational | E17: 2012/37 | F17: 28 | G17: =SUM(G16,F17) -> 331
G18: =SUM(G17,F18) -> 331
G19: =SUM(G18,F19) -> 331
G20: =SUM(G19,F20) -> 331
G21: =SUM(G20,F21) -> 331
G22: =SUM(G21,F22) -> 331
G23: =SUM(G22,F23) -> 331
G24: =SUM(G23,F24) -> 331
G25: =SUM(G24,F25) -> 331
G26: =SUM(G25,F26) -> 331
G27: =SUM(G26,F27) -> 331
G28: =SUM(G27,F28) -> 331
G29: =SUM(G28,F29) -> 331
... G35: =SUM(G34,F35) -> 331
A37: SUMA 5 MEJORES RESULTADOS. | G37: =SUM(I37:N37) -> 151 | I37: =LARGE(F4:F34,1) -> 33 | J37: =LARGE(F4:F34,2) -> 31 | K37: =LARGE(F4:F34,3) -> 30 | L37: =LARGE(F4:F34,4) -> 29 | M37: =LARGE(F4:F34,5) -> 28

Sheet N. ITURRIOS
A1: NURIA ITURRIOS
A3: CAMPEONATO | E3: SEMANA | F3: PUNTOS | G3: PTOS TOTALES
A4: Internationaux De France Juniors (Trophee Esmond) | E4: 2012/15 | F4: 15 | G4: =SUM(F4) -> 15
A5: Madrid Ladies Championship | E5: 2012/12 | F5: 36.5 | G5: =SUM(G4,F5) -> 51.5
A6: Spanish Ladies Amateur - Copa S.M. La Reina | E6: 2012/09 | F6: 15 | G6: =SUM(G5,F6) -> 66.5
A7: Portuguese International Ladies Amateur | E7: 2012/04 | F7: 36 | G7: =SUM(G6,F7) -> 102.5
A8: Spanish International Stroke Play | E8: 2012/02 | F8: 24 | G8: =SUM(G7,F8) -> 126.5
A9: Spanish National Ladies | E9: 2012/22 | F9: 56 | G9: =SUM(G8,F9) -> 182.5
A10: European Girls Team Championship | E10: 2012/28 | F10: 18 | G10: =SUM(G9,F10) -> 200.5
A11: European Girls Team Championship - Individual | E11: 2012/28 | F11: 19 | G11: =SUM(G10,F11) -> 219.5
A12: Annika Invitational Europe | E12: 2012/35 | F12: 18 | G12: =SUM(G11,F12) -> 237.5
A13: Girls' British Open Amateur | E13: 2012/33 | F13: 21 | G13: =SUM(G12,F13) -> 258.5
A14: European International Amateur | E14: 2012/30 | F14: 37 | G14: =SUM(G13,F14) -> 295.5
G15: =SUM(G14,F15) -> 295.5
G16: =SUM(G15,F16) -> 295.5
G17: =SUM(G16,F17) -> 295.5
G18: =SUM(G17,F18) -> 295.5
G19: =SUM(G18,F19) -> 295.5
G20: =SUM(G19,F20) -> 295.5
G21: =SUM(G20,F21) -> 295.5
G22: =SUM(G21,F22) -> 295.5
G23: =SUM(G22,F23) -> 295.5
G24: =SUM(G23,F24) -> 295.5
G25: =SUM(G24,F25) -> 295.5
G26: =SUM(G25,F26) -> 295.5
... G35: =SUM(G34,F35) -> 295.5
A37: SUMA 5 MEJORES RESULTADOS. | G37: =SUM(I37:N37) -> 189.5 | I37: =LARGE(F4:F34,1) -> 56 | J37: =LARGE(F4:F34,2) -> 37 | K37: =LARGE(F4:F34,3) -> 36.5 | L37: =LARGE(F4:F34,4) -> 36 | M37: =LARGE(F4:F34,5) -> 24

Sheet B.BUENDIA
A1: BELÉN BUENDÍA
A3: CAMPEONATO | E3: SEMANA | F3: PUNTOS | G3: PTOS TOTALES
A4: Campeonato de Espana Universitario | E4: 2012/17 | F4: 20 | G4: =SUM(F4) -> 20
A5: Spanish Ladies Amateur - Copa S.M. La Reina | E5: 2012/09 | F5: 15 | G5: =SUM(G4,F5) -> 35
A6: Spanish International Stroke Play | E6: 2012/02 | F6: 20 | G6: =SUM(G5,F6) -> 55
G7: =SUM(G6,F7) -> 55
G8: =SUM(G7,F8) -> 55
G9: =SUM(G8,F9) -> 55
G10: =SUM(G9,F10) -> 55
G11: =SUM(G10,F11) -> 55
G12: =SUM(G11,F12) -> 55
G13: =SUM(G12,F13) -> 55
G14: =SUM(G13,F14) -> 55
G15: =SUM(G14,F15) -> 55
G16: =SUM(G15,F16) -> 55
G17: =SUM(G16,F17) -> 55
G18: =SUM(G17,F18) -> 55
... G35: =SUM(G34,F35) -> 55
A37: SUMA 5 MEJORES RESULTADOS. | G37: =SUM(I37:N37) -> 55 | I37: =LARGE(F4:F34,1) -> 20 | J37: =LARGE(F4:F34,2) -> 20 | K37: =LARGE(F4:F34,3) -> 15

Sheet T.CABALLER
A1: TERESA CABALLER
A3: CAMPEONATO | E3: SEMANA | F3: PUNTOS | G3: PTOS TOTALES
A4: German International Amateur | E4: 2012/20 | F4: 19 | G4: =SUM(F4) -> 19
A5: Internationaux De France Juniors (Trophee Esmond) | E5: 2012/15 | F5: 12 | G5: =SUM(G4,F5) -> 31
A6: European Nations Cup Individual | E6: 2012/12 | F6: 33 | G6: =SUM(G5,F6) -> 64
A7: Spanish Ladies Amateur - Copa S.M. La Reina | E7: 2012/09 | F7: 36 | G7: =SUM(G6,F7) -> 100
A8: Portuguese International Ladies Amateur | E8: 2012/04 | F8: 39 | G8: =SUM(G7,F8) -> 139
A9: Spanish International Stroke Play | E9: 2012/02 | F9: 33.75 | G9: =SUM(G8,F9) -> 172.75
A10: Spanish National Ladies | E10: 2012/22 | F10: 0 | G10: =SUM(G9,F10) -> 172.75
A11: Ladies' British Open Amateur | E11: 2012/26 | F11: 16 | G11: =SUM(G10,F11) -> 188.75
G12: =SUM(G11,F12) -> 188.75
G13: =SUM(G12,F13) -> 188.75
G14: =SUM(G13,F14) -> 188.75
G15: =SUM(G14,F15) -> 188.75
G16: =SUM(G15,F16) -> 188.75
G17: =SUM(G16,F17) -> 188.75
G18: =SUM(G17,F18) -> 188.75
G19: =SUM(G18,F19) -> 188.75
G20: =SUM(G19,F20) -> 188.75
G21: =SUM(G20,F21) -> 188.75
G22: =SUM(G21,F22) -> 188.75
G23: =SUM(G22,F23) -> 188.75
... G35: =SUM(G34,F35) -> 188.75
A37: SUMA 5 MEJORES RESULTADOS. | G37: =SUM(I37:N37) -> 160.75 | I37: =LARGE(F4:F34,1) -> 39 | J37: =LARGE(F4:F34,2) -> 36 | K37: =LARGE(F4:F34,3) -> 33.75 | L37: =LARGE(F4:F34,4) -> 33 | M37: =LARGE(F4:F34,5) -> 19

Sheet A.JONAMA
A1: ANDREA JONAMA
A3: CAMPEONATO | E3: SEMANA | F3: PUNTOS | G3: PTOS TOTALES
A4: Campeonato de Catalunya Absoluto | E4: 2012/19 | F4: 25 | G4: =SUM(F4) -> 25
A5: Internationaux De France Juniors (Trophee Esmond) | E5: 2012/15 | F5: 4 | G5: =SUM(G4,F5) -> 29
A6: Spanish National Team Championship | E6: 2012/15 | F6: 22 | G6: =SUM(G5,F6) -> 51
A7: Madrid Ladies Championship | E7: 2012/12 | F7: 21 | G7: =SUM(G6,F7) -> 72
A8: Catalonian Junior Championship | E8: 2012/10 | F8: 33.75 | G8: =SUM(G7,F8) -> 105.75
A9: Spanish Ladies Amateur - Copa S.M. La Reina | E9: 2012/09 | F9: 13 | G9: =SUM(G8,F9) -> 118.75
A10: Spanish International Stroke Play | E10: 2012/02 | F10: 40.5 | G10: =SUM(G9,F10) -> 159.25
A11: Spanish National Ladies | E11: 2012/22 | F11: 29 | G11: =SUM(G10,F11) -> 188.25
A12: Valles Region Championship | E12: 2012/24 | F12: 34.75 | G12: =SUM(G11,F12) -> 223
A13: Belgian International Under 18 | E13: 2012/35 | F13: 46 | G13: =SUM(G12,F13) -> 269
A14: Girls' British Open Amateur | E14: 2012/33 | F14: 22 | G14: =SUM(G13,F14) -> 291
A15: Dutch Junior Open | E15: 2012/29 | F15: 36 | G15: =SUM(G14,F15) -> 327
G16: =SUM(G15,F16) -> 327
G17: =SUM(G16,F17) -> 327
G18: =SUM(G17,F18) -> 327
G19: =SUM(G18,F19) -> 327
G20: =SUM(G19,F20) -> 327
G21: =SUM(G20,F21) -> 327
G22: =SUM(G21,F22) -> 327
G23: =SUM(G22,F23) -> 327
G24: =SUM(G23,F24) -> 327
G25: =SUM(G24,F25) -> 327
G26: =SUM(G25,F26) -> 327
G27: =SUM(G26,F27) -> 327
... G35: =SUM(G34,F35) -> 327
A37: SUMA 5 MEJORES RESULTADOS. | G37: =SUM(I37:N37) -> 191 | I37: =LARGE(F4:F34,1) -> 46 | J37: =LARGE(F4:F34,2) -> 40.5 | K37: =LARGE(F4:F34,3) -> 36 | L37: =LARGE(F4:F34,4) -> 34.75 | M37: =LARGE(F4:F34,5) -> 33.75

Sheet A.VILARASAU
A1: ANDREA VILARASAU
A3: CAMPEONATO | E3: SEMANA | F3: PUNTOS | G3: PTOS TOTALES
A4: PING/ASU Invitational | E4: 2012/13 | F4: 14 | G4: =SUM(F4) -> 14
A5: Battle at Rancho Bernardo | E5: 2012/12 | F5: 12 | G5: =SUM(G4,F5) -> 26
A6: UNLV Spring Rebel Women's Invitational | E6: 2012/08 | F6: 32 | G6: =SUM(G5,F6) -> 58
A7: Arizona Wildcat Women's Invitational | E7: 2012/06 | F7: 24 | G7: =SUM(G6,F7) -> 82
A8: Spanish International Stroke Play | E8: 2012/02 | F8: 12 | G8: =SUM(G7,F8) -> 94
A9: Spanish National Ladies | E9: 2012/22 | F9: 33 | G9: =SUM(G8,F9) -> 127
A10: Valles Region Championship | E10: 2012/24 | F10: 32 | G10: =SUM(G9,F10) -> 159
A11: Ladies' British Open Amateur | E11: 2012/26 | F11: 9 | G11: =SUM(G10,F11) -> 168
A12: European International Amateur | E12: 2012/30 | F12: 29 | G12: =SUM(G11,F12) -> 197
A13: Mason Rudolph Championship | E13: 2012/38 | F13: 24 | G13: =SUM(G12,F13) -> 221
G14: =SUM(G13,F14) -> 221
G15: =SUM(G14,F15) -> 221
G16: =SUM(G15,F16) -> 221
G17: =SUM(G16,F17) -> 221
G18: =SUM(G17,F18) -> 221
G19: =SUM(G18,F19) -> 221
G20: =SUM(G19,F20) -> 221
G21: =SUM(G20,F21) -> 221
G22: =SUM(G21,F22) -> 221
G23: =SUM(G22,F23) -> 221
G24: =SUM(G23,F24) -> 221
G25: =SUM(G24,F25) -> 221
... G35: =SUM(G34,F35) -> 221
A37: SUMA 5 MEJORES RESULTADOS. | G37: =SUM(I37:N37) -> 150 | I37: =LARGE(F4:F34,1) -> 33 | J37: =LARGE(F4:F34,2) -> 32 | K37: =LARGE(F4:F34,3) -> 32 | L37: =LARGE(F4:F34,4) -> 29 | M37: =LARGE(F4:F34,5) -> 24

Sheet T.URQUIZU
A1: TERESA URQUIZU
A3: CAMPEONATO | E3: SEMANA | F3: PUNTOS | G3: PTOS TOTALES
A4: NCAA D1 East Regional | E4: 2012/19 | F4: 28 | G4: =SUM(F4) -> 28
A5: Big South Championship | E5: 2012/15 | F5: 24 | G5: =SUM(G4,F5) -> 52
A6: John Kirk/Panther Intercollegiate | E6: 2012/13 | F6: 14 | G6: =SUM(G5,F6) -> 66
A7: Hurricane Invitational | E7: 2012/10 | F7: 14 | G7: =SUM(G6,F7) -> 80
A8: JMU Eagle Landing Invite | E8: 2012/10 | F8: 25 | G8: =SUM(G7,F8) -> 105
A9: Kiawah Island Women's Intercollegiate | E9: 2012/09 | F9: 22 | G9: =SUM(G8,F9) -> 127
A10: Spanish International Stroke Play | E10: 2012/02 | F10: 26 | G10: =SUM(G9,F10) -> 153
A11: Spanish National Ladies | E11: 2012/22 | F11: 16 | G11: =SUM(G10,F11) -> 169
A12: Grand Prix de Chiberta | E12: 2012/27 | F12: 28 | G12: =SUM(G11,F12) -> 197
A13: Biarritz Cup | E13: 2012/28 | F13: 12 | G13: =SUM(G12,F13) -> 209
A14: Golfweek Program Challenge | E14: 2012/37 | F14: 32 | G14: =SUM(G13,F14) -> 241
A15: Grand Prix des Landes | E15: 2012/29 | F15: 22 | G15: =SUM(G14,F15) -> 263
G16: =SUM(G15,F16) -> 263
G17: =SUM(G16,F17) -> 263
G18: =SUM(G17,F18) -> 263
G19: =SUM(G18,F19) -> 263
G20: =SUM(G19,F20) -> 263
G21: =SUM(G20,F21) -> 263
G22: =SUM(G21,F22) -> 263
G23: =SUM(G22,F23) -> 263
G24: =SUM(G23,F24) -> 263
G25: =SUM(G24,F25) -> 263
G26: =SUM(G25,F26) -> 263
G27: =SUM(G26,F27) -> 263
... G35: =SUM(G34,F35) -> 263
A37: SUMA 5 MEJORES RESULTADOS. | G37: =SUM(I37:N37) -> 139 | I37: =LARGE(F4:F34,1) -> 32 | J37: =LARGE(F4:F34,2) -> 28 | K37: =LARGE(F4:F34,3) -> 28 | L37: =LARGE(F4:F34,4) -> 26 | M37: =LARGE(F4:F34,5) -> 25

Sheet M.VIZCARRONDO
A1: MAYTE VIZCARRONDO
A3: CAMPEONATO | E3: SEMANA | F3: PUNTOS | G3: PTOS TOTALES
A4: Atlantic Sun Championship | E4: 2012/15 | F4: 27 | G4: =SUM(F4) -> 27
A5: John Kirk/Panther Intercollegiate | E5: 2012/13 | F5: 15 | G5: =SUM(G4,F5) -> 42
A6: Insperity Lady Jaguar Intercollegiate | E6: 2012/11 | F6: 27 | G6: =SUM(G5,F6) -> 69
A7: JMU Eagle Landing Invite | E7: 2012/10 | F7: 24 | G7: =SUM(G6,F7) -> 93
A8: Sir Pizza Cards Women's Challenge | E8: 2012/09 | F8: 23 | G8: =SUM(G7,F8) -> 116
G9: =SUM(G8,F9) -> 116
G10: =SUM(G9,F10) -> 116
G11: =SUM(G10,F11) -> 116
G12: =SUM(G11,F12) -> 116
G13: =SUM(G12,F13) -> 116
G14: =SUM(G13,F14) -> 116
G15: =SUM(G14,F15) -> 116
G16: =SUM(G15,F16) -> 116
G17: =SUM(G16,F17) -> 116
G18: =SUM(G17,F18) -> 116
G19: =SUM(G18,F19) -> 116
G20: =SUM(G19,F20) -> 116
... G35: =SUM(G34,F35) -> 116
A37: SUMA 5 MEJORES RESULTADOS. | G37: =SUM(I37:N37) -> 116 | I37: =LARGE(F4:F34,1) -> 27 | J37: =LARGE(F4:F34,2) -> 27 | K37: =LARGE(F4:F34,3) -> 24 | L37: =LARGE(F4:F34,4) -> 23 | M37: =LARGE(F4:F34,5) -> 15

Sheet SONIASANCHEZ
A1: SONIA SÁNCHEZ FERNÁNDEZ
A3: CAMPEONATO | E3: SEMANA | F3: PUNTOS | G3: PTOS TOTALES
A4: Campeonato de Catalunya Absoluto | E4: 2012/19 | F4: 16 | G4: =SUM(F4) -> 16
A5: Campeonato de Espana Cadete Reale | E5: 2012/18 | F5: 17 | G5: =SUM(G4,F5) -> 33
A6: Spanish National Team Championship | E6: 2012/15 | F6: 27.75 | G6: =SUM(G5,F6) -> 60.75
A7: Madrid Ladies Championship | E7: 2012/12 | F7: 23 | G7: =SUM(G6,F7) -> 83.75
A8: Catalonian Junior Championship | E8: 2012/10 | F8: 18 | G8: =SUM(G7,F8) -> 101.75
A9: Spanish International Stroke Play | E9: 2012/02 | F9: 22 | G9: =SUM(G8,F9) -> 123.75
A10: Spanish National Ladies | E10: 2012/22 | F10: 33 | G10: =SUM(G9,F10) -> 156.75
A11: Grand Prix de Chiberta | E11: 2012/27 | F11: 9 | G11: =SUM(G10,F11) -> 165.75
A12: Belgian International Under 18 | E12: 2012/35 | F12: 32 | G12: =SUM(G11,F12) -> 197.75
A13: Girls' British Open Amateur | E13: 2012/33 | F13: 15 | G13: =SUM(G12,F13) -> 212.75
A14: Grand Prix des Landes | E14: 2012/29 | F14: 35 | G14: =SUM(G13,F14) -> 247.75
G15: =SUM(G14,F15) -> 247.75
G16: =SUM(G15,F16) -> 247.75
G17: =SUM(G16,F17) -> 247.75
G18: =SUM(G17,F18) -> 247.75
G19: =SUM(G18,F19) -> 247.75
G20: =SUM(G19,F20) -> 247.75
G21: =SUM(G20,F21) -> 247.75
G22: =SUM(G21,F22) -> 247.75
G23: =SUM(G22,F23) -> 247.75
G24: =SUM(G23,F24) -> 247.75
G25: =SUM(G24,F25) -> 247.75
G26: =SUM(G25,F26) -> 247.75
... G35: =SUM(G34,F35) -> 247.75
A37: SUMA 5 MEJORES RESULTADOS. | G37: =SUM(I37:N37) -> 150.75 | I37: =LARGE(F4:F34,1) -> 35 | J37: =LARGE(F4:F34,2) -> 33 | K37: =LARGE(F4:F34,3) -> 32 | L37: =LARGE(F4:F34,4) -> 27.75 | M37: =LARGE(F4:F34,5) -> 23

Sheet E.FOLCH
A1: ELIA FOLCH
A3: CAMPEONATO | E3: SEMANA | F3: PUNTOS | G3: PTOS TOTALES
A4: NJCAA National Championship | E4: 2012/20 | F4: 28 | G4: =SUM(F4) -> 28
A5: University of Cincinnati Spring Invite | E5: 2012/12 | F5: 22 | G5: =SUM(G4,F5) -> 50
A6: Lady Moc Classic | E6: 2012/08 | F6: 36.25 | G6: =SUM(G5,F6) -> 86.25
A7: Spanish National Ladies | E7: 2012/22 | F7: 25 | G7: =SUM(G6,F7) -> 111.25
A8: Valles Region Championship | E8: 2012/24 | F8: 21 | G8: =SUM(G7,F8) -> 132.25
G9: =SUM(G8,F9) -> 132.25
G10: =SUM(G9,F10) -> 132.25
G11: =SUM(G10,F11) -> 132.25
G12: =SUM(G11,F12) -> 132.25
G13: =SUM(G12,F13) -> 132.25
G14: =SUM(G13,F14) -> 132.25
G15: =SUM(G14,F15) -> 132.25
G16: =SUM(G15,F16) -> 132.25
G17: =SUM(G16,F17) -> 132.25
G18: =SUM(G17,F18) -> 132.25
G19: =SUM(G18,F19) -> 132.25
G20: =SUM(G19,F20) -> 132.25
... G35: =SUM(G34,F35) -> 132.25
A37: SUMA 5 MEJORES RESULTADOS. | G37: =SUM(I37:N37) -> 132.25 | I37: =LARGE(F4:F34,1) -> 36.25 | J37: =LARGE(F4:F34,2) -> 28 | K37: =LARGE(F4:F34,3) -> 25 | L37: =LARGE(F4:F34,4) -> 22 | M37: =LARGE(F4:F34,5) -> 21

Sheet T.NOGUES
A1: TERESA NOGUÉS FRAILE
A3: CAMPEONATO | E3: SEMANA | F3: PUNTOS | G3: PTOS TOTALES
A4: C-USA Championship | E4: 2012/17 | F4: 15 | G4: =SUM(F4) -> 15
A5: Wyoming Cowgirl Classic | E5: 2012/15 | F5: 24 | G5: =SUM(G4,F5) -> 39
A6: UALR Classic | E6: 2012/13 | F6: 30 | G6: =SUM(G5,F6) -> 69
A7: Dr Donnis Thompson Invitational | E7: 2012/11 | F7: 25 | G7: =SUM(G6,F7) -> 94
A8: Westbrook Women's Invitational | E8: 2012/09 | F8: 24 | G8: =SUM(G7,F8) -> 118
G9: =SUM(G8,F9) -> 118
G10: =SUM(G9,F10) -> 118
G11: =SUM(G10,F11) -> 118
G12: =SUM(G11,F12) -> 118
G13: =SUM(G12,F13) -> 118
G14: =SUM(G13,F14) -> 118
G15: =SUM(G14,F15) -> 118
G16: =SUM(G15,F16) -> 118
G17: =SUM(G16,F17) -> 118
G18: =SUM(G17,F18) -> 118
G19: =SUM(G18,F19) -> 118
G20: =SUM(G19,F20) -> 118
... G35: =SUM(G34,F35) -> 118
A37: SUMA 5 MEJORES RESULTADOS. | G37: =SUM(I37:N37) -> 118 | I37: =LARGE(F4:F34,1) -> 30 | J37: =LARGE(F4:F34,2) -> 25 | K37: =LARGE(F4:F34,3) -> 24 | L37: =LARGE(F4:F34,4) -> 24 | M37: =LARGE(F4:F34,5) -> 15

Sheet M.GOYOS
A1: MANDY GOYOS
A3: CAMPEONATO | E3: SEMANA | F3: PUNTOS | G3: PTOS TOTALES
A4: Campeonato de Espana Universitario | E4: 2012/17 | F4: 30 | G4: =SUM(F4) -> 30
A5: Portuguese International Ladies Amateur | E5: 2012/04 | F5: 22 | G5: =SUM(G4,F5) -> 52
G6: =SUM(G5,F6) -> 52
G7: =SUM(G6,F7) -> 52
G8: =SUM(G7,F8) -> 52
G9: =SUM(G8,F9) -> 52
G10: =SUM(G9,F10) -> 52
G11: =SUM(G10,F11) -> 52
G12: =SUM(G11,F12) -> 52
G13: =SUM(G12,F13) -> 52
G14: =SUM(G13,F14) -> 52
G15: =SUM(G14,F15) -> 52
G16: =SUM(G15,F16) -> 52
G17: =SUM(G16,F17) -> 52
... G35: =SUM(G34,F35) -> 52
A37: SUMA 5 MEJORES RESULTADOS. | G37: =SUM(I37:N37) -> 52 | I37: =LARGE(F4:F34,1) -> 30 | J37: =LARGE(F4:F34,2) -> 22

Sheet ME.VILLAMIL
A1: MARÍA ELENA VILLAMIL
A3: CAMPEONATO | E3: SEMANA | F3: PUNTOS | G3: PTOS TOTALES
A4: C-USA Championship | E4: 2012/17 | F4: 20 | G4: =SUM(F4) -> 20
A5: Mountain View Collegiate | E5: 2012/12 | F5: 23 | G5: =SUM(G4,F5) -> 43
A6: Clover Cup | E6: 2012/11 | F6: 17 | G6: =SUM(G5,F6) -> 60
A7: Lady Puerto Rico Classic | E7: 2012/07 | F7: 16 | G7: =SUM(G6,F7) -> 76
A8: Spanish International Stroke Play | E8: 2012/02 | F8: 20 | G8: =SUM(G7,F8) -> 96
A9: Campeonato de Madrid Junior | E9: 2012/27 | F9: 16 | G9: =SUM(G8,F9) -> 112
A10: Campeonato Absoluto del Principado de Asturias | E10: 2012/31 | F10: 24 | G10: =SUM(G9,F10) -> 136
A11: European International Amateur | E11: 2012/30 | F11: 24 | G11: =SUM(G10,F11) -> 160
A12: Dale McNamara Invitational | E12: 2012/38 | F12: 15 | G12: =SUM(G11,F12) -> 175
A13: Chip-N Club Invitational | E13: 2012/37 | F13: 24 | G13: =SUM(G12,F13) -> 199
G14: =SUM(G13,F14) -> 199
G15: =SUM(G14,F15) -> 199
G16: =SUM(G15,F16) -> 199
G17: =SUM(G16,F17) -> 199
G18: =SUM(G17,F18) -> 199
G19: =SUM(G18,F19) -> 199
G20: =SUM(G19,F20) -> 199
G21: =SUM(G20,F21) -> 199
G22: =SUM(G21,F22) -> 199
G23: =SUM(G22,F23) -> 199
G24: =SUM(G23,F24) -> 199
G25: =SUM(G24,F25) -> 199
... G35: =SUM(G34,F35) -> 199
A37: SUMA 5 MEJORES RESULTADOS. | G37: =SUM(I37:N37) -> 115 | I37: =LARGE(F4:F34,1) -> 24 | J37: =LARGE(F4:F34,2) -> 24 | K37: =LARGE(F4:F34,3) -> 24 | L37: =LARGE(F4:F34,4) -> 23 | M37: =LARGE(F4:F34,5) -> 20

Sheet C.SARDINERO
A1: CAMINO SARDINERO
A3: CAMPEONATO | E3: SEMANA | F3: PUNTOS | G3: PTOS TOTALES
A4: C-USA Championship | E4: 2012/17 | F4: 13 | G4: =SUM(F4) -> 13
A5: Wyoming Cowgirl Classic | E5: 2012/15 | F5: 22 | G5: =SUM(G4,F5) -> 35
A6: UALR Classic | E6: 2012/13 | F6: 24 | G6: =SUM(G5,F6) -> 59
A7: Dr Donnis Thompson Invitational | E7: 2012/11 | F7: 22 | G7: =SUM(G6,F7) -> 81
A8: Westbrook Women's Invitational | E8: 2012/09 | F8: 16 | G8: =SUM(G7,F8) -> 97
A9: Spanish International Stroke Play | E9: 2012/02 | F9: 13 | G9: =SUM(G8,F9) -> 110
A10: Campeonato de Madrid Junior | E10: 2012/27 | F10: 14 | G10: =SUM(G9,F10) -> 124
A11: Branch Law Firm - Dick McGuire Invitational | E11: 2012/38 | F11: 14 | G11: =SUM(G10,F11) -> 138
A12: Colonel Wollenberg's Ram Classic | E12: 2012/37 | F12: 17 | G12: =SUM(G11,F12) -> 155
G13: =SUM(G12,F13) -> 155
G14: =SUM(G13,F14) -> 155
G15: =SUM(G14,F15) -> 155
G16: =SUM(G15,F16) -> 155
G17: =SUM(G16,F17) -> 155
G18: =SUM(G17,F18) -> 155
G19: =SUM(G18,F19) -> 155
G20: =SUM(G19,F20) -> 155
G21: =SUM(G20,F21) -> 155
G22: =SUM(G21,F22) -> 155
G23: =SUM(G22,F23) -> 155
G24: =SUM(G23,F24) -> 155
... G35: =SUM(G34,F35) -> 155
A37: SUMA 5 MEJORES RESULTADOS. | G37: =SUM(I37:N37) -> 101 | I37: =LARGE(F4:F34,1) -> 24 | J37: =LARGE(F4:F34,2) -> 22 | K37: =LARGE(F4:F34,3) -> 22 | L37: =LARGE(F4:F34,4) -> 17 | M37: =LARGE(F4:F34,5) -> 16

Sheet C.SANJUAN
A1: COVADONGA SANJUÁN
A3: CAMPEONATO | E3: SEMANA | F3: PUNTOS | G3: PTOS TOTALES
A4: Madrid Ladies Championship | E4: 2012/12 | F4: 25 | G4: =SUM(F4) -> 25
A5: Portuguese International Ladies Amateur | E5: 2012/04 | F5: 35 | G5: =SUM(G4,F5) -> 60
A6: Spanish International Stroke Play | E6: 2012/02 | F6: 28 | G6: =SUM(G5,F6) -> 88
A7: Spanish National Ladies | E7: 2012/22 | F7: 40.33 | G7: =SUM(G6,F7) -> 128.33
A8: North of England Under 16 Stroke Play | E8: 2012/34 | F8: 29 | G8: =SUM(G7,F8) -> 157.33
A9: Girls' British Open Amateur | E9: 2012/33 | F9: 9 | G9: =SUM(G8,F9) -> 166.33
A10: Campeonato Absoluto del Principado de Asturias | E10: 2012/31 | F10: 22 | G10: =SUM(G9,F10) -> 188.33
A11: European Young Masters | E11: 2012/30 | F11: 37.5 | G11: =SUM(G10,F11) -> 225.83
A12: Grand Prix de Chiberta | E12: 2012/27 | F12: 35 | G12: =SUM(G11,F12) -> 260.83
G13: =SUM(G12,F13) -> 260.83
G14: =SUM(G13,F14) -> 260.83
G15: =SUM(G14,F15) -> 260.83
G16: =SUM(G15,F16) -> 260.83
G17: =SUM(G16,F17) -> 260.83
G18: =SUM(G17,F18) -> 260.83
G19: =SUM(G18,F19) -> 260.83
G20: =SUM(G19,F20) -> 260.83
G21: =SUM(G20,F21) -> 260.83
G22: =SUM(G21,F22) -> 260.83
G23: =SUM(G22,F23) -> 260.83
G24: =SUM(G23,F24) -> 260.83
... G35: =SUM(G34,F35) -> 260.83
A37: SUMA 5 MEJORES RESULTADOS. | G37: =SUM(I37:N37) -> 176.83 | I37: =LARGE(F4:F34,1) -> 40.33 | J37: =LARGE(F4:F34,2) -> 37.5 | K37: =LARGE(F4:F34,3) -> 35 | L37: =LARGE(F4:F34,4) -> 35 | M37: =LARGE(F4:F34,5) -> 29

Sheet C.BARQUIN
A1: CELIA BARQUÍN AROZAMENA
A3: CAMPEONATO | E3: SEMANA | F3: PUNTOS | G3: PTOS TOTALES
A4: Campeonato de Espana Cadete Reale | E4: 2012/18 | F4: 12 | G4: =SUM(F4) -> 12
A5: Madrid Ladies Championship | E5: 2012/12 | F5: 20 | G5: =SUM(G4,F5) -> 32
A6: Portuguese International Ladies Amateur | E6: 2012/04 | F6: 38 | G6: =SUM(G5,F6) -> 70
A7: Spanish International Stroke Play | E7: 2012/02 | F7: 26 | G7: =SUM(G6,F7) -> 96
A8: Spanish National Ladies | E8: 2012/22 | F8: 27 | G8: =SUM(G7,F8) -> 123
A9: Grand Prix de Chiberta | E9: 2012/27 | F9: 52 | G9: =SUM(G8,F9) -> 175
A10: North of England Under 16 Stroke Play | E10: 2012/34 | F10: 28 | G10: =SUM(G9,F10) -> 203
A11: Girls' British Open Amateur | E11: 2012/33 | F11: 55 | G11: =SUM(G10,F11) -> 258
A12: Campeonato Absoluto del Principado de Asturias | E12: 2012/31 | F12: 28 | G12: =SUM(G11,F12) -> 286
G13: =SUM(G12,F13) -> 286
G14: =SUM(G13,F14) -> 286
G15: =SUM(G14,F15) -> 286
G16: =SUM(G15,F16) -> 286
G17: =SUM(G16,F17) -> 286
G18: =SUM(G17,F18) -> 286
G19: =SUM(G18,F19) -> 286
G20: =SUM(G19,F20) -> 286
G21: =SUM(G20,F21) -> 286
G22: =SUM(G21,F22) -> 286
G23: =SUM(G22,F23) -> 286
G24: =SUM(G23,F24) -> 286
... G35: =SUM(G34,F35) -> 286
A37: SUMA 5 MEJORES RESULTADOS. | G37: =SUM(I37:N37) -> 201 | I37: =LARGE(F4:F34,1) -> 55 | J37: =LARGE(F4:F34,2) -> 52 | K37: =LARGE(F4:F34,3) -> 38 | L37: =LARGE(F4:F34,4) -> 28 | M37: =LARGE(F4:F34,5) -> 28

Sheet A.PASARIN
A1: ALEJANDRA PASARÍN OLALLA
A3: CAMPEONATO | E3: SEMANA | F3: PUNTOS | G3: PTOS TOTALES
A4: Campeonato de Espana Cadete Reale | E4: 2012/18 | F4: 20 | G4: =SUM(F4) -> 20
A5: Madrid Ladies Championship | E5: 2012/12 | F5: 28 | G5: =SUM(G4,F5) -> 48
A6: Portuguese International Ladies Amateur | E6: 2012/04 | F6: 15 | G6: =SUM(G5,F6) -> 63
A7: Spanish International Stroke Play | E7: 2012/02 | F7: 30 | G7: =SUM(G6,F7) -> 93
A8: Spanish National Ladies | E8: 2012/22 | F8: 27 | G8: =SUM(G7,F8) -> 120
A9: North of England Under 16 Stroke Play | E9: 2012/34 | F9: 26 | G9: =SUM(G8,F9) -> 146
A10: Girls' British Open Amateur | E10: 2012/33 | F10: 10 | G10: =SUM(G9,F10) -> 156
A11: Campeonato Absoluto del Principado de Asturias | E11: 2012/31 | F11: 48 | G11: =SUM(G10,F11) -> 204
A12: European Young Masters | E12: 2012/30 | F12: 27 | G12: =SUM(G11,F12) -> 231
G13: =SUM(G12,F13) -> 231
G14: =SUM(G13,F14) -> 231
G15: =SUM(G14,F15) -> 231
G16: =SUM(G15,F16) -> 231
G17: =SUM(G16,F17) -> 231
G18: =SUM(G17,F18) -> 231
G19: =SUM(G18,F19) -> 231
G20: =SUM(G19,F20) -> 231
G21: =SUM(G20,F21) -> 231
G22: =SUM(G21,F22) -> 231
G23: =SUM(G22,F23) -> 231
G24: =SUM(G23,F24) -> 231
... G35: =SUM(G34,F35) -> 231
A37: SUMA 5 MEJORES RESULTADOS | G37: =SUM(I37:N37) -> 160 | I37: =LARGE(F4:F34,1) -> 48 | J37: =LARGE(F4:F34,2) -> 30 | K37: =LARGE(F4:F34,3) -> 28 | L37: =LARGE(F4:F34,4) -> 27 | M37: =LARGE(F4:F34,5) -> 27

Sheet C.LAGUNA
A1: CARMEN LAGUNA
A3: CAMPEONATO | E3: SEMANA | F3: PUNTOS | G3: PTOS TOTALES
A4: Big Ten Championship | E4: 2012/17 | F4: 16 | G4: =SUM(F4) -> 16
A5: Lady Buckeye Spring Invite | E5: 2012/16 | F5: 23 | G5: =SUM(G4,F5) -> 39
A6: Rebel Intercollegiate | E6: 2012/14 | F6: 29 | G6: =SUM(G5,F6) -> 68
B7: Clover Cup | E7: 2012/11 | F7: 28 | G7: =SUM(G6,F7) -> 96
A8: Central District Women's Invitational | E8: 2012/08 | F8: 26 | G8: =SUM(G7,F8) -> 122
A9: UCF Women's Challenge | E9: 2012/07 | F9: 19 | G9: =SUM(G8,F9) -> 141
A10: Spanish International Stroke Play | E10: 2012/02 | F10: 6 | G10: =SUM(G9,F10) -> 147
A11: Spanish National Ladies | E11: 2012/22 | F11: 20 | G11: =SUM(G10,F11) -> 167
A12: Mary Fossum Invitational | E12: 2012/37 | F12: 28 | G12: =SUM(G11,F12) -> 195
G13: =SUM(G12,F13) -> 195
G14: =SUM(G13,F14) -> 195
G15: =SUM(G14,F15) -> 195
G16: =SUM(G15,F16) -> 195
G17: =SUM(G16,F17) -> 195
G18: =SUM(G17,F18) -> 195
G19: =SUM(G18,F19) -> 195
G20: =SUM(G19,F20) -> 195
G21: =SUM(G20,F21) -> 195
G22: =SUM(G21,F22) -> 195
G23: =SUM(G22,F23) -> 195
G24: =SUM(G23,F24) -> 195
... G35: =SUM(G34,F35) -> 195
A37: SUMA 5 MEJORES RESULTADOS | G37: =SUM(I37:N37) -> 154 | I37: =LARGE(F4:F34,1) -> 29 | J37: =LARGE(F4:F34,2) -> 28 | K37: =LARGE(F4:F34,3) -> 28 | L37: =LARGE(F4:F34,4) -> 26 | M37: =LARGE(F4:F34,5) -> 23 | N37: =LARGE(F4:F34,6) -> 20

Sheet G.FUSTER
A1: GEMMA FÚSTER ANGLADA
A3: CAMPEONATO | E3: SEMANA | F3: PUNTOS | G3: PTOS TOTALES
A4: CAA Championship | E4: 2012/16 | F4: 18 | G4: =SUM(F4) -> 18
A5: Hoya Invitational | E5: 2012/14 | F5: 12 | G5: =SUM(G4,F5) -> 30
A6: Pinehurst Challenge | E6: 2012/12 | F6: 22 | G6: =SUM(G5,F6) -> 52
A7: UNCW Seahawk Classic | E7: 2012/12 | F7: 26 | G7: =SUM(G6,F7) -> 78
A8: JMU Eagle Landing Invite | E8: 2012/10 | F8: 18 | G8: =SUM(G7,F8) -> 96
A9: Kiawah Island Women's Intercollegiate | E9: 2012/09 | F9: 27 | G9: =SUM(G8,F9) -> 123
A10: Spanish National Ladies | E10: 2012/22 | F10: 1 | G10: =SUM(G9,F10) -> 124
A11: Valles Region Championship | E11: 2012/24 | F11: 5 | G11: =SUM(G10,F11) -> 129
G12: =SUM(G11,F12) -> 129
G13: =SUM(G12,F13) -> 129
G14: =SUM(G13,F14) -> 129
G15: =SUM(G14,F15) -> 129
G16: =SUM(G15,F16) -> 129
G17: =SUM(G16,F17) -> 129
G18: =SUM(G17,F18) -> 129
G19: =SUM(G18,F19) -> 129
G20: =SUM(G19,F20) -> 129
G21: =SUM(G20,F21) -> 129
G22: =SUM(G21,F22) -> 129
G23: =SUM(G22,F23) -> 129
... G35: =SUM(G34,F35) -> 129
A37: SUMA 5 MEJORES RESULTADOS | G37: =SUM(I37:N37) -> 111 | I37: =LARGE(F4:F34,1) -> 27 | J37: =LARGE(F4:F34,2) -> 26 | K37: =LARGE(F4:F34,3) -> 22 | L37: =LARGE(F4:F34,4) -> 18 | M37: =LARGE(F4:F34,5) -> 18

Sheet B.SARABIA
A1: BEGOÑA SARABIA
A3: CAMPEONATO | E3: SEMANA | F3: PUNTOS | G3: PTOS TOTALES
A4: Southern Conference Championship | E4: 2012/16 | F4: 24 | G4: =SUM(F4) -> 24
A5: Bryan National Collegiate | E5: 2012/14 | F5: 18 | G5: =SUM(G4,F5) -> 42
A6: Pinehurst Challenge | E6: 2012/12 | F6: 24 | G6: =SUM(G5,F6) -> 66
A7: JMU Eagle Landing Invite | E7: 2012/10 | F7: 12 | G7: =SUM(G6,F7) -> 78
A8: Kiawah Island Women's Intercollegiate | E8: 2012/09 | F8: 11 | G8: =SUM(G7,F8) -> 89
G9: =SUM(G8,F9) -> 89
G10: =SUM(G9,F10) -> 89
G11: =SUM(G10,F11) -> 89
G12: =SUM(G11,F12) -> 89
G13: =SUM(G12,F13) -> 89
G14: =SUM(G13,F14) -> 89
G15: =SUM(G14,F15) -> 89
G16: =SUM(G15,F16) -> 89
G17: =SUM(G16,F17) -> 89
G18: =SUM(G17,F18) -> 89
G19: =SUM(G18,F19) -> 89
G20: =SUM(G19,F20) -> 89
... G35: =SUM(G34,F35) -> 89
A37: SUMA 5 MEJORES RESULTADOS | G37: =SUM(I37:N37) -> 89 | I37: =LARGE(F4:F34,1) -> 24 | J37: =LARGE(F4:F34,2) -> 24 | K37: =LARGE(F4:F34,3) -> 18 | L37: =LARGE(F4:F34,4) -> 12 | M37: =LARGE(F4:F34,5) -> 11

Sheet L.LOPEZC
A1: LOURDES LÓPEZ CABALLO
A3: CAMPEONATO | E3: SEMANA | F3: PUNTOS | G3: PTOS TOTALES
A4: NCAA D1 East Regional | E4: 2012/19 | F4: 13 | G4: =SUM(F4) -> 13
A5: Ohio Valley Conference Championship | E5: 2012/17 | F5: 27 | G5: =SUM(G4,F5) -> 40
A6: Samford University Intercollegiate | E6: 2012/15 | F6: 13 | G6: =SUM(G5,F6) -> 53
A7: John Kirk/Panther Intercollegiate | E7: 2012/13 | F7: 24 | G7: =SUM(G6,F7) -> 77
A8: MSU Ocala Spring Invitational | E8: 2012/12 | F8: 14 | G8: =SUM(G7,F8) -> 91
A9: Kiawah Island Women's Intercollegiate | E9: 2012/09 | F9: 11 | G9: =SUM(G8,F9) -> 102
A10: Cardinal Cup | E10: 2012/38 | F10: 24 | G10: =SUM(G9,F10) -> 126
G11: =SUM(G10,F11) -> 126
G12: =SUM(G11,F12) -> 126
G13: =SUM(G12,F13) -> 126
G14: =SUM(G13,F14) -> 126
G15: =SUM(G14,F15) -> 126
G16: =SUM(G15,F16) -> 126
G17: =SUM(G16,F17) -> 126
G18: =SUM(G17,F18) -> 126
G19: =SUM(G18,F19) -> 126
G20: =SUM(G19,F20) -> 126
G21: =SUM(G20,F21) -> 126
G22: =SUM(G21,F22) -> 126
... G35: =SUM(G34,F35) -> 126
A37: SUMA 5 MEJORES RESULTADOS | G37: =SUM(I37:N37) -> 102 | I37: =LARGE(F4:F34,1) -> 27 | J37: =LARGE(F4:F34,2) -> 24 | K37: =LARGE(F4:F34,3) -> 24 | L37: =LARGE(F4:F34,4) -> 14 | M37: =LARGE(F4:F34,5) -> 13

Sheet A.ARRESE
A1: ANNA ARRESE
A3: CAMPEONATO | E3: SEMANA | F3: PUNTOS | G3: PTOS TOTALES
A4: NAIA Championships | E4: 2012/20 | F4: 41 | G4: =SUM(F4) -> 41
A5: Spanish International Stroke Play | E5: 2012/02 | F5: 12 | G5: =SUM(G4,F5) -> 53
A6: Spanish National Ladies | E6: 2012/22 | F6: 19 | G6: =SUM(G5,F6) -> 72
A7: Valles Region Championship | E7: 2012/24 | F7: 18 | G7: =SUM(G6,F7) -> 90
A8: Finnish Amateur | E8: 2012/33 | F8: 7 | G8: =SUM(G7,F8) -> 97
A9: Grand Prix des Landes | E9: 2012/29 | F9: 34 | G9: =SUM(G8,F9) -> 131
G10: =SUM(G9,F10) -> 131
G11: =SUM(G10,F11) -> 131
G12: =SUM(G11,F12) -> 131
G13: =SUM(G12,F13) -> 131
G14: =SUM(G13,F14) -> 131
G15: =SUM(G14,F15) -> 131
G16: =SUM(G15,F16) -> 131
G17: =SUM(G16,F17) -> 131
G18: =SUM(G17,F18) -> 131
G19: =SUM(G18,F19) -> 131
G20: =SUM(G19,F20) -> 131
G21: =SUM(G20,F21) -> 131
... G35: =SUM(G34,F35) -> 131
A37: SUMA 5 MEJORES RESULTADOS | G37: =SUM(I37:N37) -> 124 | I37: =LARGE(F4:F34,1) -> 41 | J37: =LARGE(F4:F34,2) -> 34 | K37: =LARGE(F4:F34,3) -> 19 | L37: =LARGE(F4:F34,4) -> 18 | M37: =LARGE(F4:F34,5) -> 12

Sheet C.SAINZ
A1: CARMEN SAINZ DELGADO
A3: CAMPEONATO | E3: SEMANA | F3: PUNTOS | G3: PTOS TOTALES
A4: Campeonato de Espana Cadete Reale | E4: 2012/18 | F4: 17 | G4: =SUM(F4) -> 17
A5: Grand Prix de la Nivelle | E5: 2012/15 | F5: 35.75 | G5: =SUM(G4,F5) -> 52.75
A6: Madrid Ladies Championship | E6: 2012/12 | F6: 25 | G6: =SUM(G5,F6) -> 77.75
A7: Spanish International Stroke Play | E7: 2012/02 | F7: 22 | G7: =SUM(G6,F7) -> 99.75
A8: Spanish National Ladies | E8: 2012/22 | F8: 15 | G8: =SUM(G7,F8) -> 114.75
A9: Biarritz Cup | E9: 2012/28 | F9: 34 | G9: =SUM(G8,F9) -> 148.75
A10: Campeonato Absoluto Pais Vasco | E10: 2012/31 | F10: 24 | G10: =SUM(G9,F10) -> 172.75
A11: Grand Prix des Landes | E11: 2012/29 | F11: 28 | G11: =SUM(G10,F11) -> 200.75
G12: =SUM(G11,F12) -> 200.75
G13: =SUM(G12,F13) -> 200.75
G14: =SUM(G13,F14) -> 200.75
G15: =SUM(G14,F15) -> 200.75
G16: =SUM(G15,F16) -> 200.75
G17: =SUM(G16,F17) -> 200.75
G18: =SUM(G17,F18) -> 200.75
G19: =SUM(G18,F19) -> 200.75
G20: =SUM(G19,F20) -> 200.75
G21: =SUM(G20,F21) -> 200.75
G22: =SUM(G21,F22) -> 200.75
G23: =SUM(G22,F23) -> 200.75
... G35: =SUM(G34,F35) -> 200.75
A37: SUMA 5 MEJORES RESULTADOS | G37: =SUM(I37:N37) -> 146.75 | I37: =LARGE(F4:F34,1) -> 35.75 | J37: =LARGE(F4:F34,2) -> 34 | K37: =LARGE(F4:F34,3) -> 28 | L37: =LARGE(F4:F34,4) -> 25 | M37: =LARGE(F4:F34,5) -> 24

Sheet M.TRILLO
