Workbook
Name http___wagr.randa.org_default.sps?pagegid__7B7CB9116A_2DC752_2D48D1_2D89C1_2DB45AD073067C_7D_redirectorid_player_PlayerId_2847_sort_week_sortorder_desc_search_1: 'WAGR 2014'!#REF!
Name http___wagr.randa.org_default.sps?pagegid__7B7CB9116A_2DC752_2D48D1_2D89C1_2DB45AD073067C_7D_redirectorid_player_PlayerId_2847_sort_week_sortorder_desc_search_1: 'WAGR 2014'!#REF!
Name http___wagr.randa.org_default.sps?pagegid__7B7CB9116A_2DC752_2D48D1_2D89C1_2DB45AD073067C_7D_redirectorid_player_PlayerId_2847_sort_week_sortorder_desc_search_1: 'WAGR 2014'!#REF!
Name http___wagr.randa.org_default.sps?pagegid__7B7CB9116A_2DC752_2D48D1_2D89C1_2DB45AD073067C_7D_redirectorid_player_PlayerId_2847_sort_week_sortorder_desc_search_1: 'WAGR 2014'!#REF!
Name http___wagr.randa.org_default.sps?pagegid__7B7CB9116A_2DC752_2D48D1_2D89C1_2DB45AD073067C_7D_redirectorid_player_PlayerId_2847_sort_week_sortorder_desc_search_1: 'WAGR 2014'!#REF!
Name http___wagr.randa.org_default.sps?pagegid__7B7CB9116A_2DC752_2D48D1_2D89C1_2DB45AD073067C_7D_redirectorid_player_PlayerId_2847_sort_week_sortorder_desc_search_1: 'WAGR 2014'!#REF!
Name http___wagr.randa.org_default.sps?pagegid__7B7CB9116A_2DC752_2D48D1_2D89C1_2DB45AD073067C_7D_redirectorid_player_PlayerId_2847_sort_week_sortorder_desc_search_1: 'WAGR 2014'!#REF!
Name http___wagr.randa.org_default.sps?pagegid__7B7CB9116A_2DC752_2D48D1_2D89C1_2DB45AD073067C_7D_redirectorid_player_PlayerId_2847_sort_week_sortorder_desc_search_1: 'WAGR 2014'!#REF!
Name http___wagr.randa.org_default.sps?pagegid__7B7CB9116A_2DC752_2D48D1_2D89C1_2DB45AD073067C_7D_redirectorid_player_PlayerId_2847_sort_week_sortorder_desc_search_1: 'WAGR 2014'!#REF!
Name http___wagr.randa.org_default.sps?pagegid__7B7CB9116A_2DC752_2D48D1_2D89C1_2DB45AD073067C_7D_redirectorid_player_PlayerId_2847_sort_week_sortorder_desc_search_1: 'WAGR 2014'!#REF!
Name http___wagr.randa.org_default.sps?pagegid__7B7CB9116A_2DC752_2D48D1_2D89C1_2DB45AD073067C_7D_redirectorid_player_PlayerId_2847_sort_week_sortorder_desc_search_1: 'WAGR 2014'!#REF!
Name http___wagr.randa.org_default.sps?pagegid__7B7CB9116A_2DC752_2D48D1_2D89C1_2DB45AD073067C_7D_redirectorid_player_PlayerId_2847_sort_week_sortorder_desc_search_1: 'WAGR 2014'!#REF!
Name http___wagr.randa.org_default.sps?pagegid__7B7CB9116A_2DC752_2D48D1_2D89C1_2DB45AD073067C_7D_redirectorid_player_PlayerId_2847_sort_week_sortorder_desc_search_1: 'WAGR 2014'!#REF!
Name http___wagr.randa.org_default.sps?pagegid__7B7CB9116A_2DC752_2D48D1_2D89C1_2DB45AD073067C_7D_redirectorid_player_PlayerId_2847_sort_week_sortorder_desc_search_1: 'WAGR 2014'!#REF!
Name http___wagr.randa.org_default.sps?pagegid__7B7CB9116A_2DC752_2D48D1_2D89C1_2DB45AD073067C_7D_redirectorid_player_PlayerId_2847_sort_week_sortorder_desc_search_1: 'WAGR 2014'!#REF!
Name http___wagr.randa.org_default.sps?pagegid__92949137_AAAB_411B_9128_869E4F252D51__sort_this_sortorder_asc_country_ESP_sCountry_Go: 'WAGR 2014'!#REF!
Name LINK__WAGR: 'WAGR 2014'!#REF!

Sheet WAGR 2014
A3: Real Federación Española de Golf
A4: RANKING NACIONAL ABSOLUTO FEMENINO 2014 | G4: PUESTO WWAGR (52 SEMANAS)
A6: LINK WWAGR - GENERAL | D6: LINK WWAGR - JUGADORAS ESPAÑOLAS
A7: REGLAMENTO FUNCIONAMIENTO W.W.A.G.R.
A8: SEMANA 13/2014 : 2 de abril de 2014
A9: POS. | B9: EDAD | C9: JUGADORAS | D9: PTOS. Totales | E9: PTOS. 5 MEJORES | F9: LINK WWAGR | G9: puesto WWAGR
A10: 1 | B10: J2 | C10: Luna Sobron | D10: =[1]L.SOBRON!$G$34 -> 256.5 | E10: =L.SOBRON!G37 -> 235.5 | F10: Luna Sobron | G10: 24
A11: 2 | B11: J2 | C11: Natalia Escuriola | D11: =[1]N.ESCURIOLA!$G$34 -> 264.5 | E11: =N.ESCURIOLA!G37 -> 205.5 | F11: Natalia Escuriola | G11: 42
A12: 3 | B12: J3 | C12: Noemi Jimenez | D12: ='[1]N. JIMENEZ'!$G$34 -> 166.42 | E12: ='N. JIMENEZ'!G37 -> 166.42 | F12: Noemi Jimenez | G12: 19
A13: 4 | B13: ABS | C13: Maria Palacios | D13: =[1]M.PALACIOS!$G$34 -> 136 | E13: =M.PALACIOS!G37 -> 136 | F13: Maria Palacios | G13: 173
A14: 5 | B14: J1 | C14: Nuria Iturrios | D14: ='[1]N. ITURRIOS'!$G$34 -> 133.5 | E14: ='N. ITURRIOS'!G37 -> 133.5 | F14: Nuria Iturrios | G14: 174
A15: 6 | B15: Abs | C15: Marta Sanz | D15: =[1]M.SANZ!$G$34 -> 128 | E15: =M.SANZ!G37 -> 128 | F15: Marta Sanz | G15: 69
A16: 7 | B16: Abs. | C16: Silvia Bañón | D16: =[1]S.BAÑON!$G$34 -> 114 | E16: =S.BAÑON!G37 -> 114 | F16: Silvia Banon | G16: 118
A17: 8 | B17: G1 | C17: Maria Parra | D17: =[1]M.PARRA!$G$34 -> 111 | E17: =M.PARRA!G37 -> 111 | F17: Maria Parra | G17: 301
A18: 9 | B18: J3 | C18: Camilla Hedberg | D18: =[1]C.HEDBERG!$G$34 -> 110.625 | E18: =C.HEDBERG!G37 -> 110.625 | F18: Camilla Hedberg | G18: 229
A19: 10 | B19: J1 | C19: Ainhoa Olarra | D19: =[1]A.OLARRA!$G$34 -> 110 | E19: =A.OLARRA!G37 -> 110 | F19: Ainhoa Olarra | G19: 125
A20: 11 | B20: J2 | C20: Leticia Ras-Anderica | D20: ='[1]L. RAS'!$G$34 -> 105 | E20: ='L. RAS'!G37 -> 105 | F20: Leticia Ras-Anderica | G20: 238
A21: 12 | B21: J3 | C21: Carmen Laguna | D21: =[1]C.LAGUNA!$G$34 -> 103.75 | E21: =C.LAGUNA!G37 -> 103.75 | F21: Carmen Laguna | G21: 209
A22: 13 | B22: J3 | C22: Andrea Vilarasau | D22: =[1]A.VILARASAU!$G$34 -> 103 | E22: =A.VILARASAU!G37 -> 103 | F22: Andrea Vilarasau | G22: 213
A23: 14 | B23: Abs | C23: Maria Elena Villamil | D23: =[1]ME.VILLAMIL!$G$34 -> 98 | E23: =ME.VILLAMIL!G37 -> 98 | F23: Maria Elena Villamil | G23: 2503
A24: 15 | B24: J2 | C24: Fátima Fernández Cano | D24: =[1]F.GONZALEZCANO!$G$34 -> 94.25 | E24: =F.GONZALEZCANO!G37 -> 94.25 | F24: Fatima Fernandez Cano | G24: 663
A25: 16 | B25: J1 | C25: Ana Sanjuan Gutierrez | D25: =[1]A.SANJUAN!$G$34 -> 89 | E25: =A.SANJUAN!G37 -> 89 | F25: Ana Sanjuan Gutierrez | G25: 499
A26: 17 | B26: G1 | C26: Cavadonga Sanjuan | D26: =[1]C.SANJUAN!$G$34 -> 86 | E26: =C.SANJUAN!G37 -> 86 | F26: Cavadonga Sanjuan | G26: 222
A27: 18 | B27: Abs | C27: Lourdes Lopez | D27: =[1]L.LOPEZC!$G$34 -> 81 | E27: =L.LOPEZC!G37 -> 81 | F27: Lourdes Lopez | G27: 547
A28: 19 | B28: G1 | C28: Eva Domingo Graells | D28: =[1]E.DOMINGO!$G$34 -> 79 | E28: =E.DOMINGO!G37 -> 79 | F28: Eva Domingo Graells | G28: 1068
A29: 20 | B29: J1 | C29: Andrea Jonama | D29: =[1]A.JONAMA!$G$34 -> 76 | E29: =A.JONAMA!G37 -> 76 | F29: Andrea Jonama | G29: 543
B30: J3 | C30: Camino Sardinero | D30: =[1]C.SARDINERO!$G$34 -> 76 | E30: =C.SARDINERO!G37 -> 76 | F30: Camino Sardinero | G30: 587
A31: 22 | B31: J1 | C31: Ha Rang Lee | D31: =[1]H.LEE!$G$34 -> 73 | E31: =H.LEE!G37 -> 73 | F31: Ha Rang Lee | G31: 271
A32: 23 | B32: ABS | C32: Gemma Fuster | D32: =[1]G.FUSTER!$G$34 -> 69 | E32: =G.FUSTER!G37 -> 69 | F32: Gemma Fuster | G32: 875
A33: 24 | B33: C2 | C33: Marta Perez Sanmartin | D33: =[1]M.PEREZSMARTIN!$G$34 -> 62.5 | E33: =M.PEREZSMARTIN!G37 -> 62.5 | F33: Marta Perez Sanmartin | G33: 431
A34: 25 | B34: ABS | C34: Elia Folch | D34: =[1]E.FOLCH!$G$34 -> 60.5 | E34: =E.FOLCH!G37 -> 60.5 | F34: Elia Folch | G34: 392
A35: 26 | B35: J3 | C35: Rocio Sanchez Lobato | D35: =[1]R.SANCHEZ!$G$34 -> 60 | E35: =R.SANCHEZ!G37 -> 60 | F35: Rocio Sanchez Lobato | G35: 396
B36: C2 | C36: Martina Barbera | D36: =[1]M.BARBERA!$G$34 -> 57 | E36: =M.BARBERA!G37 -> 60 | F36: Martina Barbera | G36: 1026
A37: 28 | B37: G2 | C37: Irene Rollan | D37: =[1]I.ROLLAN!$G$34 -> 59.75 | E37: =I.ROLLAN!G37 -> 59.75 | F37: Irene Rollan | G37: 896
A38: 29 | B38: C2 | C38: Alejandra Pasarin | D38: =[1]A.PASARIN!$G$34 -> 55.25 | E38: =A.PASARIN!G37 -> 55.25 | F38: Alejandra Pasarin | G38: 191
A39: 30 | B39: C2 | C39: Ana Pelaez Triviño | D39: =[1]A.PELAEZ!$G$34 -> 54.5 | E39: =A.PELAEZ!G37 -> 54.5 | F39: Ana Pelaez Trivino | G39: 538
A40: 31 | B40: G2 | C40: Celia Barquin | D40: =[1]C.BARQUIN!$G$34 -> 52.25 | E40: =C.BARQUIN!G37 -> 52.25 | F40: Celia Barquin | G40: 65
A41: 32 | B41: J1 | C41: Carmen Vidau | D41: =[1]C.VIDAU!$G$34 -> 51 | E41: =C.VIDAU!G37 -> 51 | F41: Carmen Vidau | G41: 722
A42: 33 | B42: G2 | C42: Marta Martin Garcia | D42: =[1]M.MARTIN!$G$34 -> 49 | E42: =M.MARTIN!G37 -> 49 | F42: Marta Martin Garcia | G42: 337
B43: Abs | C43: Irene Calvo | D43: =[1]I.CALVO!$G$34 -> 49 | E43: =I.CALVO!G37 -> 49 | F43: Irene Calvo | G43: 887
...

Sheet H.LEE
A1: HARANG LEE
A3: CAMPEONATO | E3: SEMANA | F3: PUNTOS | G3: PTOS TOTALES
A4: Lady Puerto Rico Classic | E4: 2014/08 | F4: 31 | G4: =SUM(F4) -> 31
A5: Allstate Sugar Bowl Intercollegiate | E5: 2014/09 | F5: 19 | G5: =SUM(G4,F5) -> 50
A6: Darius Rucker Intercollegiate | E6: 2014/10 | F6: 23 | G6: =SUM(G5,F6) -> 73
F7: 0 | G7: =SUM(G6,F7) -> 73
F8: 0 | G8: =SUM(G7,F8) -> 73
F9: 0 | G9: =SUM(G8,F9) -> 73
G10: =SUM(G9,F10) -> 73
G11: =SUM(G10,F11) -> 73
G12: =SUM(G11,F12) -> 73
G13: =SUM(G12,F13) -> 73
G14: =SUM(G13,F14) -> 73
G15: =SUM(G14,F15) -> 73
G16: =SUM(G15,F16) -> 73
G17: =SUM(G16,F17) -> 73
G18: =SUM(G17,F18) -> 73
G19: =SUM(G18,F19) -> 73
G20: =SUM(G19,F20) -> 73
G21: =SUM(G20,F21) -> 73
... G35: =SUM(G34,F35) -> 73
A37: SUMA 5 MEJORES RESULTADOS. | G37: =SUM(I37:N37) -> 73 | I37: =LARGE(F4:F35,1) -> 31 | J37: =LARGE(F4:F35,2) -> 23 | K37: =LARGE(F4:F35,3) -> 19 | L37: =LARGE(F4:F35,4) -> 0 | M37: =LARGE(F4:F35,5) -> 0

Sheet C.HEDBERG
A1: CAMILLA HEDBERG
A3: CAMPEONATO | E3: SEMANA | F3: PUNTOS | G3: PTOS TOTALES
A4: NorthropGrumman Regional Challenge | E4: 2014/07 | F4: 23 | G4: =SUM(F4) -> 23
A5: Allstate Sugar Bowl Intercollegiate | E5: 2014/09 | F5: 26 | G5: =SUM(G4,F5) -> 49
A6: SunTrust Gator Invite | E6: 2014/11 | F6: 34.5 | G6: =SUM(G5,F6) -> 83.5
A7: Bryan National Collegiate | E7: 2014/13 | F7: 27.125 | G7: =SUM(G6,F7) -> 110.625
F8: 0 | G8: =SUM(G7,F8) -> 110.625
F9: 0 | G9: =SUM(G8,F9) -> 110.625
G10: =SUM(G9,F10) -> 110.625
G11: =SUM(G10,F11) -> 110.625
G12: =SUM(G11,F12) -> 110.625
G13: =SUM(G12,F13) -> 110.625
G14: =SUM(G13,F14) -> 110.625
G15: =SUM(G14,F15) -> 110.625
G16: =SUM(G15,F16) -> 110.625
G17: =SUM(G16,F17) -> 110.625
G18: =SUM(G17,F18) -> 110.625
G19: =SUM(G18,F19) -> 110.625
G20: =SUM(G19,F20) -> 110.625
G21: =SUM(G20,F21) -> 110.625
... G35: =SUM(G34,F35) -> 110.625
A37: SUMA 5 MEJORES RESULTADOS. | G37: =SUM(I37:M37) -> 110.625 | I37: =LARGE(F4:F34,1) -> 34.5 | J37: =LARGE(F4:F34,2) -> 27.125 | K37: =LARGE(F4:F34,3) -> 26 | L37: =LARGE(F4:F34,4) -> 23 | M37: =LARGE(F4:F34,5) -> 0

Sheet M.SANZ
A1: MARTA SANZ BARRIO
A3: CAMPEONATO | E3: SEMANA | F3: PUNTOS | G3: PTOS TOTALES
A4: Lady Puerto Rico Classic | E4: 2014/08 | F4: 32 | G4: =SUM(F4) -> 32
A5: Allstate Sugar Bowl Intercollegiate | E5: 2014/09 | F5: 63 | G5: =SUM(G4,F5) -> 95
A6: Darius Rucker Intercollegiate | E6: 2014/10 | F6: 33 | G6: =SUM(G5,F6) -> 128
F7: 0 | G7: =SUM(G6,F7) -> 128
F8: 0 | G8: =SUM(G7,F8) -> 128
F9: 0 | G9: =SUM(G8,F9) -> 128
G10: =SUM(G9,F10) -> 128
G11: =SUM(G10,F11) -> 128
G12: =SUM(G11,F12) -> 128
G13: =SUM(G12,F13) -> 128
G14: =SUM(G13,F14) -> 128
G15: =SUM(G14,F15) -> 128
G16: =SUM(G15,F16) -> 128
G17: =SUM(G16,F17) -> 128
G18: =SUM(G17,F18) -> 128
G19: =SUM(G18,F19) -> 128
G20: =SUM(G19,F20) -> 128
G21: =SUM(G20,F21) -> 128
... G35: =SUM(G34,F35) -> 128
A37: SUMA 5 MEJORES RESULTADOS. | G37: =SUM(I37:N37) -> 128 | I37: =LARGE(F4:F34,1) -> 63 | J37: =LARGE(F4:F34,2) -> 33 | K37: =LARGE(F4:F34,3) -> 32 | L37: =LARGE(F4:F34,4) -> 0 | M37: =LARGE(F4:F34,5) -> 0

Sheet C.BAENA
A1: CLARA BAENA
A3: CAMPEONATO | E3: SEMANA | F3: PUNTOS | G3: PTOS TOTALES
A4: Lady Puerto Rico Classic | E4: 2014/08 | F4: 9 | G4: =SUM(F4) -> 9
A5: Allstate Sugar Bowl Intercollegiate | E5: 2014/09 | F5: 27 | G5: =SUM(G4,F5) -> 36
A6: Darius Rucker Intercollegiate | E6: 2014/10 | F6: 5 | G6: =SUM(G5,F6) -> 41
F7: 0 | G7: =SUM(G6,F7) -> 41
F8: 0 | G8: =SUM(G7,F8) -> 41
F9: 0 | G9: =SUM(G8,F9) -> 41
G10: =SUM(G9,F10) -> 41
G11: =SUM(G10,F11) -> 41
G12: =SUM(G11,F12) -> 41
G13: =SUM(G12,F13) -> 41
G14: =SUM(G13,F14) -> 41
G15: =SUM(G14,F15) -> 41
G16: =SUM(G15,F16) -> 41
G17: =SUM(G16,F17) -> 41
G18: =SUM(G17,F18) -> 41
G19: =SUM(G18,F19) -> 41
G20: =SUM(G19,F20) -> 41
G21: =SUM(G20,F21) -> 41
... G35: =SUM(G34,F35) -> 41
A37: SUMA 5 MEJORES RESULTADOS. | G37: =SUM(I37:N37) -> 41 | I37: =LARGE(F4:F34,1) -> 27 | J37: =LARGE(F4:F34,2) -> 9 | K37: =LARGE(F4:F34,3) -> 5 | L37: =LARGE(F4:F34,4) -> 0 | M37: =LARGE(F4:F34,5) -> 0 | N37: =LARGE(F4:F34,6) -> 0

Sheet S.BAÑON
A1: SILVIA BAÑÓN
A3: CAMPEONATO | E3: SEMANA | F3: PUNTOS | G3: PTOS TOTALES
A4: Portuguese International Amateur | E4: 2014/05 | F4: 66 | G4: =SUM(F4) -> 66
A5: Copa Andalucia | E5: 2014/07 | F5: 27 | G5: =SUM(G4,F5) -> 93
A6: Spanish Ladies' Amateur | E6: 2014/09 | F6: 21 | G6: =SUM(G5,F6) -> 114
F7: 0 | G7: =SUM(G6,F7) -> 114
F8: 0 | G8: =SUM(G7,F8) -> 114
F9: 0 | G9: =SUM(G8,F9) -> 114
F10: 0 | G10: =SUM(G9,F10) -> 114
G11: =SUM(G10,F11) -> 114
G12: =SUM(G11,F12) -> 114
G13: =SUM(G12,F13) -> 114
G14: =SUM(G13,F14) -> 114
G15: =SUM(G14,F15) -> 114
G16: =SUM(G15,F16) -> 114
G17: =SUM(G16,F17) -> 114
G18: =SUM(G17,F18) -> 114
G19: =SUM(G18,F19) -> 114
G20: =SUM(G19,F20) -> 114
G21: =SUM(G20,F21) -> 114
G22: =SUM(G21,F22) -> 114
... G35: =SUM(G34,F35) -> 114
A37: SUMA 5 MEJORES RESULTADOS. | G37: =SUM(I37:N37) -> 114 | I37: =LARGE(F4:F35,1) -> 66 | J37: =LARGE(F4:F35,2) -> 27 | K37: =LARGE(F4:F35,3) -> 21 | L37: =LARGE(F4:F35,4) -> 0 | M37: =LARGE(F4:F35,5) -> 0

Sheet L.SOBRON
A1: LUNA SOBRÓN
A3: CAMPEONATO | E3: SEMANA | F3: PUNTOS | G3: PTOS TOTALES
A4: Lake Macquarie Amateur | E4: 2014/02 | F4: 43.5 | G4: =SUM(F4) -> 43.5
A5: Australian Amateur | E5: 2014/03 | F5: 89.5 | G5: =SUM(G4,F5) -> 133
A6: Portuguese International Amateur | E6: 2014/05 | F6: 44.5 | G6: =SUM(G5,F6) -> 177.5
A7: Spanish Ladies' Amateur | E7: 2014/09 | F7: 21 | G7: =SUM(G6,F7) -> 198.5
A8: European Nations Cup Individual | E8: 2014/10 | F8: 33 | G8: =SUM(G7,F8) -> 231.5
A9: Campeonato de Madrid | E9: 2014/11 | F9: 25 | G9: =SUM(G8,F9) -> 256.5
G10: =SUM(G9,F10) -> 256.5
G11: =SUM(G10,F11) -> 256.5
G12: =SUM(G11,F12) -> 256.5
G13: =SUM(G12,F13) -> 256.5
G14: =SUM(G13,F14) -> 256.5
G15: =SUM(G14,F15) -> 256.5
G16: =SUM(G15,F16) -> 256.5
G17: =SUM(G16,F17) -> 256.5
G18: =SUM(G17,F18) -> 256.5
G19: =SUM(G18,F19) -> 256.5
G20: =SUM(G19,F20) -> 256.5
G21: =SUM(G20,F21) -> 256.5
... G35: =SUM(G34,F35) -> 256.5
A37: SUMA 5 MEJORES RESULTADOS. | G37: =SUM(I37:N37) -> 235.5 | I37: =LARGE(F4:F34,1) -> 89.5 | J37: =LARGE(F4:F34,2) -> 44.5 | K37: =LARGE(F4:F34,3) -> 43.5 | L37: =LARGE(F4:F34,4) -> 33 | M37: =LARGE(F4:F34,5) -> 25

Sheet R.SANCHEZ
A1: ROCÍO SÁNCHEZ
A3: CAMPEONATO | E3: SEMANA | F3: PUNTOS | G3: PTOS TOTALES
A4: Lady Puerto Rico Classic | E4: 2014/08 | F4: 22 | G4: =SUM(F4) -> 22
A5: Allstate Sugar Bowl Intercollegiate | E5: 2014/09 | F5: 18 | G5: =SUM(G4,F5) -> 40
A6: Darius Rucker Intercollegiate | E6: 2014/10 | F6: 20 | G6: =SUM(G5,F6) -> 60
F7: 0 | G7: =SUM(G6,F7) -> 60
F8: 0 | G8: =SUM(G7,F8) -> 60
F9: 0 | G9: =SUM(G8,F9) -> 60
G10: =SUM(G9,F10) -> 60
G11: =SUM(G10,F11) -> 60
G12: =SUM(G11,F12) -> 60
G13: =SUM(G12,F13) -> 60
G14: =SUM(G13,F14) -> 60
G15: =SUM(G14,F15) -> 60
G16: =SUM(G15,F16) -> 60
G17: =SUM(G16,F17) -> 60
G18: =SUM(G17,F18) -> 60
G19: =SUM(G18,F19) -> 60
G20: =SUM(G19,F20) -> 60
G21: =SUM(G20,F21) -> 60
... G35: =SUM(G34,F35) -> 60
A37: SUMA 5 MEJORES RESULTADOS. | G37: =SUM(I37:N37) -> 60 | I37: =LARGE(F4:F34,1) -> 22 | J37: =LARGE(F4:F34,2) -> 20 | K37: =LARGE(F4:F34,3) -> 18 | L37: =LARGE(F4:F34,4) -> 0 | M37: =LARGE(F4:F34,5) -> 0

Sheet A.OLARRA
A1: AINHOA OLARRA
A3: CAMPEONATO | E3: SEMANA | F3: PUNTOS | G3: PTOS TOTALES
A4: Portuguese International Amateur | E4: 2014/05 | F4: 30 | G4: =SUM(F4) -> 30
A5: Copa Andalucia | E5: 2014/07 | F5: 27 | G5: =SUM(G4,F5) -> 57
A6: Spanish Ladies' Amateur | E6: 2014/09 | F6: 36 | G6: =SUM(G5,F6) -> 93
A7: European Nations Cup Individual | E7: 2014/10 | F7: 17 | G7: =SUM(G6,F7) -> 110
F8: 0 | G8: =SUM(G7,F8) -> 110
F9: 0 | G9: =SUM(G8,F9) -> 110
G10: =SUM(G9,F10) -> 110
G11: =SUM(G10,F11) -> 110
G12: =SUM(G11,F12) -> 110
G13: =SUM(G12,F13) -> 110
G14: =SUM(G13,F14) -> 110
G15: =SUM(G14,F15) -> 110
G16: =SUM(G15,F16) -> 110
G17: =SUM(G16,F17) -> 110
G18: =SUM(G17,F18) -> 110
G19: =SUM(G18,F19) -> 110
G20: =SUM(G19,F20) -> 110
G21: =SUM(G20,F21) -> 110
... G35: =SUM(G34,F35) -> 110
A37: SUMA 5 MEJORES RESULTADOS. | G37: =SUM(I37:N37) -> 110 | I37: =LARGE(F4:F34,1) -> 36 | J37: =LARGE(F4:F34,2) -> 30 | K37: =LARGE(F4:F34,3) -> 27 | L37: =LARGE(F4:F34,4) -> 17 | M37: =LARGE(F4:F34,5) -> 0

Sheet A.URCHEGUI
A1: ANE URCHEGUI
A3: CAMPEONATO | E3: SEMANA | F3: PUNTOS | G3: PTOS TOTALES
F4: 0 | G4: =SUM(F4) -> 0
F5: 0 | G5: =SUM(G4,F5) -> 0
F6: 0 | G6: =SUM(G5,F6) -> 0
F7: 0 | G7: =SUM(G6,F7) -> 0
F8: 0 | G8: =SUM(G7,F8) -> 0
F9: 0 | G9: =SUM(G8,F9) -> 0
F10: 0 | G10: =SUM(G9,F10) -> 0
F11: 0 | G11: =SUM(G10,F11) -> 0
G12: =SUM(G11,F12) -> 0
G13: =SUM(G12,F13) -> 0
G14: =SUM(G13,F14) -> 0
G15: =SUM(G14,F15) -> 0
G16: =SUM(G15,F16) -> 0
G17: =SUM(G16,F17) -> 0
G18: =SUM(G17,F18) -> 0
G19: =SUM(G18,F19) -> 0
G20: =SUM(G19,F20) -> 0
G21: =SUM(G20,F21) -> 0
G22: =SUM(G21,F22) -> 0
G23: =SUM(G22,F23) -> 0
... G35: =SUM(G34,F35) -> 0
A37: SUMA 5 MEJORES RESULTADOS. | G37: =SUM(I37:N37) -> 0 | I37: =LARGE(F4:F34,1) -> 0 | J37: =LARGE(F4:F34,2) -> 0 | K37: =LARGE(F4:F34,3) -> 0 | L37: =LARGE(F4:F34,4) -> 0 | M37: =LARGE(F4:F34,5) -> 0

Sheet N.ESCURIOLA
A1: NATALIA ESCURIOLA
A3: CAMPEONATO | E3: SEMANA | F3: PUNTOS | G3: PTOS TOTALES
A4: Lake Macquarie Amateur | E4: 2014/02 | F4: 43.5 | G4: =SUM(F4) -> 43.5
A5: Australian Amateur | E5: 2014/03 | F5: 14 | G5: =SUM(G4,F5) -> 57.5
A6: Portuguese International Amateur | E6: 2014/05 | F6: 52 | G6: =SUM(G5,F6) -> 109.5
A7: Copa Andalucia | E7: 2014/07 | F7: 34.5 | G7: =SUM(G6,F7) -> 144
A8: Spanish Ladies' Amateur | E8: 2014/09 | F8: 19 | G8: =SUM(G7,F8) -> 163
A9: European Nations Cup Individual | E9: 2014/10 | F9: 40 | G9: =SUM(G8,F9) -> 203
A10: Campeonato de Madrid | E10: 2014/11 | F10: 26 | G10: =SUM(G9,F10) -> 229
A11: Campeonato de Espana Interclubes | E11: 2014/13 | F11: 35.5 | G11: =SUM(G10,F11) -> 264.5
G12: =SUM(G11,F12) -> 264.5
G13: =SUM(G12,F13) -> 264.5
G14: =SUM(G13,F14) -> 264.5
G15: =SUM(G14,P15) -> 264.5
G16: =SUM(G15,P16) -> 264.5
G17: =SUM(G16,P17) -> 264.5
G18: =SUM(G17,F18) -> 264.5
G19: =SUM(G18,F19) -> 264.5
G20: =SUM(G19,F20) -> 264.5
G21: =SUM(G20,F21) -> 264.5
G22: =SUM(G21,F22) -> 264.5
G23: =SUM(G22,F23) -> 264.5
G24: =SUM(G23,F24) -> 264.5
G25: =SUM(G24,F25) -> 264.5
G26: =SUM(G25,F26) -> 264.5
G27: =SUM(G26,F27) -> 264.5
G28: =SUM(G27,F28) -> 264.5
G29: =SUM(G28,F29) -> 264.5
... G35: =SUM(G34,F35) -> 264.5
A37: SUMA 5 MEJORES RESULTADOS. | G37: =SUM(I37:N37) -> 205.5 | I37: =LARGE(F4:F34,1) -> 52 | J37: =LARGE(F4:F34,2) -> 43.5 | K37: =LARGE(F4:F34,3) -> 40 | L37: =LARGE(F4:F34,4) -> 35.5 | M37: =LARGE(F4:F34,5) -> 34.5

Sheet N. JIMENEZ
A1: NOEMÍ JIMÉNEZ
A3: CAMPEONATO | E3: SEMANA | F3: PUNTOS | G3: PTOS TOTALES
A4: NorthropGrumman Regional Challenge | E4: 2014/07 | F4: 37.3 | G4: =SUM(F4) -> 37.3
A5: Darius Rucker Intercollegiate | E5: 2014/10 | F5: 42.12 | G5: =SUM(G4,F5) -> 79.42
A6: The SDSU Farms Invitational | E6: 2014/13 | F6: 36.5 | G6: =SUM(G5,F6) -> 115.92
A7: PING - ASU Invitational | E7: 2014/14 | F7: 50.5 | G7: =SUM(G6,F7) -> 166.42
F8: 0 | G8: =SUM(G7,F8) -> 166.42
F9: 0 | G9: =SUM(G8,F9) -> 166.42
G10: =SUM(G9,F10) -> 166.42
G11: =SUM(G10,F11) -> 166.42
G12: =SUM(G11,F12) -> 166.42
G13: =SUM(G12,F13) -> 166.42
G14: =SUM(G13,F14) -> 166.42
G15: =SUM(G14,F15) -> 166.42
G16: =SUM(G15,F16) -> 166.42
G17: =SUM(G16,F17) -> 166.42
G18: =SUM(G17,F18) -> 166.42
G19: =SUM(G18,F19) -> 166.42
G20: =SUM(G19,F20) -> 166.42
G21: =SUM(G20,F21) -> 166.42
... G35: =SUM(G34,F35) -> 166.42
A37: SUMA 5 MEJORES RESULTADOS. | G37: =SUM(I37:N37) -> 166.42 | I37: =LARGE(F4:F35,1) -> 50.5 | J37: =LARGE(F4:F35,2) -> 42.12 | K37: =LARGE(F4:F35,3) -> 37.3 | L37: =LARGE(F4:F35,4) -> 36.5 | M37: =LARGE(F4:F35,5) -> 0

Sheet L. RAS
A1: LETICIA RAS-ANDERICA
A3: CAMPEONATO | E3: SEMANA | F3: PUNTOS | G3: PTOS TOTALES
A4: UCF Challenge | E4: 2014/07 | F4: 31 | G4: =SUM(F4) -> 31
A5: Hurricane Invitational | E5: 2014/10 | F5: 18 | G5: =SUM(G4,F5) -> 49
A6: SunTrust Gator Invite | E6: 2014/11 | F6: 28 | G6: =SUM(G5,F6) -> 77
A7: The SDSU Farms Invitational | E7: 2014/13 | F7: 28 | G7: =SUM(G6,F7) -> 105
F8: 0 | G8: =SUM(G7,F8) -> 105
F9: 0 | G9: =SUM(G8,F9) -> 105
G10: =SUM(G9,F10) -> 105
G11: =SUM(G10,F11) -> 105
G12: =SUM(G11,F12) -> 105
G13: =SUM(G12,F13) -> 105
G14: =SUM(G13,F14) -> 105
G15: =SUM(G14,F15) -> 105
G16: =SUM(G15,F16) -> 105
G17: =SUM(G16,F17) -> 105
G18: =SUM(G17,F18) -> 105
G19: =SUM(G18,F19) -> 105
G20: =SUM(G19,F20) -> 105
G21: =SUM(G20,F21) -> 105
... G35: =SUM(G34,F35) -> 105
A37: SUMA 5 MEJORES RESULTADOS. | G37: =SUM(I37:N37) -> 105 | I37: =LARGE(F4:F34,1) -> 31 | J37: =LARGE(F4:F34,2) -> 28 | K37: =LARGE(F4:F34,3) -> 28 | L37: =LARGE(F4:F34,4) -> 18 | M37: =LARGE(F4:F34,5) -> 0

Sheet N. ITURRIOS
A1: NURIA ITURRIOS
A3: CAMPEONATO | E3: SEMANA | F3: PUNTOS | G3: PTOS TOTALES
A4: Portuguese International Amateur | E4: 2014/05 | F4: 41 | G4: =SUM(F4) -> 41
A5: Copa Andalucia | E5: 2014/07 | F5: 41 | G5: =SUM(G4,F5) -> 82
A6: Spanish Ladies' Amateur | E6: 2014/09 | F6: 14 | G6: =SUM(G5,F6) -> 96
A7: Campeonato de Madrid | E7: 2014/11 | F7: 37.5 | G7: =SUM(G6,F7) -> 133.5
F8: 0 | G8: =SUM(G7,F8) -> 133.5
F9: 0 | G9: =SUM(G8,F9) -> 133.5
G10: =SUM(G9,F10) -> 133.5
G11: =SUM(G10,F11) -> 133.5
G12: =SUM(G11,F12) -> 133.5
G13: =SUM(G12,F13) -> 133.5
G14: =SUM(G13,F14) -> 133.5
G15: =SUM(G14,F15) -> 133.5
G16: =SUM(G15,F16) -> 133.5
G17: =SUM(G16,F17) -> 133.5
G18: =SUM(G17,F18) -> 133.5
G19: =SUM(G18,F19) -> 133.5
G20: =SUM(G19,F20) -> 133.5
G21: =SUM(G20,F21) -> 133.5
... G35: =SUM(G34,F35) -> 133.5
A37: SUMA 5 MEJORES RESULTADOS. | G37: =SUM(I37:N37) -> 133.5 | I37: =LARGE(F4:F34,1) -> 41 | J37: =LARGE(F4:F34,2) -> 41 | K37: =LARGE(F4:F34,3) -> 37.5 | L37: =LARGE(F4:F34,4) -> 14 | M37: =LARGE(F4:F34,5) -> 0

Sheet T.CABALLER
A1: TERESA CABALLER
A3: CAMPEONATO | E3: SEMANA | F3: PUNTOS | G3: PTOS TOTALES
F4: 0 | G4: =SUM(F4) -> 0
F5: 0 | G5: =SUM(G4,F5) -> 0
F6: 0 | G6: =SUM(G5,F6) -> 0
F7: 0 | G7: =SUM(G6,F7) -> 0
F8: 0 | G8: =SUM(G7,F8) -> 0
F9: 0 | G9: =SUM(G8,F9) -> 0
F10: 0 | G10: =SUM(G9,F10) -> 0
G11: =SUM(G10,F11) -> 0
G12: =SUM(G11,F12) -> 0
G13: =SUM(G12,F13) -> 0
G14: =SUM(G13,F14) -> 0
G15: =SUM(G14,F15) -> 0
G16: =SUM(G15,F16) -> 0
G17: =SUM(G16,F17) -> 0
G18: =SUM(G17,F18) -> 0
G19: =SUM(G18,F19) -> 0
G20: =SUM(G19,F20) -> 0
G21: =SUM(G20,F21) -> 0
G22: =SUM(G21,F22) -> 0
... G35: =SUM(G34,F35) -> 0
A37: SUMA 5 MEJORES RESULTADOS. | G37: =SUM(I37:N37) -> 0 | I37: =LARGE(F4:F34,1) -> 0 | J37: =LARGE(F4:F34,2) -> 0 | K37: =LARGE(F4:F34,3) -> 0 | L37: =LARGE(F4:F34,4) -> 0 | M37: =LARGE(F4:F34,5) -> 0

Sheet A.JONAMA
A1: ANDREA JONAMA
A3: CAMPEONATO | E3: SEMANA | F3: PUNTOS | G3: PTOS TOTALES
A4: Seminole Match Up | E4: 2014/07 | F4: 25 | G4: =SUM(F4) -> 25
A5: UC Irvine Invitational | E5: 2014/09 | F5: 28 | G5: =SUM(G4,F5) -> 53
A6: SunTrust Gator Invite | E6: 2014/11 | F6: 23 | G6: =SUM(G5,F6) -> 76
F7: 0 | G7: =SUM(G6,F7) -> 76
F8: 0 | G8: =SUM(G7,F8) -> 76
F9: 0 | G9: =SUM(G8,F9) -> 76
G10: =SUM(G9,F10) -> 76
G11: =SUM(G10,F11) -> 76
G12: =SUM(G11,F12) -> 76
G13: =SUM(G12,F13) -> 76
G14: =SUM(G13,F14) -> 76
G15: =SUM(G14,F15) -> 76
G16: =SUM(G15,F16) -> 76
G17: =SUM(G16,F17) -> 76
G18: =SUM(G17,F18) -> 76
G19: =SUM(G18,F19) -> 76
G20: =SUM(G19,F20) -> 76
G21: =SUM(G20,F21) -> 76
... G35: =SUM(G34,F35) -> 76
A37: SUMA 5 MEJORES RESULTADOS. | G37: =SUM(I37:N37) -> 76 | I37: =LARGE(F4:F34,1) -> 28 | J37: =LARGE(F4:F34,2) -> 25 | K37: =LARGE(F4:F34,3) -> 23 | L37: =LARGE(F4:F34,4) -> 0 | M37: =LARGE(F4:F34,5) -> 0

Sheet A.VILARASAU
A1: ANDREA VILARASAU
A3: CAMPEONATO | E3: SEMANA | F3: PUNTOS | G3: PTOS TOTALES
A4: NorthropGrumman Regional Challenge | E4: 2014/07 | F4: 30 | G4: =SUM(F4) -> 30
A5: Bruin Wave Invitational | E5: 2014/10 | F5: 20 | G5: =SUM(G4,F5) -> 50
A6: SunTrust Gator Invite | E6: 2014/11 | F6: 29 | G6: =SUM(G5,F6) -> 79
A7: PING - ASU Invitational | E7: 2014/14 | F7: 24 | G7: =SUM(G6,F7) -> 103
F8: 0 | G8: =SUM(G7,F8) -> 103
F9: 0 | G9: =SUM(G8,F9) -> 103
F10: 0 | G10: =SUM(G9,F10) -> 103
G11: =SUM(G10,F11) -> 103
G12: =SUM(G11,F12) -> 103
G13: =SUM(G12,F13) -> 103
G14: =SUM(G13,F14) -> 103
G15: =SUM(G14,F15) -> 103
G16: =SUM(G15,F16) -> 103
G17: =SUM(G16,F17) -> 103
G18: =SUM(G17,F18) -> 103
G19: =SUM(G18,F19) -> 103
G20: =SUM(G19,F20) -> 103
G21: =SUM(G20,F21) -> 103
G22: =SUM(G21,F22) -> 103
... G35: =SUM(G34,F35) -> 103
A37: SUMA 5 MEJORES RESULTADOS. | G37: =SUM(I37:N37) -> 103 | I37: =LARGE(F4:F34,1) -> 30 | J37: =LARGE(F4:F34,2) -> 29 | K37: =LARGE(F4:F34,3) -> 24 | L37: =LARGE(F4:F34,4) -> 20 | M37: =LARGE(F4:F34,5) -> 0

Sheet T.URQUIZU
A1: TERESA URQUIZU
A3: CAMPEONATO | E3: SEMANA | F3: PUNTOS | G3: PTOS TOTALES
F4: 0 | G4: =SUM(F4) -> 0
F5: 0 | G5: =SUM(G4,F5) -> 0
F6: 0 | G6: =SUM(G5,F6) -> 0
F7: 0 | G7: =SUM(G6,F7) -> 0
F8: 0 | G8: =SUM(G7,F8) -> 0
F9: 0 | G9: =SUM(G8,F9) -> 0
F10: 0 | G10: =SUM(G9,F10) -> 0
G11: =SUM(G10,F11) -> 0
G12: =SUM(G11,F12) -> 0
G13: =SUM(G12,F13) -> 0
G14: =SUM(G13,F14) -> 0
G15: =SUM(G14,F15) -> 0
G16: =SUM(G15,F16) -> 0
G17: =SUM(G16,F17) -> 0
G18: =SUM(G17,F18) -> 0
G19: =SUM(G18,F19) -> 0
G20: =SUM(G19,F20) -> 0
G21: =SUM(G20,F21) -> 0
G22: =SUM(G21,F22) -> 0
... G35: =SUM(G34,F35) -> 0
A37: SUMA 5 MEJORES RESULTADOS. | G37: =SUM(I37:N37) -> 0 | I37: =LARGE(F4:F34,1) -> 0 | J37: =LARGE(F4:F34,2) -> 0 | K37: =LARGE(F4:F34,3) -> 0 | L37: =LARGE(F4:F34,4) -> 0 | M37: =LARGE(F4:F34,5) -> 0

Sheet M.VIZCARRONDO
A1: MAYTE VIZCARRONDO
A3: CAMPEONATO | E3: SEMANA | F3: PUNTOS | G3: PTOS TOTALES
F4: 0 | G4: =SUM(F4) -> 0
F5: 0 | G5: =SUM(G4,F5) -> 0
F6: 0 | G6: =SUM(G5,F6) -> 0
F7: 0 | G7: =SUM(G6,F7) -> 0
F8: 0 | G8: =SUM(G7,F8) -> 0
F9: 0 | G9: =SUM(G8,F9) -> 0
F10: 0 | G10: =SUM(G9,F10) -> 0
G11: =SUM(G10,F11) -> 0
G12: =SUM(G11,F12) -> 0
G13: =SUM(G12,F13) -> 0
G14: =SUM(G13,F14) -> 0
G15: =SUM(G14,F15) -> 0
G16: =SUM(G15,F16) -> 0
G17: =SUM(G16,F17) -> 0
G18: =SUM(G17,F18) -> 0
G19: =SUM(G18,F19) -> 0
G20: =SUM(G19,F20) -> 0
G21: =SUM(G20,F21) -> 0
G22: =SUM(G21,F22) -> 0
... G35: =SUM(G34,F35) -> 0
A37: SUMA 5 MEJORES RESULTADOS. | G37: =SUM(I37:N37) -> 0 | I37: =LARGE(F4:F34,1) -> 0 | J37: =LARGE(F4:F34,2) -> 0 | K37: =LARGE(F4:F34,3) -> 0 | L37: =LARGE(F4:F34,4) -> 0 | M37: =LARGE(F4:F34,5) -> 0

Sheet SONIASANCHEZ
A1: SONIA SÁNCHEZ FERNÁNDEZ
A3: CAMPEONATO | E3: SEMANA | F3: PUNTOS | G3: PTOS TOTALES
A4: Copa Andalucia | E4: 2014/07 | F4: 10 | G4: =SUM(F4) -> 10
A5: Campeonato de Madrid | E5: 2014/11 | F5: 21 | G5: =SUM(G4,F5) -> 31
F6: 0 | G6: =SUM(G5,F6) -> 31
F7: 0 | G7: =SUM(G6,F7) -> 31
F8: 0 | G8: =SUM(G7,F8) -> 31
F9: 0 | G9: =SUM(G8,F9) -> 31
G10: =SUM(G9,F10) -> 31
G11: =SUM(G10,F11) -> 31
G12: =SUM(G11,F12) -> 31
G13: =SUM(G12,F13) -> 31
G14: =SUM(G13,F14) -> 31
G15: =SUM(G14,F15) -> 31
G16: =SUM(G15,F16) -> 31
G17: =SUM(G16,F17) -> 31
G18: =SUM(G17,F18) -> 31
G19: =SUM(G18,F19) -> 31
G20: =SUM(G19,F20) -> 31
G21: =SUM(G20,F21) -> 31
... G35: =SUM(G34,F35) -> 31
A37: SUMA 5 MEJORES RESULTADOS. | G37: =SUM(I37:N37) -> 31 | I37: =LARGE(F4:F34,1) -> 21 | J37: =LARGE(F4:F34,2) -> 10 | K37: =LARGE(F4:F34,3) -> 0 | L37: =LARGE(F4:F34,4) -> 0 | M37: =LARGE(F4:F34,5) -> 0

Sheet E.FOLCH
A1: ELIA FOLCH
A3: CAMPEONATO | E3: SEMANA | F3: PUNTOS | G3: PTOS TOTALES
A4: Islander Classic | E4: 2014/09 | F4: 34.5 | G4: =SUM(F4) -> 34.5
A5: HBU Husky Invitational | E5: 2014/14 | F5: 26 | G5: =SUM(G4,F5) -> 60.5
F6: 0 | G6: =SUM(G5,F6) -> 60.5
F7: 0 | G7: =SUM(G6,F7) -> 60.5
F8: 0 | G8: =SUM(G7,F8) -> 60.5
F9: 0 | G9: =SUM(G8,F9) -> 60.5
G10: =SUM(G9,F10) -> 60.5
G11: =SUM(G10,F11) -> 60.5
G12: =SUM(G11,F12) -> 60.5
G13: =SUM(G12,F13) -> 60.5
G14: =SUM(G13,F14) -> 60.5
G15: =SUM(G14,F15) -> 60.5
G16: =SUM(G15,F16) -> 60.5
G17: =SUM(G16,F17) -> 60.5
G18: =SUM(G17,F18) -> 60.5
G19: =SUM(G18,F19) -> 60.5
G20: =SUM(G19,F20) -> 60.5
G21: =SUM(G20,F21) -> 60.5
... G35: =SUM(G34,F35) -> 60.5
A37: SUMA 5 MEJORES RESULTADOS. | G37: =SUM(I34:N37) -> 60.5 | I37: =LARGE(F4:F34,1) -> 34.5 | J37: =LARGE(F4:F34,2) -> 26 | K37: =LARGE(F4:F34,3) -> 0 | L37: =LARGE(F4:F34,4) -> 0 | M37: =LARGE(F4:F34,5) -> 0

Sheet C.FELIP
A1: CRISTINA FELIP
A3: CAMPEONATO | E3: SEMANA | F3: PUNTOS | G3: PTOS TOTALES
F4: 0 | G4: =SUM(F4) -> 0
F5: 0 | G5: =SUM(G4,F5) -> 0
F6: 0 | G6: =SUM(G5,F6) -> 0
F7: 0 | G7: =SUM(G6,F7) -> 0
F8: 0 | G8: =SUM(G7,F8) -> 0
F9: 0 | G9: =SUM(G8,F9) -> 0
G10: =SUM(G9,F10) -> 0
G11: =SUM(G10,F11) -> 0
G12: =SUM(G11,F12) -> 0
G13: =SUM(G12,F13) -> 0
G14: =SUM(G13,F14) -> 0
G15: =SUM(G14,F15) -> 0
G16: =SUM(G15,F16) -> 0
G17: =SUM(G16,F17) -> 0
G18: =SUM(G17,F18) -> 0
G19: =SUM(G18,F19) -> 0
G20: =SUM(G19,F20) -> 0
G21: =SUM(G20,F21) -> 0
... G35: =SUM(G34,F35) -> 0
A37: SUMA 5 MEJORES RESULTADOS. | G37: =SUM(I37:N37) -> 0 | I37: =LARGE(F4:F34,1) -> 0 | J37: =LARGE(F4:F34,2) -> 0 | K37: =LARGE(F4:F34,3) -> 0 | L37: =LARGE(F4:F34,4) -> 0 | M37: =LARGE(F4:F34,5) -> 0

Sheet M.GOYOS
A1: MANDY GOYOS
A3: CAMPEONATO | E3: SEMANA | F3: PUNTOS | G3: PTOS TOTALES
F4: 0 | G4: =SUM(F4) -> 0
F5: 0 | G5: =SUM(G4,F5) -> 0
F6: 0 | G6: =SUM(G5,F6) -> 0
F7: 0 | G7: =SUM(G6,F7) -> 0
F8: 0 | G8: =SUM(G7,F8) -> 0
F9: 0 | G9: =SUM(G8,F9) -> 0
F10: 0 | G10: =SUM(G9,F10) -> 0
F11: 0 | G11: =SUM(G10,F11) -> 0
G12: =SUM(G11,F12) -> 0
G13: =SUM(G12,F13) -> 0
G14: =SUM(G13,F14) -> 0
G15: =SUM(G14,F15) -> 0
G16: =SUM(G15,F16) -> 0
G17: =SUM(G16,F17) -> 0
G18: =SUM(G17,F18) -> 0
G19: =SUM(G18,F19) -> 0
G20: =SUM(G19,F20) -> 0
G21: =SUM(G20,F21) -> 0
G22: =SUM(G21,F22) -> 0
G23: =SUM(G22,F23) -> 0
... G35: =SUM(G34,F35) -> 0
A37: SUMA 5 MEJORES RESULTADOS. | G37: =SUM(I37:N37) -> 0 | I37: =LARGE(F4:F34,1) -> 0 | J37: =LARGE(F4:F34,2) -> 0 | K37: =LARGE(F4:F34,3) -> 0

Sheet ME.VILLAMIL
A1: MARÍA ELENA VILLAMIL
A3: CAMPEONATO | E3: SEMANA | F3: PUNTOS | G3: PTOS TOTALES
A4: UCF Challenge | E4: 2014/07 | F4: 19 | G4: =SUM(F4) -> 19
A5: Central District Invitational | E5: 2014/07 | F5: 20 | G5: =SUM(G4,F5) -> 39
A6: Dr Donnis Thompson Invitational | E6: 2014/11 | F6: 19 | G6: =SUM(G5,F6) -> 58
A7: LSU Tiger Classic | E7: 2014/12 | F7: 25 | G7: =SUM(G6,F7) -> 83
A8: SMU Dallas Athletic Club Invitational | E8: 2014/14 | F8: 15 | G8: =SUM(G7,F8) -> 98
F9: 0 | G9: =SUM(G8,F9) -> 98
G10: =SUM(G9,F10) -> 98
G11: =SUM(G10,F11) -> 98
G12: =SUM(G11,F12) -> 98
G13: =SUM(G12,F13) -> 98
G14: =SUM(G13,F14) -> 98
G15: =SUM(G14,F15) -> 98
G16: =SUM(G15,F16) -> 98
G17: =SUM(G16,F17) -> 98
G18: =SUM(G17,F18) -> 98
G19: =SUM(G18,F19) -> 98
G20: =SUM(G19,F20) -> 98
G21: =SUM(G20,F21) -> 98
... G35: =SUM(G34,F35) -> 98
A37: SUMA 5 MEJORES RESULTADOS. | G37: =SUM(I37:N37) -> 98 | I37: =LARGE(F4:F34,1) -> 25 | J37: =LARGE(F4:F34,2) -> 20 | K37: =LARGE(F4:F34,3) -> 19 | L37: =LARGE(F4:F34,4) -> 19 | M37: =LARGE(F4:F34,5) -> 15

Sheet C.SARDINERO
A1: CAMINO SARDINERO
A3: CAMPEONATO | E3: SEMANA | F3: PUNTOS | G3: PTOS TOTALES
A4: Jim West Challenge | E4: 2014/08 | F4: 21 | G4: =SUM(F4) -> 21
A5: Dr Donnis Thompson Invitational | E5: 2014/11 | F5: 29 | G5: =SUM(G4,F5) -> 50
A6: UALR Golf Classic | E6: 2014/13 | F6: 26 | G6: =SUM(G5,F6) -> 76
F7: 0 | G7: =SUM(G6,F7) -> 76
F8: 0 | G8: =SUM(G7,F8) -> 76
F9: 0 | G9: =SUM(G8,F9) -> 76
G10: =SUM(G9,F10) -> 76
G11: =SUM(G10,F11) -> 76
G12: =SUM(G11,F12) -> 76
G13: =SUM(G12,F13) -> 76
G14: =SUM(G13,F14) -> 76
G15: =SUM(G14,F15) -> 76
G16: =SUM(G15,F16) -> 76
G17: =SUM(G16,F17) -> 76
G18: =SUM(G17,F18) -> 76
G19: =SUM(G18,F19) -> 76
G20: =SUM(G19,F20) -> 76
G21: =SUM(G20,F21) -> 76
... G35: =SUM(G34,F35) -> 76
A37: SUMA 5 MEJORES RESULTADOS. | G37: =SUM(I37:N37) -> 76 | I37: =LARGE(F4:F34,1) -> 29 | J37: =LARGE(F4:F34,2) -> 26 | K37: =LARGE(F4:F34,3) -> 21 | L37: =LARGE(F4:F34,4) -> 0 | M37: =LARGE(F4:F34,5) -> 0

Sheet C.SANJUAN
A1: COVADONGA SANJUÁN
A3: CAMPEONATO | E3: SEMANA | F3: PUNTOS | G3: PTOS TOTALES
A4: Portuguese International Amateur | E4: 2014/05 | F4: 29 | G4: =SUM(F4) -> 29
A5: Copa Andalucia | E5: 2014/07 | F5: 21 | G5: =SUM(G4,F5) -> 50
A6: Spanish Ladies' Amateur | E6: 2014/09 | F6: 20 | G6: =SUM(G5,F6) -> 70
A7: Campeonato de Madrid | E7: 2014/11 | F7: 16 | G7: =SUM(G6,F7) -> 86
F8: 0 | G8: =SUM(G7,F8) -> 86
F9: 0 | G9: =SUM(G8,F9) -> 86
F10: 0 | G10: =SUM(G9,F10) -> 86
F11: 0 | G11: =SUM(G10,F11) -> 86
G12: =SUM(G11,F12) -> 86
G13: =SUM(G12,F13) -> 86
G14: =SUM(G13,F14) -> 86
G15: =SUM(G14,F15) -> 86
G16: =SUM(G15,F16) -> 86
G17: =SUM(G16,F17) -> 86
G18: =SUM(G17,F18) -> 86
G19: =SUM(G18,F19) -> 86
G20: =SUM(G19,F20) -> 86
G21: =SUM(G20,F21) -> 86
G22: =SUM(G21,F22) -> 86
G23: =SUM(G22,F23) -> 86
... G35: =SUM(G34,F35) -> 86
A37: SUMA 5 MEJORES RESULTADOS. | G37: =SUM(I37:N37) -> 86 | I37: =LARGE(F4:F34,1) -> 29 | J37: =LARGE(F4:F34,2) -> 21 | K37: =LARGE(F4:F34,3) -> 20 | L37: =LARGE(F4:F34,4) -> 16 | M37: =LARGE(F4:F34,5) -> 0

Sheet C.BARQUIN
A1: CELIA BARQUÍN AROZAMENA
A3: CAMPEONATO | E3: SEMANA | F3: PUNTOS | G3: PTOS TOTALES
A4: ANNIKA Invitational | E4: 2014/04 | F4: 15 | G4: =SUM(F4) -> 15
A5: Match Spain v Sweden | E5: 2014/05 | F5: 5 | G5: =SUM(G4,F5) -> 20
A6: Campeonato de Madrid | E6: 2014/11 | F6: 32.25 | G6: =SUM(G5,F6) -> 52.25
F7: 0 | G7: =SUM(G6,F7) -> 52.25
F8: 0 | G8: =SUM(G7,F8) -> 52.25
F9: 0 | G9: =SUM(G8,F9) -> 52.25
G10: =SUM(G9,F10) -> 52.25
G11: =SUM(G10,F11) -> 52.25
G12: =SUM(G11,F12) -> 52.25
G13: =SUM(G12,F13) -> 52.25
G14: =SUM(G13,F14) -> 52.25
G15: =SUM(G14,F15) -> 52.25
G16: =SUM(G15,F16) -> 52.25
G17: =SUM(G16,F17) -> 52.25
G18: =SUM(G17,F18) -> 52.25
G19: =SUM(G18,F19) -> 52.25
G20: =SUM(G19,F20) -> 52.25
G21: =SUM(G20,F21) -> 52.25
... G35: =SUM(G34,F35) -> 52.25
A37: SUMA 5 MEJORES RESULTADOS. | G37: =SUM(I37:N37) -> 52.25 | I37: =LARGE(F4:F34,1) -> 32.25 | J37: =LARGE(F4:F34,2) -> 15 | K37: =LARGE(F4:F34,3) -> 5 | L37: =LARGE(F4:F34,4) -> 0 | M37: =LARGE(F4:F34,5) -> 0

Sheet A.PASARIN
A1: ALEJANDRA PASARÍN OLALLA
A3: CAMPEONATO | E3: SEMANA | F3: PUNTOS | G3: PTOS TOTALES
A4: Match Spain v Sweden | E4: 2014/05 | F4: 5 | G4: =SUM(F4) -> 5
A5: Copa Andalucia | E5: 2014/07 | F5: 26 | G5: =SUM(G4,F5) -> 31
A6: Campeonato de Espana Intercubes | E6: 2014/13 | F6: 24.25 | G6: =SUM(G5,F6) -> 55.25
F7: 0 | G7: =SUM(G6,F7) -> 55.25
F8: 0 | G8: =SUM(G7,F8) -> 55.25
F9: 0 | G9: =SUM(G8,F9) -> 55.25
G10: =SUM(G9,F10) -> 55.25
G11: =SUM(G10,F11) -> 55.25
G12: =SUM(G11,F12) -> 55.25
G13: =SUM(G12,F13) -> 55.25
G14: =SUM(G13,F14) -> 55.25
G15: =SUM(G14,F15) -> 55.25
G16: =SUM(G15,F16) -> 55.25
G17: =SUM(G16,F17) -> 55.25
G18: =SUM(G17,F18) -> 55.25
G19: =SUM(G18,F19) -> 55.25
G20: =SUM(G19,F20) -> 55.25
G21: =SUM(G20,F21) -> 55.25
... G35: =SUM(G34,F35) -> 55.25
A37: SUMA 5 MEJORES RESULTADOS | G37: =SUM(I37:N37) -> 55.25 | I37: =LARGE(F4:F34,1) -> 26 | J37: =LARGE(F4:F34,2) -> 24.25 | K37: =LARGE(F4:F34,3) -> 5 | L37: =LARGE(F4:F34,4) -> 0 | M37: =LARGE(F4:F34,5) -> 0

Sheet C.LAGUNA
A1: CARMEN LAGUNA
A3: CAMPEONATO | E3: SEMANA | F3: PUNTOS | G3: PTOS TOTALES
A4: UCF Challenge | E4: 2014/07 | F4: 29 | G4: =SUM(F4) -> 29
A5: Central District Invitational | E5: 2014/08 | F5: 25 | G5: =SUM(G4,F5) -> 54
A6: BYU at Entrada Classic | E6: 2014/12 | F6: 20 | G6: =SUM(G5,F6) -> 74
A7: Mountain View Collegiate | E7: 2014/13 | F7: 29.75 | G7: =SUM(G6,F7) -> 103.75
F8: 0 | G8: =SUM(G7,F8) -> 103.75
F9: 0 | G9: =SUM(G8,F9) -> 103.75
G10: =SUM(G9,F10) -> 103.75
G11: =SUM(G10,F11) -> 103.75
G12: =SUM(G11,F12) -> 103.75
G13: =SUM(G12,F13) -> 103.75
G14: =SUM(G13,F14) -> 103.75
G15: =SUM(G14,F15) -> 103.75
G16: =SUM(G15,F16) -> 103.75
G17: =SUM(G16,F17) -> 103.75
G18: =SUM(G17,F18) -> 103.75
G19: =SUM(G18,F19) -> 103.75
G20: =SUM(G19,F20) -> 103.75
G21: =SUM(G20,F21) -> 103.75
... G35: =SUM(G34,F35) -> 103.75
A37: SUMA 5 MEJORES RESULTADOS | G37: =SUM(I37:N37) -> 103.75 | I37: =LARGE(F4:F34,1) -> 29.75 | J37: =LARGE(F4:F34,2) -> 29 | K37: =LARGE(F4:F34,3) -> 25 | L37: =LARGE(F4:F34,4) -> 20 | M37: =LARGE(F4:F34,5) -> 0 | N37: =LARGE(F4:F34,6) -> 0

Sheet G.FUSTER
A1: GEMMA FÚSTER ANGLADA
A3: CAMPEONATO | E3: SEMANA | F3: PUNTOS | G3: PTOS TOTALES
A4: SunTrust Gator Invite | E4: 2014/11 | F4: 14 | G4: =SUM(F4) -> 14
A5: North Florida Invitational | E5: 2014/11 | F5: 12 | G5: =SUM(G4,F5) -> 26
A6: UNCW Seahawk Classic | E6: 2014/14 | F6: 12 | G6: =SUM(G5,F6) -> 38
A7: John Kirk-Panther Intercollegiate | E7: 2014/14 | F7: 31 | G7: =SUM(G6,F7) -> 69
F8: 0 | G8: =SUM(G7,F8) -> 69
F9: 0 | G9: =SUM(G8,F9) -> 69
G10: =SUM(G9,F10) -> 69
G11: =SUM(G10,F11) -> 69
G12: =SUM(G11,F12) -> 69
G13: =SUM(G12,F13) -> 69
G14: =SUM(G13,F14) -> 69
G15: =SUM(G14,F15) -> 69
G16: =SUM(G15,F16) -> 69
G17: =SUM(G16,F17) -> 69
G18: =SUM(G17,F18) -> 69
G19: =SUM(G18,F19) -> 69
G20: =SUM(G19,F20) -> 69
G21: =SUM(G20,F21) -> 69
... G35: =SUM(G34,F35) -> 69
A37: SUMA 5 MEJORES RESULTADOS | G37: =SUM(I37:N37) -> 69 | I37: =LARGE(F4:F34,1) -> 31 | J37: =LARGE(F4:F34,2) -> 14 | K37: =LARGE(F4:F34,3) -> 12 | L37: =LARGE(F4:F34,4) -> 12 | M37: =LARGE(F4:F34,5) -> 0

Sheet M.BARBERA
A1: MARTINA BARBERÁ
A3: CAMPEONATO | E3: SEMANA | F3: PUNTOS | G3: PTOS TOTALES
A4: Copa Andalucia | E4: 2014/07 | F4: 22 | G4: =SUM(F4) -> 22
A5: Spanish Ladies' Amateur | E5: 2014/09 | F5: 15 | G5: =SUM(G4,F5) -> 37
A6: Campeonato de Castellon | E6: 2014/10 | F6: 7 | G6: =SUM(G5,F6) -> 44
A7: Campeonato de Madrid | E7: 2014/11 | F7: 13 | G7: =SUM(G6,F7) -> 57
A8: Campeonato de Espana Intercubes | E8: 2014/13 | F8: 3 | G8: =SUM(G7,F8) -> 60
F9: 0 | G9: =SUM(G8,F9) -> 60
F10: 0 | G10: =SUM(G9,F10) -> 60
G11: =SUM(G10,F11) -> 60
G12: =SUM(G11,F12) -> 60
G13: =SUM(G12,F13) -> 60
G14: =SUM(G13,F14) -> 60
G15: =SUM(G14,F15) -> 60
G16: =SUM(G15,F16) -> 60
G17: =SUM(G16,F17) -> 60
G18: =SUM(G17,F18) -> 60
G19: =SUM(G18,F19) -> 60
G20: =SUM(G19,F20) -> 60
G21: =SUM(G20,F21) -> 60
G22: =SUM(G21,F22) -> 60
... G35: =SUM(G34,F35) -> 60
A37: SUMA 5 MEJORES RESULTADOS | G37: =SUM(I37:N37) -> 60 | I37: =LARGE(F4:F34,1) -> 22 | J37: =LARGE(F4:F34,2) -> 15 | K37: =LARGE(F4:F34,3) -> 13 | L37: =LARGE(F4:F34,4) -> 7 | M37: =LARGE(F4:F34,5) -> 3

Sheet L.LOPEZC
A1: LOURDES LÓPEZ CABALLO
A3: CAMPEONATO | E3: SEMANA | F3: PUNTOS | G3: PTOS TOTALES
A4: UCF Challenge | E4: 2014/07 | F4: 15 | G4: =SUM(F4) -> 15
A5: 3M Lady Jaguar Intercollegiate | E5: 2014/11 | F5: 18 | G5: =SUM(G4,F5) -> 33
A6: Briar's Creek Invitational | E6: 2014/13 | F6: 25 | G6: =SUM(G5,F6) -> 58
A7: Rebel Intercollegiate | E7: 2014/14 | F7: 23 | G7: =SUM(G6,F7) -> 81
F8: 0 | G8: =SUM(G7,F8) -> 81
F9: 0 | G9: =SUM(G8,F9) -> 81
G10: =SUM(G9,F10) -> 81
G11: =SUM(G10,F11) -> 81
G12: =SUM(G11,F12) -> 81
G13: =SUM(G12,F13) -> 81
G14: =SUM(G13,F14) -> 81
G15: =SUM(G14,F15) -> 81
G16: =SUM(G15,F16) -> 81
G17: =SUM(G16,F17) -> 81
G18: =SUM(G17,F18) -> 81
G19: =SUM(G18,F19) -> 81
G20: =SUM(G19,F20) -> 81
G21: =SUM(G20,F21) -> 81
... G35: =SUM(G34,F35) -> 81
A37: SUMA 5 MEJORES RESULTADOS | G37: =SUM(I37:N37) -> 81 | I37: =LARGE(F4:F34,1) -> 25 | J37: =LARGE(F4:F34,2) -> 23 | K37: =LARGE(F4:F34,3) -> 18 | L37: =LARGE(F4:F34,4) -> 15 | M37: =LARGE(F4:F34,5) -> 0

Sheet A.ARRESE
A1: ANNA ARRESE CORTADELLAS
A3: CAMPEONATO | E3: SEMANA | F3: PUNTOS | G3: PTOS TOTALES
F4: 0 | G4: =SUM(F4) -> 0
F5: 0 | G5: =SUM(G4,F5) -> 0
F6: 0 | G6: =SUM(G5,F6) -> 0
F7: 0 | G7: =SUM(G6,F7) -> 0
F8: 0 | G8: =SUM(G7,F8) -> 0
F9: 0 | G9: =SUM(G8,F9) -> 0
F10: 0 | G10: =SUM(G9,F10) -> 0
G11: =SUM(G10,F11) -> 0
G12: =SUM(G11,F12) -> 0
G13: =SUM(G12,F13) -> 0
G14: =SUM(G13,F14) -> 0
G15: =SUM(G14,F15) -> 0
G16: =SUM(G15,F16) -> 0
G17: =SUM(G16,F17) -> 0
G18: =SUM(G17,F18) -> 0
G19: =SUM(G18,F19) -> 0
G20: =SUM(G19,F20) -> 0
G21: =SUM(G20,F21) -> 0
G22: =SUM(G21,F22) -> 0
... G35: =SUM(G34,F35) -> 0
A37: SUMA 5 MEJORES RESULTADOS | G37: =SUM(I37:N37) -> 0 | I37: =LARGE(F4:F34,1) -> 0 | J37: =LARGE(F4:F34,2) -> 0 | K37: =LARGE(F4:F34,3) -> 0 | L37: =LARGE(F4:F34,4) -> 0 | M37: =LARGE(F4:F34,5) -> 0

Sheet C.SAINZ
A1: CARMEN SAINZ DELGADO
A3: CAMPEONATO | E3: SEMANA | F3: PUNTOS | G3: PTOS TOTALES
A4: Copa Andalucia | E4: 2014/07 | F4: 22 | G4: =SUM(F4) -> 22
A5: Campeonato de Madrid | E5: 2014/11 | F5: 4 | G5: =SUM(G4,F5) -> 26
F6: 0 | G6: =SUM(G5,F6) -> 26
F7: 0 | G7: =SUM(G6,F7) -> 26
F8: 0 | G8: =SUM(G7,F8) -> 26
F9: 0 | G9: =SUM(G8,F9) -> 26
F10: 0 | G10: =SUM(G9,F10) -> 26
G11: =SUM(G10,F11) -> 26
G12: =SUM(G11,F12) -> 26
G13: =SUM(G12,F13) -> 26
G14: =SUM(G13,F14) -> 26
G15: =SUM(G14,F15) -> 26
G16: =SUM(G15,F16) -> 26
G17: =SUM(G16,F17) -> 26
G18: =SUM(G17,F18) -> 26
G19: =SUM(G18,F19) -> 26
G20: =SUM(G19,F20) -> 26
G21: =SUM(G20,F21) -> 26
G22: =SUM(G21,F22) -> 26
... G32: =SUM(G31,F32) -> 26
G33: =SUM(G32,F33) -> 26 | I33: =LARGE(F4:F33,1) -> 22 | J33: =LARGE(F4:F33,2) -> 4 | K33: =LARGE(F4:F33,3) -> 0 | L33: =LARGE(F4:F33,4) -> 0 | M33: =LARGE(F4:F33,5) -> 0
A35: SUMA 5 MEJORES RESULTADOS | G35: =SUM(I33:N33) -> 26

Sheet M.TRILLO
A1: MARTA TRILLO GALINDO
A3: CAMPEONATO | E3: SEMANA | F3: PUNTOS | G3: PTOS TOTALES
F4: 0 | G4: =SUM(F4) -> 0
F5: 0 | G5: =SUM(G4,F5) -> 0
F6: 0 | G6: =SUM(G5,F6) -> 0
F7: 0 | G7: =SUM(G6,F7) -> 0
F8: 0 | G8: =SUM(G7,F8) -> 0
F9: 0 | G9: =SUM(G8,F9) -> 0
F10: 0 | G10: =SUM(G9,F10) -> 0
F11: 0 | G11: =SUM(G10,F11) -> 0
G12: =SUM(G11,F12) -> 0
G13: =SUM(G12,F13) -> 0
G14: =SUM(G13,F14) -> 0
G15: =SUM(G14,F15) -> 0
G16: =SUM(G15,F16) -> 0
G17: =SUM(G16,F17) -> 0
G18: =SUM(G17,F18) -> 0
G19: =SUM(G18,F19) -> 0
G20: =SUM(G19,F20) -> 0
G21: =SUM(G20,F21) -> 0
G22: =SUM(G21,F22) -> 0
G23: =SUM(G22,F23) -> 0
... G35: =SUM(G34,F35) -> 0
A37: SUMA 5 MEJORES RESULTADOS | G37: =SUM(I37:N37) -> 0 | I37: =LARGE(F4:F34,1) -> 0 | J37: =LARGE(F4:F34,2) -> 0 | K37: =LARGE(F4:F34,3) -> 0 | L37: =LARGE(F4:F34,4) -> 0 | M37: =LARGE(F4:F34,5) -> 0

Sheet VACÍO
A3: CAMPEONATO | E3: SEMANA | F3: PUNTOS | G3: PTOS TOTALES
F4: 0 | G4: =SUM(F4) -> 0
F5: 0 | G5: =SUM(G4,F5) -> 0
F6: 0 | G6: =SUM(G5,F6) -> 0
F7: 0 | G7: =SUM(G6,F7) -> 0
F8: 0 | G8: =SUM(G7,F8) -> 0
F9: 0 | G9: =SUM(G8,F9) -> 0
F10: 0 | G10: =SUM(G9,F10) -> 0
F11: 0 | G11: =SUM(G10,F11) -> 0
G12: =SUM(G11,F12) -> 0
G13: =SUM(G12,F13) -> 0
G14: =SUM(G13,F14) -> 0
G15: =SUM(G14,F15) -> 0
G16: =SUM(G15,F16) -> 0
G17: =SUM(G16,F17) -> 0
G18: =SUM(G17,F18) -> 0
G19: =SUM(G18,F19) -> 0
G20: =SUM(G19,F20) -> 0
G21: =SUM(G20,F21) -> 0
G22: =SUM(G21,F22) -> 0
G23: =SUM(G22,F23) -> 0
... G35: =SUM(G34,F35) -> 0
A37: SUMA 5 MEJORES RESULTADOS | G37: =SUM(I37:N37) -> 0 | I37: =LARGE(F4:F34,1) -> 0 | J37: =LARGE(F4:F34,2) -> 0 | K37: =LARGE(F4:F34,3) -> 0 | L37: =LARGE(F4:F34,4) -> 0

Sheet I.CALVO
A1: IRENE CALVO SANZ
A3: CAMPEONATO | E3: SEMANA | F3: PUNTOS | G3: PTOS TOTALES
A4: Lady Moc Classic | E4: 2014/08 | F4: 19 | G4: =SUM(F4) -> 19
A5: Peggy Kirk Bell Invitational | E5: 2014/10 | F5: 14 | G5: =SUM(G4,F5) -> 33
A6: Plantation Inn Collegiate Invitational | E6: 2014/12 | F6: 16 | G6: =SUM(G5,F6) -> 49
F7: 0 | G7: =SUM(G6,F7) -> 49
F8: 0 | G8: =SUM(G7,F8) -> 49
F9: 0 | G9: =SUM(G8,F9) -> 49
G10: =SUM(G9,F10) -> 49
G11: =SUM(G10,F11) -> 49
G12: =SUM(G11,F12) -> 49
G13: =SUM(G12,F13) -> 49
G14: =SUM(G13,F14) -> 49
G15: =SUM(G14,F15) -> 49
G16: =SUM(G15,F16) -> 49
G17: =SUM(G16,F17) -> 49
G18: =SUM(G17,F18) -> 49
G19: =SUM(G18,F19) -> 49
G20: =SUM(G19,F20) -> 49
G21: =SUM(G20,F21) -> 49
... G35: =SUM(G34,F35) -> 49
A37: SUMA 5 MEJORES RESULTADOS | G37: =SUM(I37:N37) -> 49 | I37: =LARGE(F4:F34,1) -> 19 | J37: =LARGE(F4:F34,2) -> 16 | K37: =LARGE(F4:F34,3) -> 14 | L37: =LARGE(F4:F34,4) -> 0 | M37: =LARGE(F4:F34,5) -> 0

Sheet A.FDEZDEMESA
A1: ANA FERNÁNDEZ DE MESA
A3: CAMPEONATO | E3: SEMANA | F3: PUNTOS | G3: PTOS TOTALES
F4: 0 | G4: =SUM(F4) -> 0
F5: 0 | G5: =SUM(G4,F5) -> 0
F6: 0 | G6: =SUM(G5,F6) -> 0
F7: 0 | G7: =SUM(G6,F7) -> 0
F8: 0 | G8: =SUM(G7,F8) -> 0
F9: 0 | G9: =SUM(G8,F9) -> 0
F10: 0 | G10: =SUM(G9,F10) -> 0
G11: =SUM(G10,F11) -> 0
G12: =SUM(G11,F12) -> 0
G13: =SUM(G12,F13) -> 0
G14: =SUM(G13,F14) -> 0
G15: =SUM(G14,F15) -> 0
G16: =SUM(G15,F16) -> 0
G17: =SUM(G16,F17) -> 0
G18: =SUM(G17,F18) -> 0
G19: =SUM(G18,F19) -> 0
G20: =SUM(G19,F20) -> 0
G21: =SUM(G20,F21) -> 0
G22: =SUM(G21,F22) -> 0
... G35: =SUM(G34,F35) -> 0
A37: SUMA 5 MEJORES RESULTADOS | G37: =SUM(I37:N37) -> 0 | I37: =LARGE(F4:F34,1) -> 0 | J37: =LARGE(F4:F34,2) -> 0 | K37: =LARGE(F4:F34,3) -> 0 | L37: =LARGE(F4:F34,4) -> 0 | M37: =LARGE(F4:F34,5) -> 0

Sheet A.SANJUAN
A1: ANA SANJUÁN GUTIÉRREZ
A3: CAMPEONATO | E3: SEMANA | F3: PUNTOS | G3: PTOS TOTALES
A4: Central District Invitational | E4: 2014/08 | F4: 24 | G4: =SUM(F4) -> 24
A5: Westbrook Invitational | E5: 2014/09 | F5: 21 | G5: =SUM(G4,F5) -> 45
A6: BYU at Entrada Classic | E6: 2014/12 | F6: 20 | G6: =SUM(G5,F6) -> 65
A7: Briar's Creek Invitational | E7: 2014/13 | F7: 24 | G7: =SUM(G6,F7) -> 89
F8: 0 | G8: =SUM(G7,F8) -> 89
F9: 0 | G9: =SUM(G8,F9) -> 89
F10: 0 | G10: =SUM(G9,F10) -> 89
G11: =SUM(G10,F11) -> 89
G12: =SUM(G11,F12) -> 89
G13: =SUM(G12,F13) -> 89
G14: =SUM(G13,F14) -> 89
G15: =SUM(G14,F15) -> 89
G16: =SUM(G15,F16) -> 89
G17: =SUM(G16,F17) -> 89
G18: =SUM(G17,F18) -> 89
G19: =SUM(G18,F19) -> 89
G20: =SUM(G19,F20) -> 89
G21: =SUM(G20,F21) -> 89
G22: =SUM(G21,F22) -> 89
... G34: =SUM(G33,F34) -> 89
G35: =SUM(G34,F35) -> 89 | I35: =LARGE(F2:F32,1) -> 24 | J35: =LARGE(F4:F34,2) -> 24 | K35: =LARGE(F4:F34,3) -> 21 | L35: =LARGE(F4:F34,4) -> 20 | M35: =LARGE(F4:F34,5) -> 0
A37: SUMA 5 MEJORES RESULTADOS | G37: =SUM(I35:N35) -> 89

Sheet L.GOMEZ
A1: LAURA M. GÓMEZ RUIZ
A3: CAMPEONATO | E3: SEMANA | F3: PUNTOS | G3: PTOS TOTALES
A4: Copa Andalucia | E4: 2014/07 | F4: 11 | G4: =SUM(F4) -> 11
A5: Spanish Ladies' Amateur | E5: 2014/07 | F5: 9 | G5: =SUM(G4,F5) -> 20
A6: Campeonato de Madrid | E6: 2014/11 | F6: 13 | G6: =SUM(G5,F6) -> 33
F7: 0 | G7: =SUM(G6,F7) -> 33
F8: 0 | G8: =SUM(G7,F8) -> 33
F9: 0 | G9: =SUM(G8,F9) -> 33
F10: 0 | G10: =SUM(G9,F10) -> 33
G11: =SUM(G10,F11) -> 33
G12: =SUM(G11,F12) -> 33
G13: =SUM(G12,F13) -> 33
G14: =SUM(G13,F14) -> 33
G15: =SUM(G14,F15) -> 33
G16: =SUM(G15,F16) -> 33
G17: =SUM(G16,F17) -> 33
G18: =SUM(G17,F18) -> 33
G19: =SUM(G18,F19) -> 33
G20: =SUM(G19,F20) -> 33
G21: =SUM(G20,F21) -> 33
G22: =SUM(G21,F22) -> 33
... G35: =SUM(G34,F35) -> 33
A37: SUMA 5 MEJORES RESULTADOS | G37: =SUM(I37:N37) -> 33 | I37: =LARGE(F4:F34,1) -> 13 | J37: =LARGE(F4:F34,2) -> 11 | K37: =LARGE(F4:F34,3) -> 9 | L37: =LARGE(F4:F34,4) -> 0 | M37: =LARGE(F4:F34,5) -> 0

Sheet M.CASTILLO
A1: MARÍA CASTILLO DOLAGARAY
A3: CAMPEONATO | E3: SEMANA | F3: PUNTOS | G3: PTOS TOTALES
A4: Open International Seniors - Trophee Simone Thion De La Chaume | E4: 2014/14 | F4: 5.25 | G4: =SUM(F4) -> 5.25
F5: 0 | G5: =SUM(G4,F5) -> 5.25
F6: 0 | G6: =SUM(G5,F6) -> 5.25
F7: 0 | G7: =SUM(G6,F7) -> 5.25
F8: 0 | G8: =SUM(G7,F8) -> 5.25
F9: 0 | G9: =SUM(G8,F9) -> 5.25
F10: 0 | G10: =SUM(G9,F10) -> 5.25
F11: 0 | G11: =SUM(G10,F11) -> 5.25
G12: =SUM(G11,F12) -> 5.25
G13: =SUM(G12,F13) -> 5.25
G14: =SUM(G13,F14) -> 5.25
G15: =SUM(G14,F15) -> 5.25
G16: =SUM(G15,F16) -> 5.25
G17: =SUM(G16,F17) -> 5.25
G18: =SUM(G17,F18) -> 5.25
G19: =SUM(G18,F19) -> 5.25
G20: =SUM(G19,F20) -> 5.25
G21: =SUM(G20,F21) -> 5.25
G22: =SUM(G21,F22) -> 5.25
G23: =SUM(G22,F23) -> 5.25
... G35: =SUM(G34,F35) -> 5.25
A37: SUMA 5 MEJORES RESULTADOS | G37: =SUM(I37:N37) -> 5.25 | I37: =LARGE(F4:F34,1) -> 5.25 | J37: =LARGE(F4:F34,2) -> 0 | K37: =LARGE(F4:F34,3) -> 0 | L37: =LARGE(F4:F34,4) -> 0 | M37: =LARGE(F4:F34,5) -> 0

Sheet J.YAÑEZ
A1: JOANA YÁÑEZ ABADES
A3: CAMPEONATO | E3: SEMANA | F3: PUNTOS | G3: PTOS TOTALES
F4: 0 | G4: =SUM(F4) -> 0
F5: 0 | G5: =SUM(G4,F5) -> 0
F6: 0 | G6: =SUM(G5,F6) -> 0
F7: 0 | G7: =SUM(G6,F7) -> 0
F8: 0 | G8: =SUM(G7,F8) -> 0
F9: 0 | G9: =SUM(G8,F9) -> 0
F10: 0 | G10: =SUM(G9,F10) -> 0
F11: 0 | G11: =SUM(G10,F11) -> 0
G12: =SUM(G11,F12) -> 0
G13: =SUM(G12,F13) -> 0
G14: =SUM(G13,F14) -> 0
G15: =SUM(G14,F15) -> 0
G16: =SUM(G15,F16) -> 0
G17: =SUM(G16,F17) -> 0
G18: =SUM(G17,F18) -> 0
G19: =SUM(G18,F19) -> 0
G20: =SUM(G19,F20) -> 0
G21: =SUM(G20,F21) -> 0
G22: =SUM(G21,F22) -> 0
G23: =SUM(G22,F23) -> 0
... G35: =SUM(G34,F35) -> 0
A37: SUMA 5 MEJORES RESULTADOS | G37: =SUM(I37:N37) -> 0 | I37: =LARGE(F4:F34,1) -> 0 | J37: =LARGE(F4:F34,2) -> 0 | K37: =LARGE(F4:F34,3) -> 0

Sheet M.MARTIN
A1: MARTA MARTÍN GARCÍA
A3: CAMPEONATO | E3: SEMANA | F3: PUNTOS | G3: PTOS TOTALES
A4: Match Spain v Sweden | E4: 2014/05 | F4: 5 | G4: =SUM(F4) -> 5
A5: Copa Andalucia | E5: 2014/07 | F5: 24 | G5: =SUM(G4,F5) -> 29
A6: Spanish Ladies' Amateur | E6: 2014/09 | F6: 20 | G6: =SUM(G5,F6) -> 49
F7: 0 | G7: =SUM(G6,F7) -> 49
F8: 0 | G8: =SUM(G7,F8) -> 49
F9: 0 | G9: =SUM(G8,F9) -> 49
F10: 0 | G10: =SUM(G9,F10) -> 49
G11: =SUM(G10,F11) -> 49
G12: =SUM(G11,F12) -> 49
G13: =SUM(G12,F13) -> 49
G14: =SUM(G13,F14) -> 49
G15: =SUM(G14,F15) -> 49
G16: =SUM(G15,F16) -> 49
G17: =SUM(G16,F17) -> 49
G18: =SUM(G17,F18) -> 49
G19: =SUM(G18,F19) -> 49
G20: =SUM(G19,F20) -> 49
G21: =SUM(G20,F21) -> 49
G22: =SUM(G21,F22) -> 49
... G35: =SUM(G34,F35) -> 49
A37: SUMA 5 MEJORES RESULTADOS | G37: =SUM(I37:N37) -> 49 | I37: =LARGE(F4:F34,1) -> 24 | J37: =LARGE(F4:F34,2) -> 20 | K37: =LARGE(F4:F34,3) -> 5 | L37: =LARGE(F4:F34,4) -> 0 | M37: =LARGE(F4:F34,5) -> 0

Sheet C.OFRECIO
A1: CRISTINA OFRECIO BACAS
A3: CAMPEONATO | E3: SEMANA | F3: PUNTOS | G3: PTOS TOTALES
A4: Spanish Ladies' Amateur | E4: 2014/09 | F4: 16 | G4: =SUM(F4) -> 16
A5: Campeonato de Espana Intercubes | E5: 2014/13 | F5: 2 | G5: =SUM(G4,F5) -> 18
F6: 0 | G6: =SUM(G5,F6) -> 18
F7: 0 | G7: =SUM(G6,F7) -> 18
F8: 0 | G8: =SUM(G7,F8) -> 18
F9: 0 | G9: =SUM(G8,F9) -> 18
F10: 0 | G10: =SUM(G9,F10) -> 18
G11: =SUM(G10,F11) -> 18
G12: =SUM(G11,F12) -> 18
G13: =SUM(G12,F13) -> 18
G14: =SUM(G13,F14) -> 18
G15: =SUM(G14,F15) -> 18
G16: =SUM(G15,F16) -> 18
G17: =SUM(G16,F17) -> 18
G18: =SUM(G17,F18) -> 18
G19: =SUM(G18,F19) -> 18
G20: =SUM(G19,F20) -> 18
G21: =SUM(G20,F21) -> 18
G22: =SUM(G21,F22) -> 18
... G35: =SUM(G34,F35) -> 18
A37: SUMA 5 MEJORES RESULTADOS. | G37: =SUM(I37:N37) -> 18 | I37: =LARGE(F4:F34,1) -> 16 | J37: =LARGE(F4:F34,2) -> 2 | K37: =LARGE(F4:F34,3) -> 0 | L37: =LARGE(F4:F34,4) -> 0 | M37: =LARGE(F4:F34,5) -> 0

Sheet I.REIJERS
A1: IVON REIJERS NAVAS
A3: CAMPEONATO | E3: SEMANA | F3: PUNTOS | G3: PTOS TOTALES
A4: Le Triomphe Collegiate Invite | E4: 2014/07 | F4: 8 | G4: =SUM(F4) -> 8
A5: Mountain View Collegiate | E5: 2014/13 | F5: 23 | G5: =SUM(G4,F5) -> 31
F6: 0 | G6: =SUM(G5,F6) -> 31
F7: 0 | G7: =SUM(G6,F7) -> 31
F8: 0 | G8: =SUM(G7,F8) -> 31
F9: 0 | G9: =SUM(G8,F9) -> 31
G10: =SUM(G9,F10) -> 31
G11: =SUM(G10,F11) -> 31
G12: =SUM(G11,F12) -> 31
G13: =SUM(G12,F13) -> 31
G14: =SUM(G13,F14) -> 31
G15: =SUM(G14,F15) -> 31
G16: =SUM(G15,F16) -> 31
G17: =SUM(G16,F17) -> 31
G18: =SUM(G17,F18) -> 31
G19: =SUM(G18,F19) -> 31
G20: =SUM(G19,F20) -> 31
G21: =SUM(G20,F21) -> 31
... G35: =SUM(G34,F35) -> 31
A37: SUMA 5 MEJORES RESULTADOS. | G37: =SUM(I37:N37) -> 31 | I37: =LARGE(F4:F34,1) -> 23 | J37: =LARGE(F4:F34,2) -> 8 | K37: =LARGE(F4:F34,3) -> 0 | L37: =LARGE(F4:F34,4) -> 0 | M37: =LARGE(F4:F34,5) -> 0

Sheet P.MUSTIENES
A1: PAULA MUSTIENES FERRER
A3: CAMPEONATO | E3: SEMANA | F3: PUNTOS | G3: PTOS TOTALES
F4: 0 | G4: =SUM(F4) -> 0
F5: 0 | G5: =SUM(G4,F5) -> 0
F6: 0 | G6: =SUM(G5,F6) -> 0
F7: 0 | G7: =SUM(G6,F7) -> 0
F8: 0 | G8: =SUM(G7,F8) -> 0
F9: 0 | G9: =SUM(G8,F9) -> 0
F10: 0 | G10: =SUM(G9,F10) -> 0
G11: =SUM(G10,F11) -> 0
G12: =SUM(G11,F12) -> 0
G13: =SUM(G12,F13) -> 0
G14: =SUM(G13,F14) -> 0
G15: =SUM(G14,F15) -> 0
G16: =SUM(G15,F16) -> 0
G17: =SUM(G16,F17) -> 0
G18: =SUM(G17,F18) -> 0
G19: =SUM(G18,F19) -> 0
G20: =SUM(G19,F20) -> 0
G21: =SUM(G20,F21) -> 0
G22: =SUM(G21,F22) -> 0
... G35: =SUM(G34,F35) -> 0
A37: SUMA 5 MEJORES RESULTADOS. | G37: =SUM(I37:N37) -> 0 | I37: =LARGE(F4:F34,1) -> 0 | J37: =LARGE(F4:F34,2) -> 0 | K37: =LARGE(F4:F34,3) -> 0 | L37: =LARGE(F4:F34,4) -> 0 | M37: =LARGE(F4:F34,5) -> 0

Sheet M.PARRA
A1: MARÍA PARRA LUQUE
A3: CAMPEONATO | E3: SEMANA | F3: PUNTOS | G3: PTOS TOTALES
A4: Match Spain v Sweden | E4: 2014/05 | F4: 5 | G4: =SUM(F4) -> 5
A5: Copa Andalucia | E5: 2014/07 | F5: 30.5 | G5: =SUM(G4,F5) -> 35.5
A6: Spanish Ladies' Amateur | E6: 2014/09 | F6: 15 | G6: =SUM(G5,F6) -> 50.5
A7: European Nations Cup Individual | E7: 2014/10 | F7: 31 | G7: =SUM(G6,F7) -> 81.5
A8: Campeonato de Madrid | E8: 2014/11 | F8: 29.5 | G8: =SUM(G7,F8) -> 111
F9: 0 | G9: =SUM(G8,F9) -> 111
F10: 0 | G10: =SUM(G9,F10) -> 111
G11: =SUM(G10,F11) -> 111
G12: =SUM(G11,F12) -> 111
G13: =SUM(G12,F13) -> 111
G14: =SUM(G13,F14) -> 111
G15: =SUM(G14,F15) -> 111
G16: =SUM(G15,F16) -> 111
G17: =SUM(G16,F17) -> 111
G18: =SUM(G17,F18) -> 111
G19: =SUM(G18,F19) -> 111
G20: =SUM(G19,F20) -> 111
G21: =SUM(G20,F21) -> 111
G22: =SUM(G21,F22) -> 111
... G35: =SUM(G34,F35) -> 111
A37: SUMA 5 MEJORES RESULTADOS | G37: =SUM(I37:N37) -> 111 | I37: =LARGE(F4:F34,1) -> 31 | J37: =LARGE(F4:F34,2) -> 30.5 | K37: =LARGE(F4:F34,3) -> 29.5 | L37: =LARGE(F4:F34,4) -> 15 | M37: =LARGE(F4:F34,5) -> 5

Sheet M.VELASCO
A1: MARÍA VELASCO FERNÁNDEZ
A3: CAMPEONATO | E3: SEMANA | F3: PUNTOS | G3: PTOS TOTALES
A4: Copa Andalucia | E4: 2014/07 | F4: 15 | G4: =SUM(F4) -> 15
F5: 0 | G5: =SUM(G4,F5) -> 15
F6: 0 | G6: =SUM(G5,F6) -> 15
F7: 0 | G7: =SUM(G6,F7) -> 15
F8: 0 | G8: =SUM(G7,F8) -> 15
F9: 0 | G9: =SUM(G8,F9) -> 15
F10: 0 | G10: =SUM(G9,F10) -> 15
G11: =SUM(G10,F11) -> 15
G12: =SUM(G11,F12) -> 15
G13: =SUM(G12,F13) -> 15
G14: =SUM(G13,F14) -> 15
G15: =SUM(G14,F15) -> 15
G16: =SUM(G15,F16) -> 15
G17: =SUM(G16,F17) -> 15
G18: =SUM(G17,F18) -> 15
G19: =SUM(G18,F19) -> 15
G20: =SUM(G19,F20) -> 15
G21: =SUM(G20,F21) -> 15
G22: =SUM(G21,F22) -> 15
... G35: =SUM(G34,F35) -> 15
A37: SUMA 5 MEJORES RESULTADOS | G37: =SUM(I37:N37) -> 15 | I37: =LARGE(F4:F34,1) -> 15 | J37: =LARGE(F4:F34,2) -> 0 | K37: =LARGE(F4:F34,3) -> 0 | L37: =LARGE(F4:F34,4) -> 0 | M37: =LARGE(F4:F34,5) -> 0

Sheet C.PEREZIGUARAN
A1: CRISTINA PÉREZ IGUARÁN
A3: CAMPEONATO | E3: SEMANA | F3: PUNTOS | G3: PTOS TOTALES
A4: Match Spain v Sweden | E4: 2014/05 | F4: 5 | G4: =SUM(F4) -> 5
A5: Copa Andalucia | E5: 2014/07 | F5: 12 | G5: =SUM(G4,F5) -> 17
A6: Campeonato de Madrid | E6: 2014/11 | F6: 13 | G6: =SUM(G5,F6) -> 30
F7: 0 | G7: =SUM(G6,F7) -> 30
F8: 0 | G8: =SUM(G7,F8) -> 30
F9: 0 | G9: =SUM(G8,F9) -> 30
G10: =SUM(G9,F10) -> 30
G11: =SUM(G10,F11) -> 30
G12: =SUM(G11,F12) -> 30
G13: =SUM(G12,F13) -> 30
G14: =SUM(G13,F14) -> 30
G15: =SUM(G14,F15) -> 30
G16: =SUM(G15,F16) -> 30
G17: =SUM(G16,F17) -> 30
G18: =SUM(G17,F18) -> 30
G19: =SUM(G18,F19) -> 30
G20: =SUM(G19,F20) -> 30
G21: =SUM(G20,F21) -> 30
... G35: =SUM(G34,F35) -> 30
A37: SUMA 5 MEJORES RESULTADOS | G37: =SUM(I37:N37) -> 30 | I37: =LARGE(F4:F34,1) -> 13 | J37: =LARGE(F4:F34,2) -> 12 | K37: =LARGE(F4:F34,3) -> 5 | L37: =LARGE(F4:F34,4) -> 0 | M37: =LARGE(F4:F34,5) -> 0

Sheet O.FERRER
A1: OLIVIA FERRER SAURA
A3: CAMPEONATO | E3: SEMANA | F3: PUNTOS | G3: PTOS TOTALES
F4: 0 | G4: =SUM(F4) -> 0
F5: 0 | G5: =SUM(G4,F5) -> 0
F6: 0 | G6: =SUM(G5,F6) -> 0
F7: 0 | G7: =SUM(G6,F7) -> 0
F8: 0 | G8: =SUM(G7,F8) -> 0
F9: 0 | G9: =SUM(G8,F9) -> 0
F10: 0 | G10: =SUM(G9,F10) -> 0
F11: 0 | G11: =SUM(G10,F11) -> 0
G12: =SUM(G11,F12) -> 0
G13: =SUM(G12,F13) -> 0
G14: =SUM(G13,F14) -> 0
G15: =SUM(G14,F15) -> 0
G16: =SUM(G15,F16) -> 0
G17: =SUM(G16,F17) -> 0
G18: =SUM(G17,F18) -> 0
G19: =SUM(G18,F19) -> 0
G20: =SUM(G19,F20) -> 0
G21: =SUM(G20,F21) -> 0
G22: =SUM(G21,F22) -> 0
G23: =SUM(G22,F23) -> 0
... G35: =SUM(G34,F35) -> 0
A37: SUMA 5 MEJORES RESULTADOS | G37: =SUM(I37:N37) -> 0 | I37: =LARGE(F4:F34,1) -> 0 | J37: =LARGE(F4:F34,2) -> 0 | K37: =LARGE(F4:F34,3) -> 0 | L37: =LARGE(F4:F34,4) -> 0

Sheet A.BLASCO
A1: ALMUDENA BLASCO ESTEVE
A3: CAMPEONATO | E3: SEMANA | F3: PUNTOS | G3: PTOS TOTALES
A4: Campeonato de Espana Intercubes | E4: 2014/13 | F4: 14 | G4: =SUM(F4) -> 14
F5: 0 | G5: =SUM(G4,F5) -> 14
F6: 0 | G6: =SUM(G5,F6) -> 14
F7: 0 | G7: =SUM(G6,F7) -> 14
F8: 0 | G8: =SUM(G7,F8) -> 14
F9: 0 | G9: =SUM(G8,F9) -> 14
F10: 0 | G10: =SUM(G9,F10) -> 14
F11: 0 | G11: =SUM(G10,F11) -> 14
G12: =SUM(G11,F12) -> 14
G13: =SUM(G12,F13) -> 14
G14: =SUM(G13,F14) -> 14
G15: =SUM(G14,F15) -> 14
G16: =SUM(G15,F16) -> 14
G17: =SUM(G16,F17) -> 14
G18: =SUM(G17,F18) -> 14
G19: =SUM(G18,F19) -> 14
G20: =SUM(G19,F20) -> 14
G21: =SUM(G20,F21) -> 14
G22: =SUM(G21,F22) -> 14
G23: =SUM(G22,F23) -> 14
... G35: =SUM(G34,F35) -> 14
A37: SUMA 5 MEJORES RESULTADOS | G37: =SUM(I37:N37) -> 14 | I37: =LARGE(F4:F34,1) -> 14 | J37: =LARGE(F4:F34,2) -> 0 | K37: =LARGE(F4:F34,3) -> 0 | L37: =LARGE(F4:F34,4) -> 0

Sheet E.VALIENTE
A1: EVA VALIENTE MARTÍNEZ
A3: CAMPEONATO | E3: SEMANA | F3: PUNTOS | G3: PTOS TOTALES
F4: 0 | G4: =SUM(F4) -> 0
F5: 0 | G5: =SUM(G4,F5) -> 0
F6: 0 | G6: =SUM(G5,F6) -> 0
F7: 0 | G7: =SUM(G6,F7) -> 0
F8: 0 | G8: =SUM(G7,F8) -> 0
F9: 0 | G9: =SUM(G8,F9) -> 0
F10: 0 | G10: =SUM(G9,F10) -> 0
G11: =SUM(G10,F11) -> 0
G12: =SUM(G11,F12) -> 0
G13: =SUM(G12,F13) -> 0
G14: =SUM(G13,F14) -> 0
G15: =SUM(G14,F15) -> 0
G16: =SUM(G15,F16) -> 0
G17: =SUM(G16,F17) -> 0
G18: =SUM(G17,F18) -> 0
G19: =SUM(G18,F19) -> 0
G20: =SUM(G19,F20) -> 0
G21: =SUM(G20,F21) -> 0
G22: =SUM(G21,F22) -> 0
... G35: =SUM(G34,F35) -> 0
A37: SUMA 5 MEJORES RESULTADOS | G37: =SUM(I37:N37) -> 0 | I37: =LARGE(F4:F34,1) -> 0 | J37: =LARGE(F4:F34,2) -> 0 | K37: =LARGE(F4:F34,3) -> 0 | L37: =LARGE(F4:F34,4) -> 0 | M37: =LARGE(F4:F34,5) -> 0

Sheet I.ROLLAN
A1: IRENE ROLLÁN BIURRARENA
A3: CAMPEONATO | E3: SEMANA | F3: PUNTOS | G3: PTOS TOTALES
A4: Copa Andalucia | E4: 2014/07 | F4: 19 | G4: =SUM(F4) -> 19
A5: Campeonato de Madrid | E5: 2014/11 | F5: 20 | G5: =SUM(G4,F5) -> 39
A6: Campeonato de Espana Intercubes | E6: 2014/13 | F6: 20.75 | G6: =SUM(G5,F6) -> 59.75
F7: 0 | G7: =SUM(G6,F7) -> 59.75
F8: 0 | G8: =SUM(G7,F8) -> 59.75
F9: 0 | G9: =SUM(G8,F9) -> 59.75
G10: =SUM(G9,F10) -> 59.75
G11: =SUM(G10,F11) -> 59.75
G12: =SUM(G11,F12) -> 59.75
G13: =SUM(G12,F13) -> 59.75
G14: =SUM(G13,F14) -> 59.75
G15: =SUM(G14,F15) -> 59.75
G16: =SUM(G15,F16) -> 59.75
G17: =SUM(G16,F17) -> 59.75
G18: =SUM(G17,F18) -> 59.75
G19: =SUM(G18,F19) -> 59.75
G20: =SUM(G19,F20) -> 59.75
G21: =SUM(G20,F21) -> 59.75
... G35: =SUM(G34,F35) -> 59.75
A37: SUMA 5 MEJORES RESULTADOS | G37: =SUM(I37:N37) -> 59.75 | I37: =LARGE(F4:F34,1) -> 20.75 | J37: =LARGE(F4:F34,2) -> 20 | K37: =LARGE(F4:F34,3) -> 19 | L37: =LARGE(F4:F34,4) -> 0 | M37: =LARGE(F4:F34,5) -> 0

Sheet M.PARRON
A1: MARÍA PARRÓN ALFÉREZ
A3: CAMPEONATO | E3: SEMANA | F3: PUNTOS | G3: PTOS TOTALES
F4: 0 | G4: =SUM(F4) -> 0
F5: 0 | G5: =SUM(G4,F5) -> 0
F6: 0 | G6: =SUM(G5,F6) -> 0
F7: 0 | G7: =SUM(G6,F7) -> 0
F8: 0 | G8: =SUM(G7,F8) -> 0
F9: 0 | G9: =SUM(G8,F9) -> 0
F10: 0 | G10: =SUM(G9,F10) -> 0
G11: =SUM(G10,F11) -> 0
G12: =SUM(G11,F12) -> 0
G13: =SUM(G12,F13) -> 0
G14: =SUM(G13,F14) -> 0
G15: =SUM(G14,F15) -> 0
G16: =SUM(G15,F16) -> 0
G17: =SUM(G16,F17) -> 0
G18: =SUM(G17,F18) -> 0
G19: =SUM(G18,F19) -> 0
G20: =SUM(G19,F20) -> 0
G21: =SUM(G20,F21) -> 0
G22: =SUM(G21,F22) -> 0
... G35: =SUM(G34,F35) -> 0
A37: SUMA 5 MEJORES RESULTADOS | G37: =SUM(I37:N37) -> 0 | I37: =LARGE(F4:F34,1) -> 0 | J37: =LARGE(F4:F34,2) -> 0 | K37: =LARGE(F4:F34,3) -> 0 | L37: =LARGE(F4:F34,4) -> 0 | M37: =LARGE(F4:F34,5) -> 0

Sheet B.CASTRO
A1: BÁRBARA CASTRO
A3: CAMPEONATO | E3: SEMANA | F3: PUNTOS | G3: PTOS TOTALES
A4: Campeonato de Madrid | E4: 2014/11 | F4: 13 | G4: =SUM(F4) -> 13
F5: 0 | G5: =SUM(G4,F5) -> 13
F6: 0 | G6: =SUM(G5,F6) -> 13
F7: 0 | G7: =SUM(G6,F7) -> 13
F8: 0 | G8: =SUM(G7,F8) -> 13
F9: 0 | G9: =SUM(G8,F9) -> 13
G10: =SUM(G9,F10) -> 13
G11: =SUM(G10,F11) -> 13
G12: =SUM(G11,F12) -> 13
G13: =SUM(G12,F13) -> 13
G14: =SUM(G13,F14) -> 13
G15: =SUM(G14,F15) -> 13
G16: =SUM(G15,F16) -> 13
G17: =SUM(G16,F17) -> 13
G18: =SUM(G17,F18) -> 13
G19: =SUM(G18,F19) -> 13
G20: =SUM(G19,F20) -> 13
G21: =SUM(G20,F21) -> 13
... G35: =SUM(G34,F35) -> 13
A37: SUMA 5 MEJORES RESULTADOS | G37: =SUM(I37:N37) -> 13 | I37: =LARGE(F4:F34,1) -> 13 | J37: =LARGE(F4:F34,2) -> 0 | K37: =LARGE(F4:F34,3) -> 0 | L37: =LARGE(F4:F34,4) -> 0 | M37: =LARGE(F4:F34,5) -> 0

Sheet M.PALACIOS
A1: MARÍA PALACIOS
A3: CAMPEONATO | E3: SEMANA | F3: PUNTOS | G3: PTOS TOTALES
A4: UCF Challenge | E4: 2014/07 | F4: 20 | G4: =SUM(F4) -> 20
A5: JMU Eagle Landing Invite | E5: 2014/11 | F5: 35.5 | G5: =SUM(G4,F5) -> 55.5
A6: UALR Golf Classic | E6: 2014/13 | F6: 27 | G6: =SUM(G5,F6) -> 82.5
A7: John Kirk-Panther Intercollegiate | E7: 2013/14 | F7: 53.5 | G7: =SUM(G6,F7) -> 136
F8: 0 | G8: =SUM(G7,F8) -> 136
