Workbook

Sheet Contabilidad
B2: =F13 -> Antonio PLANELLS ROIG
A12: Fecha | B12: Nº Asiento | C12: Nº Doc. | D12: Tipo | E12: Nº de cuenta | F12: Descripción | H12: Act. | I12: Grupo | J12: Actividad | K12: Debe | L12: Haber | M12: Tipo Contr. | N12: Cta. Contr. | O12: Cód. Depart. | P12: Cód. Programa
D13: C | E13: =IF(D13="C",65501,7) -> 65501 | F13: =Liquidacion!D13 -> Antonio PLANELLS ROIG | G13: =Liquidacion!D7 -> VARIOS C.T. JUVENIL | H13: =Liquidacion!G7 -> 12-444 | I13: 0 | K13: =Liquidacion!H55-Liquidacion!H44 -> 0 | P13: =Liquidacion!$H$7 -> 0
D14: C | E14: 65500 | F14: =Liquidacion!D13 -> Antonio PLANELLS ROIG | G14: =Liquidacion!D7 -> VARIOS C.T. JUVENIL | H14: =Liquidacion!G7 -> 12-444 | I14: 0 | K14: =Liquidacion!H44 -> 0 | P14: =Liquidacion!$H$7 -> 0
D15: P | F15: Justificación | G15: =F14 -> Antonio PLANELLS ROIG | L15: =Liquidacion!H65 -> 0 | O15: =Liquidacion!G13 -> 0 | P15: =Liquidacion!$H$7 -> 0
D16: =IF(Liquidacion!A65=0,"","B") | E16: =IF(D16="B",7,) -> 0 | F16: =IF(D16="B",Liquidacion!A65,) -> 0 | G16: =IF(D16="B",Liquidacion!$D$7,) -> 0 | K16: =IF(D16="B",Liquidacion!B65,) -> 0 | O16: =F16 -> 0 | P16: =Liquidacion!$H$7 -> 0
D17: =IF(Liquidacion!A66=0,"","B") | E17: =IF(D17="B",7,) -> 0 | F17: =IF(D17="B",Liquidacion!A66,) -> 0 | G17: =IF(D17="B",Liquidacion!$D$7,) -> 0 | K17: =IF(D17="B",Liquidacion!B66,) -> 0 | O17: =F17 -> 0 | P17: =Liquidacion!$H$7 -> 0
D18: =IF(Liquidacion!A67=0,"","B") | E18: =IF(D18="B",7,) -> 0 | F18: =IF(D18="B",Liquidacion!A67,) -> 0 | G18: =IF(D18="B",Liquidacion!$D$7,) -> 0 | K18: =IF(D18="B",Liquidacion!B67,) -> 0 | O18: =F18 -> 0 | P18: =Liquidacion!$H$7 -> 0
D19: =IF(Liquidacion!A68=0,"","B") | E19: =IF(D19="B",7,) -> 0 | F19: =IF(D19="B",Liquidacion!A68,) -> 0 | G19: =IF(D19="B",Liquidacion!$D$7,) -> 0 | K19: =IF(D19="B",Liquidacion!B68,) -> 0 | O19: =F19 -> 0 | P19: =Liquidacion!$H$7 -> 0
D20: =IF(Liquidacion!A69=0,"","B") | E20: =IF(D20="B",7,) -> 0 | F20: =IF(D20="B",Liquidacion!A69,) -> 0 | G20: =IF(D20="B",Liquidacion!$D$7,) -> 0 | K20: =IF(D20="B",Liquidacion!B69,) -> 0 | O20: =F20 -> 0 | P20: =Liquidacion!$H$7 -> 0
F21: =IF(K21=L21,"El Asiento está cuadrado","El Asiento NO está cuadrado") -> El Asiento está cuadrado | K21: =SUM(K13:K20) -> 0 | L21: =SUM(L13:L20) -> 0
D22: C | E22: B
A25: Comentarios:

Sheet Liquidacion
B2: REAL FEDERACION ESPAÑOLA DE GOLF
D6: Datos de la prueba | G6: Actuación | H6: Comité
B7: Prueba | D7: VARIOS C.T. JUVENIL | G7: =VLOOKUP($D$7,Datos!$A$1:$AM$184,3,FALSE) -> 12-444 | H7: =VLOOKUP($D$7,Datos!$A$1:$AM$184,4,FALSE) -> 0 | K7: =CONCATENATE(I7," - ",J7) -> -
K8: =CONCATENATE(I8," - ",J8) -> -
B9: Lugar | D9: En Presupuesto | E9: =VLOOKUP($D$7,Datos!$A$1:$AN$184,2,FALSE) -> A DETERMINAR | G9: Real | H9: Torino La Mandria (Italia) | K9: =CONCATENATE(I9," - ",J9) -> -
K10: =CONCATENATE(I10," - ",J10) -> -
B11: Fechas | D11: En Presupuesto | E11: =VLOOKUP($D$7,Datos!$A$1:$AN$184,5,FALSE) -> 40909 | F11: =VLOOKUP($D$7,Datos!$A$1:$AN$184,6,FALSE) -> 41274 | G11: Reales | H11: 5/09/2012 6/09/2012 | K11: =CONCATENATE(I11," - ",J11) -> -
D12: Nombre y apellidos | G12: Departamento | H12: Programa | K12: =CONCATENATE(I12," - ",J12) -> -
B13: Responsable P.F. | D13: Antonio PLANELLS ROIG | K13: =CONCATENATE(I13," - ",J13) -> -
D14: Nombre y 2 apellidos | K14: =CONCATENATE(I14," - ",J14) -> -
B15: Jugadores | D15: Alejandro González Güemes | K15: =CONCATENATE(I15," - ",J15) -> -
D16: María Herráez Gálvez | K16: =CONCATENATE(I16," - ",J16) -> -
K17: =CONCATENATE(I17," - ",J17) -> -
K18: =CONCATENATE(I18," - ",J18) -> -
K19: =CONCATENATE(I19," - ",J19) -> -
D20: TRANSFERENCIA: Nº CUENTA: 2038 9982 32 600029 4237 | K20: =CONCATENATE(I20," - ",J20) -> -
K21: =CONCATENATE(I21," - ",J21) -> -
K22: =CONCATENATE(I22," - ",J22) -> -
K23: =CONCATENATE(I23," - ",J23) -> -
K24: =CONCATENATE(I24," - ",J24) -> -
D25: Nombre y 2 apellidos | G25: Nombre y 2 apellidos | K25: =CONCATENATE(I25," - ",J25) -> -
B26: Técnicos | D26: Toni Planells Roig | K26: =CONCATENATE(I26," - ",J26) -> -
D27: Nombre y 2 apellidos | G27: Nombre y 2 apellidos | K27: =CONCATENATE(I27," - ",J27) -> -
B28: Fisioterapeutas | K28: =CONCATENATE(I28," - ",J28) -> -
D29: Nombre y 2 apellidos | F29: Cometido | G29: Nombre y 2 apellidos | H29: Cometido | K29: =CONCATENATE(I29," - ",J29) -> -
B30: Otros participantes | K30: =CONCATENATE(I30," - ",J30) -> -
B31: FCT | K31: =CONCATENATE(I31," - ",J31) -> -
D32: =CONCATENATE(D30," ",E30) | E32: =CONCATENATE(D31," ",F31) | F32: =CONCATENATE(G30," ",H30) | G32: =CONCATENATE(G31," ",H31) | K32: =CONCATENATE(I32," - ",J32) -> -
A33: Provisión de Fondos | E33: Divisa | F33: Cambio (€/unidad de divisa) | H33: TOTAL PROVISION: | K33: =CONCATENATE(I33," - ",J33) -> -
A34: 800 | C34: y/o | H34: =A34+(D34*F34) -> 800 | K34: =CONCATENATE(I34," - ",J34) -> -
I35: $
A36: Fecha de Recogida ( X de XX de XXXX) | I36: £
I37: ¥
A38: DETALLE DE GASTOS
D40: =E34 -> 0 | F40: € | H40: TOTAL
B42: Alojamiento | D42: =calculos!C17 -> 0 | F42: =calculos!B17 -> 0 | H42: =(F42+(D42*F$34)) -> 0
B43: Manutención | D43: =calculos!E17 -> 0 | F43: =calculos!D17 -> 0 | H43: =(F43+(D43*F$34)) -> 0
B44: Desplazamiento | D44: =calculos!G17 -> 0 | F44: =calculos!F17 -> 0 | H44: =(F44+(D44*F$34)) -> 0
B45: Caddies y bolas | D45: =calculos!I17 -> 0 | F45: =calculos!H17 -> 0 | H45: =(F45+(D45*F$34)) -> 0
B46: Propinas | H46: =(F46+(D46*F$34)) -> 0
...

Sheet FCT
B8: Evento
B9: Lugar (club y población)
B10: Día de alta | D10: Día de baja
B11: Categoría
B12: Nº de días a abonar | F12: Director de Torneo
B13: Salario bruto/día | D13: Salario neto/día | F13: Administrativo
B15: Nombre y 2 apellidos
B16: Dirección completa
B17: N.I.F.
B18: Nº de la Seguridad Social
B19: Teléfono
B20: Correo electrónico
B21: Nº de cuenta corriente
B23: Comentarios
B25: Fecha
B27: ESTA FICHA OBRARÁ EN PODER DEL DEPARTAMENTO FINANCIERO 10 DÍAS ANTES DE LA FECHA DE ALTA
A37: 12-001 | B37: MATCH CUADRANGULAR | C37: =CONCATENATE(A37," ",B37) -> 12-001 MATCH CUADRANGULAR
A38: 12-002 | B38: COPA BALEARES | C38: =CONCATENATE(A38," ",B38) -> 12-002 COPA BALEARES
A39: 12-003 | B39: MATCH FRANCIA-ESPAÑA (SUB-18) | C39: =CONCATENATE(A39," ",B39) -> 12-003 MATCH FRANCIA-ESPAÑA (SUB-18)
A40: 12-004 | B40: Cº INTERNACIONAL DE PORTUGAL | C40: =CONCATENATE(A40," ",B40) -> 12-004 Cº INTERNACIONAL DE PORTUGAL
A41: 12-005 | B41: Cº INTERNACIONAL ESPAÑA. COPA SM EL REY | C41: =CONCATENATE(A41," ",B41) -> 12-005 Cº INTERNACIONAL ESPAÑA. COPA SM EL REY
A42: 12-006 | B42: CONCENTRACIÓN | C42: =CONCATENATE(A42," ",B42) -> 12-006 CONCENTRACIÓN
A43: 12-007 | B43: COPA ANDALUCÍA | C43: =CONCATENATE(A43," ",B43) -> 12-007 COPA ANDALUCÍA
A44: 12-008 | B44: COPA SOTOGRANDE | C44: =CONCATENATE(A44," ",B44) -> 12-008 COPA SOTOGRANDE
A45: 12-009 | B45: Cº ESPAÑA JUNIOR Y BOYS | C45: =CONCATENATE(A45," ",B45) -> 12-009 Cº ESPAÑA JUNIOR Y BOYS
A46: 12-010 | B46: Cº DE BARCELONA | C46: =CONCATENATE(A46," ",B46) -> 12-010 Cº DE BARCELONA
A47: 12-011 | B47: LYTHAM TROPHY | C47: =CONCATENATE(A47," ",B47) -> 12-011 LYTHAM TROPHY
A48: 12-012 | B48: Cº DE CANARIAS | C48: =CONCATENATE(A48," ",B48) -> 12-012 Cº DE CANARIAS
... A217: 12-910 | B217: Cº DE EUROPA INDIVIDUAL SENIOR FEMENINO | C217: =CONCATENATE(A217," ",B217) -> 12-910 Cº DE EUROPA INDIVIDUAL SENIOR FEMENINO
A218: 12-911 | B218: Cº EUROPA SENIOR FEMENINO POR EQUIPOS
A219: 12-912 | B219: MASTER SENIOR

Sheet calculos
C2: REAL FEDERACION ESPAÑOLA DE GOLF
D4: PRESUPUESTO Y LIQUIDACION DE CAMPEONATOS
B8: CAMPEONATO | D8: =Liquidacion!D7 -> VARIOS C.T. JUVENIL
B10: LUGAR Y FECHA | D10: =CONCATENATE(Liquidacion!H9," ",H11) -> Torino La Mandria (Italia)
B12: RESPONSABLE | D12: =Liquidacion!D13 -> Antonio PLANELLS ROIG
B15: Alojamientos | D15: Manutención | F15: Desplazam. | H15: Caddies
B16: € | C16: (en divisa) | D16: € | E16: (en divisa) | F16: € | G16: (en divisa) | H16: € | I16: (en divisa)
A17: SUMA | B17: =SUM(B18:B58) -> 0 | C17: =SUM(C18:C58) -> 0 | D17: =SUM(D18:D58) -> 0 | E17: =SUM(E18:E58) -> 0 | F17: =SUM(F18:F58) -> 0 | G17: =SUM(G18:G58) -> 0 | H17: =SUM(H18:H58) -> 0 | I17: =SUM(I18:I58) -> 0
A18: 1
A19: 2
A20: 3
A21: 4
A22: 5
A23: 6
A24: 7
A25: 8
A26: 9
A27: =A26+1 -> 10
A28: =A27+1 -> 11
A29: =A28+1 -> 12
A30: =A29+1 -> 13
A31: =A30+1 -> 14
A32: =A31+1 -> 15
A33: =A32+1 -> 16
A34: =A33+1 -> 17
A35: =A34+1 -> 18
A36: =A35+1 -> 19
A37: =A36+1 -> 20
A38: =A37+1 -> 21
... A58: =A57+1 -> 41

Sheet MemoriadelaActividad
A2: Nº de Envío de esta Memoria: ____________________
A4: Fecha de envío de esta Memoria: _________________
B5: MEMORIA DE LA ACTIVIDAD
C6: EJERCICIO 2012
A8: 1.- PROGRAMA | C8: I - ALTA COMPETICIÓN
A10: 2.- Nº DE ACTUACIÓN | C10: =VLOOKUP(Liquidacion!D7,Datos!$A$1:$AN$184,3,FALSE) -> 12-444 | H10: =Liquidacion!D7 -> VARIOS C.T. JUVENIL
A12: 3.- ESPECIALIDAD Y GRUPO DE TRABAJO | C12: =CONCATENATE("GOLF"," - ",(VLOOKUP(Liquidacion!D7,Datos!$A$1:$AN$184,4,FALSE))) -> GOLF - | H12: GOLF | I12: =LEFT(Liquidacion!H7,3) -> 0
A14: 4.- NOMBRE DE LA ACTUACIÓN | C14: =Liquidacion!D7 -> VARIOS C.T. JUVENIL | G14: =Liquidacion!D7 -> VARIOS C.T. JUVENIL
A17: 5.- FECHAS DE INICIO Y FINAL | C17: EN PRESUPUESTO: | D17: =Liquidacion!E11 -> 40909 | E17: =Liquidacion!F11 -> 41274 | F17: =Liquidacion!E11 -> 40909
C18: REALES: | D18: =Liquidacion!H11 -> 5/09/2012 6/09/2012 | G18: Reales:
C19: =Liquidacion!H11 -> 5/09/2012 6/09/2012 | D19: =Liquidacion!E11 -> 40909
A20: 6. LUGAR DE CELEBRACIÓN | C20: EN PRESUPUESTO: | D20: =Liquidacion!E9 -> A DETERMINAR | G20: En Presupuesto
C21: REAL: | D21: =Liquidacion!H9 -> Torino La Mandria (Italia) | G21: Real:
C22: =Liquidacion!E9 -> A DETERMINAR | D22: =Liquidacion!H9 -> Torino La Mandria (Italia) | F22: =Liquidacion!H11 -> 5/09/2012 6/09/2012
A23: 7.- RELACIÓN DE PARTICIPANTES
D24: Ppto. | E24: Real
A25: DEPORTISTAS | C25: DEPORTISTAS | D25: =VLOOKUP(Liquidacion!D7,Datos!$A$1:$AU$184,13,FALSE) -> 6 | E25: =COUNTIF(C26:C35,"<>0") -> 3
A26: =IF(Liquidacion!H7="CTAM","HOMBRES",IF(Liquidacion!H7="BLUME MASCULINO","HOMBRES",IF(Liquidacion!H7="ctj MASCULINO","HOMBRES","MUJERES"))) -> MUJERES | C26: =Liquidacion!D15 -> Alejandro González Güemes
C27: =Liquidacion!D16 -> María Herráez Gálvez
C28: =Liquidacion!D17 -> 0
C29: =Liquidacion!D18 -> 0
C30: =Liquidacion!D19 -> 0
C31: =Liquidacion!D20 -> TRANSFERENCIA: Nº CUENTA: 2038 9982 32 600029 4237
C32: =Liquidacion!D21 -> 0
C33: =Liquidacion!D22 -> 0
C34: =Liquidacion!D23 -> 0
C35: =Liquidacion!D24 -> 0
C38: TÉCNICOS | D38: =VLOOKUP(Liquidacion!D7,Datos!$A$1:$AU$184,8,FALSE) -> 0 | E38: =COUNTIF(C39:C40,"<>0") -> 1
C39: =Liquidacion!D26 -> Toni Planells Roig
C40: =Liquidacion!G26 -> 0
C43: MÉDICOS
C44: FISIOTERAPEUTAS
C45: OTROS (Especificando su cometido) | D45: =VLOOKUP(Liquidacion!D7,Datos!$A$1:$AU$184,10,FALSE) -> 1 | E45: =COUNTIF(C46:C48,"<>0") -> 0
C46: =Liquidacion!D30 -> 0 | F46: =Liquidacion!D30 -> 0 | G46: =Liquidacion!F30 -> 0
C47: =Liquidacion!D31 -> 0
C48: =Liquidacion!G30 -> 0 | E48: =IF(Liquidacion!G30=0,0,1) -> 0 | F48: =Liquidacion!G30 -> 0 | G48: =Liquidacion!H30 -> 0
A50: 8.- RESULTADOS DEPORTIVOS OBTENIDOS Y VALORACIÓN TÉCNICA
A56: 9.- TOTAL DE GASTOS DE LA ACTUACIÓN
C57: PRESUPUESTO: | D57: =VLOOKUP(Liquidacion!D7,Datos!$A$1:$AU$184,7,FALSE) -> 8000 | F57: PRESUPUESTO INICIAL APROBADO:
C58: PREVISTO A CIERRE DEL EJERCICIO:
...

Sheet Memoria Gasto Indirecto
A2: REAL FEDERACIÓN ESPAÑOLA DE GOLF
A4: EJERCICIO 2010
B5: MEMORIA DE GASTO INDIRECTO
C7: Nº DE MEMORIA DE ESTE GASTO: | E7: 1
A10: 1.- PROGRAMA
A13: 2.- CONCEPTO DE GASTO (anexo 3)
G14: Reales: | H14: 01 | I14: Absoluto masculino | J14: =CONCATENATE(H14," ",I14) -> 01 Absoluto masculino
H15: 02 | I15: Absoluto femenino | J15: =CONCATENATE(H15," ",I15) -> 02 Absoluto femenino
H16: 03 | I16: Profesional | J16: =CONCATENATE(H16," ",I16) -> 03 Profesional
A17: 3.- IMPORTE DEL GASTO | H17: 04 | I17: Juvenil Alta Competición | J17: =CONCATENATE(H17," ",I17) -> 04 Juvenil Alta Competición
A18: DEPORTISTAS | C18: TOTAL | E18: CSD | H18: 05 | I18: Juvenil Estatal | J18: =CONCATENATE(H18," ",I18) -> 05 Juvenil Estatal
A19: =IF(#REF!="CTAM","HOMBRES",IF(#REF!="BLUME MASCULINO","HOMBRES",IF(#REF!="ctj MASCULINO","HOMBRES","MUJERES"))) -> #REF! | H19: 06 | I19: Cadetes Alta Competición | J19: =CONCATENATE(H19," ",I19) -> 06 Cadetes Alta Competición
H20: 07 | I20: Cadetes Estatal | J20: =CONCATENATE(H20," ",I20) -> 07 Cadetes Estatal
H21: 08 | I21: Arbitros Alta Competición | J21: =CONCATENATE(H21," ",I21) -> 08 Arbitros Alta Competición
H22: 25 | I22: Profesional Estatal | J22: =CONCATENATE(H22," ",I22) -> 25 Profesional Estatal
H23: 26 | I23: Femenino Sub-18 | J23: =CONCATENATE(H23," ",I23) -> 26 Femenino Sub-18
H24: 27 | I24: TECNIFICACION | J24: =CONCATENATE(H24," ",I24) -> 27 TECNIFICACION
A25: 4.- DETALLE DEL GASTO | D25: TOTAL | E25: CSD
A30: 5.- RELACIÓN DE PERCEPTORES/BENEFICIARIOS /PROVEEDORES
A31: CUENTA | B31: COMPROBANTE Nº | C31: NOMBRE | D31: IMPORTE
A32: 6540301 | B32: 1
B33: 2
B34: 3
B35: 4
A61: 6.- DESVIACIONES | C61: NINGUNA
C70: Gonzaga Escauriaza Barreiro
C71: Presidente

Sheet Datos
A1: Prueba | B1: Lugar | C1: Actuación | D1: Grupo de trabajo | E1: Fecha inicio | F1: Fecha fin | G1: Presupuestado CSD | H1: Técnicos/Profesores | I1: Jueces | J1: Otros | K1: Auxiliares | L1: Médicos | M1: Deportistas/Alumnos | O1: Actividad | P1: Nº Mujeres Deportistas/Alumnas | Q1: Nº Hombres Deportistas/Alumnos | R1: Nº Mujeres Técnicas/Profesores | S1: Nº Hombres Técnicos/Profesores | T1: Nº Mujeres Jueces | U1: Nº Hombres Jueces | V1: Nº Mujeres Médicos | W1: Nº Hombres Médicos | X1: Nº Mujeres Auxiliares | Y1: Nº Hombres Auxiliares | Z1: Nº Mujeres Otros | AA1: Nº Hombres Otros | AB1: Nº Mujeres Dep/Alum realiz. | AC1: Nº Hombres Dep/Alum realiz. | AD1: Nº Mujeres Téc/Prof realiz. | AE1: Nº Hombres Téc/Prof realiz. | AF1: Nº Mujeres Jueces realiz. | AG1: Nº Hombres Jueces realiz. | AH1: Nº Mujeres Médicos realiz. | AI1: Nº Hombres Médicos realiz. | AJ1: Nº Mujeres Auxiliares realiz. | AK1: Nº Hombres Auxiliares realiz. | AL1: Nº Mujeres Otros realiz. | AM1: Nº Hombres Otros realiz.
A2: MATCH CUADRANGULAR | B2: Costa Ballena, Jerez | C2: 12-001 | D2: 01 | E2: 40933 | F2: 40935 | G2: 9000 | H2: 1 | I2: 0 | J2: 1 | K2: 0 | L2: 0 | M2: 6 | O2: I | P2: 0 | Q2: 6 | R2: 0 | S2: 1 | T2: 0 | U2: 0 | V2: 0 | W2: 0 | X2: 0 | Y2: 0 | Z2: 0 | AA2: 1 | AB2: 0 | AC2: 0 | AD2: 0 | AE2: 0 | AF2: 0 | AG2: 0 | AH2: 0 | AI2: 0 | AJ2: 0 | AK2: 0 | AL2: 0 | AM2: 0
A3: COPA BALEARES | B3: Mallorca | C3: 12-002 | D3: 01 | E3: 40941 | F3: 40944 | G3: 7500 | H3: 1 | I3: 0 | J3: 1 | K3: 0 | L3: 0 | M3: 8 | O3: I | P3: 0 | Q3: 8 | R3: 0 | S3: 1 | T3: 0 | U3: 0 | V3: 0 | W3: 0 | X3: 0 | Y3: 0 | Z3: 0 | AA3: 1 | AB3: 0 | AC3: 0 | AD3: 0 | AE3: 0 | AF3: 0 | AG3: 0 | AH3: 0 | AI3: 0 | AJ3: 0 | AK3: 0 | AL3: 0 | AM3: 0
A4: MATCH FRANCIA-ESPAÑA (SUB-18) | B4: PAU | C4: 12-003 | D4: 01 | E4: 40950 | F4: 40951 | G4: 7500 | H4: 1 | I4: 0 | J4: 2 | K4: 0 | L4: 0 | M4: 12 | O4: I | P4: 0 | Q4: 12 | R4: 0 | S4: 1 | T4: 0 | U4: 0 | V4: 0 | W4: 0 | X4: 0 | Y4: 0 | Z4: 0 | AA4: 2 | AB4: 0 | AC4: 0 | AD4: 0 | AE4: 0 | AF4: 0 | AG4: 0 | AH4: 0 | AI4: 0 | AJ4: 0 | AK4: 0 | AL4: 0 | AM4: 0
A5: Cº INTERNACIONAL DE PORTUGAL | B5: MONTADO G.R | C5: 12-004 | D5: 01 | E5: 40954 | F5: 40957 | G5: 6000 | H5: 1 | I5: 0 | J5: 0 | K5: 0 | L5: 0 | M5: 3 | O5: I | P5: 0 | Q5: 3 | R5: 0 | S5: 1 | T5: 0 | U5: 0 | V5: 0 | W5: 0 | X5: 0 | Y5: 0 | Z5: 0 | AA5: 0 | AB5: 0 | AC5: 0 | AD5: 0 | AE5: 0 | AF5: 0 | AG5: 0 | AH5: 0 | AI5: 0 | AJ5: 0 | AK5: 0 | AL5: 0 | AM5: 0
A6: Cº INTERNACIONAL ESPAÑA. COPA SM EL REY | B6: MALLORCA | C6: 12-005 | D6: 01 | E6: 40968 | F6: 40972 | G6: 15000 | H6: 2 | I6: 0 | J6: 2 | K6: 0 | L6: 0 | M6: 8 | O6: I | P6: 0 | Q6: 8 | R6: 0 | S6: 2 | T6: 0 | U6: 0 | V6: 0 | W6: 0 | X6: 0 | Y6: 0 | Z6: 0 | AA6: 2 | AB6: 0 | AC6: 0 | AD6: 0 | AE6: 0 | AF6: 0 | AG6: 0 | AH6: 0 | AI6: 0 | AJ6: 0 | AK6: 0 | AL6: 0 | AM6: 0
A7: CONCENTRACIÓN | B7: A DETERMINAR | C7: 12-006 | D7: 01 | E7: 40969 | F7: 40972 | G7: 45000 | H7: 4 | I7: 0 | J7: 2 | K7: 0 | L7: 0 | M7: 12 | O7: I | P7: 0 | Q7: 12 | R7: 0 | S7: 4 | T7: 0 | U7: 0 | V7: 0 | W7: 0 | X7: 0 | Y7: 0 | Z7: 0 | AA7: 2 | AB7: 0 | AC7: 0 | AD7: 0 | AE7: 0 | AF7: 0 | AG7: 0 | AH7: 0 | AI7: 0 | AJ7: 0 | AK7: 0 | AL7: 0 | AM7: 0
A8: COPA ANDALUCÍA | B8: LA CAÑADA (CÁDIZ) | C8: 12-007 | D8: 01 | E8: 40982 | F8: 40985 | G8: 5000 | H8: 1 | I8: 0 | J8: 1 | K8: 0 | L8: 0 | M8: 8 | O8: I | P8: 0 | Q8: 8 | R8: 0 | S8: 1 | T8: 0 | U8: 0 | V8: 0 | W8: 0 | X8: 0 | Y8: 0 | Z8: 0 | AA8: 1 | AB8: 0 | AC8: 0 | AD8: 0 | AE8: 0 | AF8: 0 | AG8: 0 | AH8: 0 | AI8: 0 | AJ8: 0 | AK8: 0 | AL8: 0 | AM8: 0
A9: COPA SOTOGRANDE | B9: SOTOGRANDE, CÁDIZ | C9: 12-008 | D9: 01 | E9: 40990 | F9: 40993 | G9: 8000 | H9: 0 | I9: 0 | J9: 1 | K9: 0 | L9: 0 | M9: 4 | O9: I | P9: 0 | Q9: 4 | R9: 0 | S9: 0 | T9: 0 | U9: 0 | V9: 0 | W9: 0 | X9: 0 | Y9: 0 | Z9: 0 | AA9: 1 | AB9: 0 | AC9: 0 | AD9: 0 | AE9: 0 | AF9: 0 | AG9: 0 | AH9: 0 | AI9: 0 | AJ9: 0 | AK9: 0 | AL9: 0 | AM9: 0
A10: Cº ESPAÑA JUNIOR Y BOYS | B10: A DETERMINAR | C10: 12-009 | D10: 01 | E10: 41000 | F10: 41003 | G10: 6000 | H10: 2 | I10: 0 | J10: 2 | K10: 0 | L10: 0 | M10: 6 | O10: I | P10: 0 | Q10: 6 | R10: 0 | S10: 2 | T10: 0 | U10: 0 | V10: 0 | W10: 0 | X10: 0 | Y10: 0 | Z10: 0 | AA10: 2 | AB10: 0 | AC10: 0 | AD10: 0 | AE10: 0 | AF10: 0 | AG10: 0 | AH10: 0 | AI10: 0 | AJ10: 0 | AK10: 0 | AL10: 0 | AM10: 0
A11: Cº DE BARCELONA | B11: EL PRAT, BARCELONA | C11: 12-010 | D11: 01 | E11: 41018 | F11: 41021 | G11: 7000 | H11: 1 | I11: 0 | J11: 1 | K11: 0 | L11: 0 | M11: 8 | O11: I | P11: 0 | Q11: 8 | R11: 0 | S11: 1 | T11: 0 | U11: 0 | V11: 0 | W11: 0 | X11: 0 | Y11: 0 | Z11: 0 | AA11: 1 | AB11: 0 | AC11: 0 | AD11: 0 | AE11: 0 | AF11: 0 | AG11: 0 | AH11: 0 | AI11: 0 | AJ11: 0 | AK11: 0 | AL11: 0 | AM11: 0
A12: LYTHAM TROPHY | B12: ROYAL LYTHAM | C12: 12-011 | D12: 01 | E12: 41033 | F12: 41035 | G12: 0 | H12: 0 | I12: 0 | J12: 1 | K12: 0 | L12: 0 | M12: 4 | O12: I | P12: 0 | Q12: 4 | R12: 0 | S12: 0 | T12: 0 | U12: 0 | V12: 0 | W12: 0 | X12: 0 | Y12: 0 | Z12: 0 | AA12: 1 | AB12: 0 | AC12: 0 | AD12: 0 | AE12: 0 | AF12: 0 | AG12: 0 | AH12: 0 | AI12: 0 | AJ12: 0 | AK12: 0 | AL12: 0 | AM12: 0
A13: Cº DE CANARIAS | B13: A DETERMINAR | C13: 12-012 | D13: 01 | E13: 41046 | F13: 41049 | G13: 6000 | H13: 1 | I13: 0 | J13: 0 | K13: 0 | L13: 0 | M13: 8 | O13: I | P13: 0 | Q13: 8 | R13: 0 | S13: 1 | T13: 0 | U13: 0 | V13: 0 | W13: 0 | X13: 0 | Y13: 0 | Z13: 0 | AA13: 0 | AB13: 0 | AC13: 0 | AD13: 0 | AE13: 0 | AF13: 0 | AG13: 0 | AH13: 0 | AI13: 0 | AJ13: 0 | AK13: 0 | AL13: 0 | AM13: 0
... A73: MATCH ESPAÑA-FRANCIA | B73: A DETERMINAR | C73: 12-072 | D73: 04 | E73: 40909 | F73: 40910 | G73: 12000 | H73: 2 | I73: 0 | J73: 1 | K73: 0 | L73: 0 | M73: 12 | O73: I | P73: 0 | Q73: 12 | R73: 0 | S73: 2 | T73: 0 | U73: 0 | V73: 0 | W73: 0 | X73: 0 | Y73: 0 | Z73: 0 | AA73: 1 | AB73: 0 | AC73: 0 | AD73: 0 | AE73: 0 | AF73: 0 | AG73: 0 | AH73: 0 | AI73: 0 | AJ73: 0 | AK73: 0 | AL73: 0 | AM73: 0
A74: BECADOS-CONCENTRACIÓN | B74: MADRID | C74: 12-073 | E74: 40909 | F74: 41274 | G74: 81700 | H74: 7 | I74: 0 | J74: 2 | K74: 0 | L74: 0 | M74: 12 | O74: I | P74: 6 | Q74: 6 | R74: 1 | S74: 6 | T74: 0 | U74: 0 | V74: 0 | W74: 0 | X74: 0 | Y74: 0 | Z74: 1 | AA74: 1 | AB74: 0 | AC74: 0 | AD74: 0 | AE74: 0 | AF74: 0 | AG74: 0 | AH74: 0 | AI74: 0 | AJ74: 0 | AK74: 0 | AL74: 0 | AM74: 0
A75: BECADOS-COMPETICIÓN | B75: A DETERMINAR | C75: 12-074 | E75: 40909 | F75: 41274 | G75: 78300 | H75: 7 | I75: 0 | J75: 2 | K75: 0 | L75: 0 | M75: 12 | O75: I | P75: 6 | Q75: 6 | R75: 1 | S75: 6 | T75: 0 | U75: 0 | V75: 0 | W75: 0 | X75: 0 | Y75: 0 | Z75: 1 | AA75: 1 | AB75: 0 | AC75: 0 | AD75: 0 | AE75: 0 | AF75: 0 | AG75: 0 | AH75: 0 | AI75: 0 | AJ75: 0 | AK75: 0 | AL75: 0 | AM75: 0
A76: OPEN DE ESPAÑA DE GOLF | B76: A DETERMINAR | C76: 12-075 | D76: 03 | E76: 40909 | F76: 41274 | G76: 1850000 | H76: 0 | I76: 0 | J76: 10 | K76: 0 | L76: 0 | M76: 260 | O76: I | P76: 60 | Q76: 200 | R76: 0 | S76: 0 | T76: 0 | U76: 0 | V76: 0 | W76: 0 | X76: 0 | Y76: 0 | Z76: 5 | AA76: 5 | AB76: 0 | AC76: 0 | AD76: 0 | AE76: 0 | AF76: 0 | AG76: 0 | AH76: 0 | AI76: 0 | AJ76: 0 | AK76: 0 | AL76: 0 | AM76: 0
A77: COMISIÓN ANTIDOPAJE | B77: ESPAÑA | C77: 12-076 | E77: 40909 | F77: 41274 | G77: 18000 | H77: 0 | I77: 0 | J77: 1 | K77: 0 | L77: 7 | M77: 0 | O77: I | P77: 0 | Q77: 0 | R77: 0 | S77: 0 | T77: 0 | U77: 0 | V77: 2 | W77: 5 | X77: 0 | Y77: 0 | Z77: 1 | AA77: 0 | AB77: 0 | AC77: 0 | AD77: 0 | AE77: 0 | AF77: 0 | AG77: 0 | AH77: 0 | AI77: 0 | AJ77: 0 | AK77: 0 | AL77: 0 | AM77: 0
A78: ARBITRAJES | B78: ESPAÑA Y EXTRANJERO | C78: 12-077 | E78: 40909 | F78: 41274 | G78: 335000 | H78: 0 | I78: 120 | J78: 1 | K78: 0 | L78: 0 | M78: 0 | O78: I | P78: 0 | Q78: 0 | R78: 0 | S78: 0 | T78: 20 | U78: 100 | V78: 0 | W78: 0 | X78: 0 | Y78: 0 | Z78: 0 | AA78: 1 | AB78: 0 | AC78: 0 | AD78: 0 | AE78: 0 | AF78: 0 | AG78: 0 | AH78: 0 | AI78: 0 | AJ78: 0 | AK78: 0 | AL78: 0 | AM78: 0
A79: COPA PUERTA DE HIERRO C.T.A.M | B79: A DETERMINAR | C79: 12-078 | D79: 01 | E79: 40909 | F79: 40912 | G79: 6000 | H79: 0 | I79: 0 | J79: 0 | K79: 0 | L79: 0 | M79: 6 | O79: I | P79: 0 | Q79: 6 | R79: 0 | S79: 0 | T79: 0 | U79: 0 | V79: 0 | W79: 0 | X79: 0 | Y79: 0 | Z79: 0 | AA79: 0 | AB79: 0 | AC79: 0 | AD79: 0 | AE79: 0 | AF79: 0 | AG79: 0 | AH79: 0 | AI79: 0 | AJ79: 0 | AK79: 0 | AL79: 0 | AM79: 0
A80: Cº INT.EQUIPOS C.T.A.MASCULINO | B80: A DETERMINAR | C80: 12-079 | D80: 01 | E80: 40909 | F80: 40912 | G80: 12000 | H80: 1 | I80: 0 | J80: 1 | K80: 0 | L80: 0 | M80: 6 | O80: I | P80: 0 | Q80: 6 | R80: 0 | S80: 1 | T80: 0 | U80: 0 | V80: 0 | W80: 0 | X80: 0 | Y80: 0 | Z80: 0 | AA80: 1 | AB80: 0 | AC80: 0 | AD80: 0 | AE80: 0 | AF80: 0 | AG80: 0 | AH80: 0 | AI80: 0 | AJ80: 0 | AK80: 0 | AL80: 0 | AM80: 0
A81: USPGA QA | B81: A DETERMINAR | C81: 12-080 | D81: 03 | E81: 40909 | F81: 41274 | G81: 4000 | H81: 0 | I81: 0 | J81: 0 | K81: 0 | L81: 0 | M81: 1 | O81: I | P81: 0 | Q81: 1 | R81: 0 | S81: 0 | T81: 0 | U81: 0 | V81: 0 | W81: 0 | X81: 0 | Y81: 0 | Z81: 0 | AA81: 0 | AB81: 0 | AC81: 0 | AD81: 0 | AE81: 0 | AF81: 0 | AG81: 0 | AH81: 0 | AI81: 0 | AJ81: 0 | AK81: 0 | AL81: 0 | AM81: 0
A82: LET QS | B82: LA MANGA (MURCIA) | C82: 12-081 | D82: 03 | E82: 40923 | F82: 40927 | G82: 2700 | H82: 0 | I82: 0 | J82: 0 | K82: 0 | L82: 0 | M82: 3 | O82: I | P82: 3 | Q82: 0 | R82: 0 | S82: 0 | T82: 0 | U82: 0 | V82: 0 | W82: 0 | X82: 0 | Y82: 0 | Z82: 0 | AA82: 0 | AB82: 0 | AC82: 0 | AD82: 0 | AE82: 0 | AF82: 0 | AG82: 0 | AH82: 0 | AI82: 0 | AJ82: 0 | AK82: 0 | AL82: 0 | AM82: 0
A83: LPGA QS | B83: FLORIDA | C83: 12-082 | D83: 03 | E83: 41243 | F83: 41247 | G83: 15000 | H83: 0 | I83: 0 | J83: 0 | K83: 0 | L83: 0 | M83: 2 | O83: I | P83: 2 | Q83: 0 | R83: 0 | S83: 0 | T83: 0 | U83: 0 | V83: 0 | W83: 0 | X83: 0 | Y83: 0 | Z83: 0 | AA83: 0 | AB83: 0 | AC83: 0 | AD83: 0 | AE83: 0 | AF83: 0 | AG83: 0 | AH83: 0 | AI83: 0 | AJ83: 0 | AK83: 0 | AL83: 0 | AM83: 0
A84: EPGA QS | B84: PGA CATALUÑA, GERONA | C84: 12-083 | D84: 03 | E84: 41258 | F84: 41261 | G84: 21000 | H84: 0 | I84: 0 | J84: 0 | K84: 0 | L84: 0 | M84: 6 | O84: I | P84: 0 | Q84: 6 | R84: 0 | S84: 0 | T84: 0 | U84: 0 | V84: 0 | W84: 0 | X84: 0 | Y84: 0 | Z84: 0 | AA84: 0 | AB84: 0 | AC84: 0 | AD84: 0 | AE84: 0 | AF84: 0 | AG84: 0 | AH84: 0 | AI84: 0 | AJ84: 0 | AK84: 0 | AL84: 0 | AM84: 0
A85: PROGRAMA NEO-PRO | B85: A DETERMINAR | C85: 12-084 | D85: 03 | E85: 40909 | F85: 41274 | G85: 260000 | H85: 0 | I85: 0 | J85: 0 | K85: 0 | L85: 0 | M85: 13 | O85: I | P85: 4 | Q85: 9 | R85: 0 | S85: 0 | T85: 0 | U85: 0 | V85: 0 | W85: 0 | X85: 0 | Y85: 0 | Z85: 0 | AA85: 0 | AB85: 0 | AC85: 0 | AD85: 0 | AE85: 0 | AF85: 0 | AG85: 0 | AH85: 0 | AI85: 0 | AJ85: 0 | AK85: 0 | AL85: 0 | AM85: 0
A86: COPA DE EUROPA DE NACIONES FEMENINA | B86: A DETERMINAR | C86: 12-085 | D86: 03 | E86: 41000 | F86: 41003 | G86: 8000 | H86: 0 | I86: 0 | J86: 0 | K86: 0 | L86: 0 | M86: 2 | O86: I | P86: 2 | Q86: 0 | R86: 0 | S86: 0 | T86: 0 | U86: 0 | V86: 0 | W86: 0 | X86: 0 | Y86: 0 | Z86: 0 | AA86: 0 | AB86: 0 | AC86: 0 | AD86: 0 | AE86: 0 | AF86: 0 | AG86: 0 | AH86: 0 | AI86: 0 | AJ86: 0 | AK86: 0 | AL86: 0 | AM86: 0
A87: ALPS TOUR | B87: MADRID | C87: 12-086 | D87: 03 | E87: 41091 | F87: 41094 | G87: 68000 | H87: 0 | I87: 0 | J87: 0 | K87: 0 | L87: 0 | M87: 50 | O87: I | P87: 0 | Q87: 50 | R87: 0 | S87: 0 | T87: 0 | U87: 0 | V87: 0 | W87: 0 | X87: 0 | Y87: 0 | Z87: 0 | AA87: 0 | AB87: 0 | AC87: 0 | AD87: 0 | AE87: 0 | AF87: 0 | AG87: 0 | AH87: 0 | AI87: 0 | AJ87: 0 | AK87: 0 | AL87: 0 | AM87: 0
A88: TORNEOS Y REUNIONES CTP | B88: A DETERMINAR | C88: 12-087 | D88: 03 | E88: 40909 | F88: 41274 | G88: 15000 | H88: 2 | I88: 0 | J88: 1 | K88: 0 | L88: 0 | M88: 0 | O88: I | P88: 0 | Q88: 0 | R88: 0 | S88: 2 | T88: 0 | U88: 0 | V88: 0 | W88: 0 | X88: 0 | Y88: 0 | Z88: 0 | AA88: 1 | AB88: 0 | AC88: 0 | AD88: 0 | AE88: 0 | AF88: 0 | AG88: 0 | AH88: 0 | AI88: 0 | AJ88: 0 | AK88: 0 | AL88: 0 | AM88: 0
A89: CIRCUITO BANESTO TOUR FEMENINO | B89: A DETERMINAR | C89: 12-088 | D89: 29 | E89: 40909 | F89: 41274 | G89: 89862 | H89: 2 | I89: 0 | J89: 0 | K89: 0 | L89: 0 | M89: 50 | O89: I | P89: 50 | Q89: 0 | R89: 0 | S89: 2 | T89: 0 | U89: 0 | V89: 0 | W89: 0 | X89: 0 | Y89: 0 | Z89: 0 | AA89: 0 | AB89: 0 | AC89: 0 | AD89: 0 | AE89: 0 | AF89: 0 | AG89: 0 | AH89: 0 | AI89: 0 | AJ89: 0 | AK89: 0 | AL89: 0 | AM89: 0
A90: Cº POR INVITACIÓN C.T.A. MASCULINO | B90: A DETERMINAR | C90: 12-089 | D90: 01 | E90: 40909 | F90: 41274 | G90: 9000 | H90: 0 | I90: 0 | J90: 2 | K90: 0 | L90: 0 | M90: 10 | O90: I | P90: 0 | Q90: 10 | R90: 0 | S90: 0 | T90: 0 | U90: 0 | V90: 0 | W90: 0 | X90: 0 | Y90: 0 | Z90: 0 | AA90: 2 | AB90: 0 | AC90: 0 | AD90: 0 | AE90: 0 | AF90: 0 | AG90: 0 | AH90: 0 | AI90: 0 | AJ90: 0 | AK90: 0 | AL90: 0 | AM90: 0
... A95: MATCH ESPAÑA-SUECIA | B95: A DETERMINAR | C95: 12-094 | D95: 02 | E95: 40909 | F95: 40912 | G95: 7600 | H95: 0 | I95: 0 | J95: 1 | K95: 0 | L95: 0 | M95: 4 | O95: I | P95: 4 | Q95: 0 | R95: 0 | S95: 0 | T95: 0 | U95: 0 | V95: 0 | W95: 0 | X95: 0 | Y95: 0 | Z95: 1 | AA95: 0 | AB95: 0 | AC95: 0 | AD95: 0 | AE95: 0 | AF95: 0 | AG95: 0 | AH95: 0 | AI95: 0 | AJ95: 0 | AK95: 0 | AL95: 0 | AM95: 0
A96: PUNTUABLES JUVENILES | B96: MURCIA Y OTROS A DETERMINAR | C96: 12-400 | E96: 40909 | F96: 41090 | G96: 8000 | H96: 0 | I96: 0 | J96: 0 | K96: 0 | L96: 0 | M96: 1180 | O96: II | P96: 590 | Q96: 590 | R96: 0 | S96: 0 | T96: 0 | U96: 0 | V96: 0 | W96: 0 | X96: 0 | Y96: 0 | Z96: 0 | AA96: 0 | AB96: 0 | AC96: 0 | AD96: 0 | AE96: 0 | AF96: 0 | AG96: 0 | AH96: 0 | AI96: 0 | AJ96: 0 | AK96: 0 | AL96: 0 | AM96: 0
A97: TROFEO CLUBS SIN CAMPO | B97: A DETERMINAR | C97: 12-401 | E97: 40999 | F97: 40999 | G97: 1800 | H97: 0 | I97: 0 | J97: 2 | K97: 0 | L97: 0 | M97: 30 | O97: II | P97: 10 | Q97: 20 | R97: 0 | S97: 0 | T97: 0 | U97: 0 | V97: 0 | W97: 0 | X97: 0 | Y97: 0 | Z97: 1 | AA97: 1 | AB97: 0 | AC97: 0 | AD97: 0 | AE97: 0 | AF97: 0 | AG97: 0 | AH97: 0 | AI97: 0 | AJ97: 0 | AK97: 0 | AL97: 0 | AM97: 0
A98: Cº NACIONAL INDIVIDUAL CADETES | B98: NOVO SANCTI PETRI, CÁDIZ | C98: 12-402 | E98: 41028 | F98: 41030 | G98: 11000 | H98: 0 | I98: 0 | J98: 0 | K98: 0 | L98: 0 | M98: 120 | O98: II | P98: 45 | Q98: 75 | R98: 0 | S98: 0 | T98: 0 | U98: 0 | V98: 0 | W98: 0 | X98: 0 | Y98: 0 | Z98: 0 | AA98: 0 | AB98: 0 | AC98: 0 | AD98: 0 | AE98: 0 | AF98: 0 | AG98: 0 | AH98: 0 | AI98: 0 | AJ98: 0 | AK98: 0 | AL98: 0 | AM98: 0
A99: Cº NACIONAL INDIVIDUAL INF, ALEV Y BENJ | B99: LA MANGA CLUB | C99: 12-403 | E99: 41087 | F99: 41089 | G99: 38000 | H99: 0 | I99: 0 | J99: 0 | K99: 0 | L99: 0 | M99: 370 | O99: II | P99: 185 | Q99: 185 | R99: 0 | S99: 0 | T99: 0 | U99: 0 | V99: 0 | W99: 0 | X99: 0 | Y99: 0 | Z99: 0 | AA99: 0 | AB99: 0 | AC99: 0 | AD99: 0 | AE99: 0 | AF99: 0 | AG99: 0 | AH99: 0 | AI99: 0 | AJ99: 0 | AK99: 0 | AL99: 0 | AM99: 0
A100: Cº NACIONAL POR EQUIPOS INFANTIL DE ESPA | B100: GUADALHORCE, C.G. (MÁLAGA) | C100: 12-404 | E100: 41149 | F100: 41150 | G100: 1500 | H100: 0 | I100: 0 | J100: 0 | K100: 0 | L100: 0 | M100: 144 | O100: II | P100: 72 | Q100: 72 | R100: 0 | S100: 0 | T100: 0 | U100: 0 | V100: 0 | W100: 0 | X100: 0 | Y100: 0 | Z100: 0 | AA100: 0 | AB100: 0 | AC100: 0 | AD100: 0 | AE100: 0 | AF100: 0 | AG100: 0 | AH100: 0 | AI100: 0 | AJ100: 0 | AK100: 0 | AL100: 0 | AM100: 0
A101: Cº INTERTERRITORIAL SUB-25 FEM-2ª DIV. | B101: CG CASTILLA-LA MANCHA, ALBACET | C101: 12-405 | E101: 41156 | F101: 41159 | G101: 40200 | H101: 0 | I101: 0 | J101: 0 | K101: 0 | L101: 0 | M101: 32 | O101: II | P101: 32 | Q101: 0 | R101: 0 | S101: 0 | T101: 0 | U101: 0 | V101: 0 | W101: 0 | X101: 0 | Y101: 0 | Z101: 0 | AA101: 0 | AB101: 0 | AC101: 0 | AD101: 0 | AE101: 0 | AF101: 0 | AG101: 0 | AH101: 0 | AI101: 0 | AJ101: 0 | AK101: 0 | AL101: 0 | AM101: 0
A102: Cº INTERTERRITORIAL CADETES MASCULINO | B102: C.G. COSTA ADEJE, CANARIAS | C102: 12-406 | E102: 41165 | F102: 41168 | G102: 62500 | H102: 0 | I102: 0 | J102: 0 | K102: 0 | L102: 0 | M102: 68 | O102: II | P102: 0 | Q102: 68 | R102: 0 | S102: 0 | T102: 0 | U102: 0 | V102: 0 | W102: 0 | X102: 0 | Y102: 0 | Z102: 0 | AA102: 0 | AB102: 0 | AC102: 0 | AD102: 0 | AE102: 0 | AF102: 0 | AG102: 0 | AH102: 0 | AI102: 0 | AJ102: 0 | AK102: 0 | AL102: 0 | AM102: 0
A103: Cº INTERTERRITORIAL INFANTIL DE ESPAÑA | B103: C.G.EL PUERTO, CÁDIZ | C103: 12-407 | E103: 41193 | F103: 41196 | G103: 68100 | H103: 0 | I103: 0 | J103: 0 | K103: 0 | L103: 0 | M103: 96 | O103: II | P103: 32 | Q103: 64 | R103: 0 | S103: 0 | T103: 0 | U103: 0 | V103: 0 | W103: 0 | X103: 0 | Y103: 0 | Z103: 0 | AA103: 0 | AB103: 0 | AC103: 0 | AD103: 0 | AE103: 0 | AF103: 0 | AG103: 0 | AH103: 0 | AI103: 0 | AJ103: 0 | AK103: 0 | AL103: 0 | AM103: 0
...
