Workbook
Name TABLE: NORMAL!#REF!
Name TABLE_2: NORMAL!#REF!
Name TABLE_3: NORMAL!#REF!
Name TABLE_4: NORMAL!#REF!

Sheet NORMAL
A1: ANDALUCÍA | C1: TOTAL | E1: PUESTO
C2: =SUM(E9:E14)-MAX(E9:E14) -> 0
B8: JUGADOR | E8: GOLPES
A9: 1 | B9: GALIANO AGUILAR, MARIO
A10: =A9+1 -> 2 | B10: GOMEZ RUIZ, CASTO
A11: =A10+1 -> 3 | B11: MENA RUIZ, OLIVER
A12: =A11+1 -> 4 | B12: PASTOR RUFIAN, MARCOS
A13: =A12+1 -> 5 | B13: PASTOR RUFIAN, VICTOR
A14: =A13+1 -> 6 | B14: SEGURA OLIVA, CARLOS
A18: CASTILLA LA MANCHA | C18: TOTAL | E18: PUESTO
C19: =SUM(E26:E31)-MAX(E26:E31) -> 0
B25: JUGADOR | E25: GOLPES
A26: 1 | B26: GIRON ORTIZ, ALBERTO
A27: =A26+1 -> 2 | B27: IGLESIAS PRIETO, JOSE JOAQUIN
A28: =A27+1 -> 3 | B28: LUCENDO DIAZ, CARLOS
A29: =A28+1 -> 4 | B29: PEREZ LAZARO, ALBERTO M.
A30: =A29+1 -> 5 | B30: PUEBLA LUNA, ANTONIO
A31: =A30+1 -> 6 | B31: VILLAMOR AGUADO, JAVIER
A35: PAÍS VASCO | C35: TOTAL | E35: PUESTO
C36: =SUM(E43:E48)-MAX(E43:E48) -> 0
B42: JUGADOR | E42: GOLPES
A43: 1 | B43: ERVITI ISTURIZ, JAVIER
A44: =A43+1 -> 2 | B44: LARRAÑAGA E., EDUARDO
A45: =A44+1 -> 3 | B45: OCHOTORENA FDEZ., OSCAR
A46: =A45+1 -> 4 | B46: RAHM RODRIGUEZ, JON
A47: =A46+1 -> 5 | B47: SAINZ DELGADO, JAVIER
A48: =A47+1 -> 6 | B48: SARASTI BERNARAS, JUAN FCO.
A52: CATALUÑA | C52: TOTAL | E52: PUESTO
C53: =SUM(E60:E65)-MAX(E60:E65) -> 0
B59: JUGADOR | E59: GOLPES
A60: 1 | B60: ARNAUS ANTUNEZ, ADRIA
A61: =A60+1 -> 2 | B61: BERTRAN CROUS, VICTOR
A62: =A61+1 -> 3 | B62: PEREZ GELMA, CARLES
A63: =A62+1 -> 4 | B63: PIGEM XAMMAR, CARLOS
A64: =A63+1 -> 5 | B64: PIRIS MATEU, GERARD
A65: =A64+1 -> 6 | B65: PUIG GINER, XAVI
A69: MADRID | C69: TOTAL | E69: PUESTO
C70: =SUM(E77:E82)-MAX(E77:E82) -> 0
B76: JUGADOR | E76: GOLPES
A77: 1 | B77: BAENA SANCHEZ, NICOLAS
A78: =A77+1 -> 2 | B78: BENITO BARRIENTOS, JAIME
A79: =A78+1 -> 3 | B79: GIL CASTRO, MANUEL
A80: =A79+1 -> 4 | B80: MORENO LINARES, EDER
A81: =A80+1 -> 5 | B81: ORTEGA OBISPO, DIEGO
A82: =A81+1 -> 6 | B82: SIMON DE MIGUEL, JORGE
A86: ASTURIAS | C86: TOTAL | E86: PUESTO
C87: =SUM(E94:E99)-MAX(E94:E99) -> 0
B93: JUGADOR | E93: GOLPES
A94: 1 | B94: CANTERO GUTIERREZ, IVAN
A95: =A94+1 -> 2 | B95: ELVIRA MIJARES, MANUEL
A96: =A95+1 -> 3 | B96: FERNANDEZ LOPEZ, ALBERTO
A97: =A96+1 -> 4 | B97: GARCIA-MANCEBO GLEZ., CARLOS
A98: =A97+1 -> 5 | B98: GONZALEZ VALLINA, JAVIER
A99: =A98+1 -> 6 | B99: POSTIGO GUTIERREZ, ALVARO
A103: BALEARES | C103: TOTAL | E103: PUESTO
C104: =SUM(E111:E116)-MAX(E111:E116) -> 0
B110: JUGADOR | E110: GOLPES
A111: 1 | B111: DEL HOYO PACHECHO, ATAULFO
A112: =A111+1 -> 2 | B112: FERRER MERCANT, ANTONI
A113: =A112+1 -> 3 | B113: GONZALEZ CAMARERO-N., JOAN
A114: =A113+1 -> 4 | B114: JUANEDA GRIMALT, JOSEP
A115: =A114+1 -> 5 | B115: PAEZ WEINBAUM, FEDERICO
A116: =A115+1 -> 6 | B116: VALUZZI, FABIO
A120: C. VALENCIANA | C120: TOTAL | E120: PUESTO
C121: =SUM(E128:E133)-MAX(E128:E133) -> 0
B127: JUGADOR | E127: GOLPES
A128: 1 | B128: CASABONA NAVARRO, SIXTO
A129: =A128+1 -> 2 | B129: BONDIA GIL, JOSE
A130: =A129+1 -> 3 | B130: CABALLER HERNANI, ANDRES
A131: =A130+1 -> 4 | B131: GRAU TOMAS, NOEL
A132: =A131+1 -> 5 | B132: FOWLER, KIERON
A133: =A132+1 -> 6 | B133: PAYA VILA, SALVADOR

Sheet EN BLANCO

Sheet Hoja3
A1: EQUIPO | B1: TOTAL | C1: PUESTO
A2: =NORMAL!A52 -> CATALUÑA | B2: =NORMAL!C53 -> 0 | C2: 1
A3: =NORMAL!A103 -> BALEARES | B3: =NORMAL!C104 -> 0 | C3: 2
A4: =NORMAL!A1 -> ANDALUCÍA | B4: =NORMAL!C2 -> 0 | C4: 3
A5: =NORMAL!A35 -> PAÍS VASCO | B5: =NORMAL!C36 -> 0 | C5: 4
A6: =NORMAL!A69 -> MADRID | B6: =NORMAL!C70 -> 0 | C6: 5
A7: =NORMAL!A120 -> C. VALENCIANA | B7: =NORMAL!C121 -> 0 | C7: 6
A8: =NORMAL!A18 -> CASTILLA LA MANCHA | B8: =NORMAL!C19 -> 0 | C8: 7
A9: =NORMAL!A86 -> ASTURIAS | B9: =NORMAL!C87 -> 0 | C9: 8
