Workbook

Sheet Contabilidad
B2: =F13 -> Juna Fco. Sarasti
A12: Fecha | B12: Nº Asiento | C12: Nº Doc. | D12: Tipo | E12: Nº de cuenta | F12: Descripción | H12: Act. | I12: Grupo | J12: Actividad | K12: Debe | L12: Haber | M12: Tipo Contr. | N12: Cta. Contr. | O12: Cód. Depart. | P12: Cód. Programa
A13: =TODAY() -> 41407 | D13: C | E13: =IF(D13="C",65501,7) -> 65501 | F13: =Liquidacion!D13 -> Juna Fco. Sarasti | G13: =Liquidacion!D7 -> 13-017 8200 St. Andrews Links Trophy St.Andres Old & New | H13: =Liquidacion!D7 -> 13-017 8200 St. Andrews Links Trophy St.Andres Old & New | I13: 0 | K13: =Liquidacion!H55-Liquidacion!H44-Liquidacion!H45 -> 0 | P13: =Liquidacion!$H$7 -> 0
A14: =TODAY() -> 41407 | D14: C | E14: 65500 | F14: =Liquidacion!D13 -> Juna Fco. Sarasti | G14: =Liquidacion!D7 -> 13-017 8200 St. Andrews Links Trophy St.Andres Old & New | H14: =Liquidacion!D7 -> 13-017 8200 St. Andrews Links Trophy St.Andres Old & New | I14: 0 | K14: =Liquidacion!H44 -> 0 | P14: =Liquidacion!$H$7 -> 0
A15: =TODAY() -> 41407 | D15: C | E15: 62907006 | F15: =Liquidacion!D13 -> Juna Fco. Sarasti | G15: =Liquidacion!D7 -> 13-017 8200 St. Andrews Links Trophy St.Andres Old & New | H15: =Liquidacion!D7 -> 13-017 8200 St. Andrews Links Trophy St.Andres Old & New | K15: =Liquidacion!H45 -> 0 | P15: =Liquidacion!$H$7 -> 0
A16: =TODAY() -> 41407 | D16: P | F16: Justificación | G16: =F14 -> Juna Fco. Sarasti | L16: =Liquidacion!H65 -> 0 | O16: =Liquidacion!G13 -> 0 | P16: =Liquidacion!$H$7 -> 0
A17: =TODAY() -> 41407 | D17: =IF(Liquidacion!A65=0,"","P") | E17: =IF(D17="B",7,) -> 0 | F17: =IF(D17="B",Liquidacion!A65,) -> 0 | G17: =IF(D17="B",Liquidacion!$D$7,) -> 0 | K17: =IF(D17="P",Liquidacion!B65,) -> 0 | O17: =F17 -> 0 | P17: =Liquidacion!$H$7 -> 0
A18: =TODAY() -> 41407 | D18: =IF(Liquidacion!A66=0,"","P") | E18: =IF(D18="B",7,) -> 0 | F18: =IF(D18="B",Liquidacion!A66,) -> 0 | G18: =IF(D18="B",Liquidacion!$D$7,) -> 0 | K18: =IF(D18="P",Liquidacion!B66,) -> 0 | O18: =F18 -> 0 | P18: =Liquidacion!$H$7 -> 0
A19: =TODAY() -> 41407 | D19: =IF(Liquidacion!A67=0,"","P") | E19: =IF(D19="B",7,) -> 0 | F19: =IF(D19="B",Liquidacion!A67,) -> 0 | G19: =IF(D19="B",Liquidacion!$D$7,) -> 0 | K19: =IF(D19="P",Liquidacion!B67,) -> 0 | O19: =F19 -> 0 | P19: =Liquidacion!$H$7 -> 0
A20: =TODAY() -> 41407 | D20: =IF(Liquidacion!A68=0,"","P") | E20: =IF(D20="B",7,) -> 0 | F20: =IF(D20="B",Liquidacion!A68,) -> 0 | G20: =IF(D20="B",Liquidacion!$D$7,) -> 0 | K20: =IF(D20="P",Liquidacion!B68,) -> 0 | O20: =F20 -> 0 | P20: =Liquidacion!$H$7 -> 0
A21: =TODAY() -> 41407 | D21: =IF(Liquidacion!A69=0,"","P") | E21: =IF(D21="B",7,) -> 0 | F21: =IF(D21="B",Liquidacion!A69,) -> 0 | G21: =IF(D21="B",Liquidacion!$D$7,) -> 0 | K21: =IF(D21="P",Liquidacion!B69,) -> 0 | O21: =F21 -> 0 | P21: =Liquidacion!$H$7 -> 0
F22: =IF(K22=L22,"El Asiento está cuadrado","El Asiento NO está cuadrado") -> El Asiento está cuadrado | K22: =SUM(K13:K21) -> 0 | L22: =SUM(L13:L21) -> 0
D23: C | E23: B
A26: Comentarios:

Sheet Liquidacion
B2: REAL FEDERACION ESPAÑOLA DE GOLF
D6: Datos de la prueba | H6: Comité
B7: Denominación | D7: 13-017 8200 St. Andrews Links Trophy St.Andres Old & New | I7: 01 | J7: Absoluto masculino | K7: =CONCATENATE(I7," - ",J7) -> 01 - Absoluto masculino
I8: 02 | J8: Absoluto femenino | K8: =CONCATENATE(I8," - ",J8) -> 02 - Absoluto femenino
B9: Lugar | D9: En Presupuesto | E9: =RIGHT(D7,20) -> St.Andres Old & New | G9: Real | H9: =E9 -> St.Andres Old & New | I9: 03 | J9: Profesional | K9: =CONCATENATE(I9," - ",J9) -> 03 - Profesional
I10: 04 | J10: Juvenil Alta Competición | K10: =CONCATENATE(I10," - ",J10) -> 04 - Juvenil Alta Competición
B11: Fecha | D11: En Presupuesto | F11: 7 - 9 de Junio 2013 | G11: Real | H11: 4 al 10 de Junio 2013 | I11: 05 | J11: Juvenil Estatal | K11: =CONCATENATE(I11," - ",J11) -> 05 - Juvenil Estatal
D12: Nombre y 2 apellidos | I12: 06 | J12: Cadetes Alta Competición | K12: =CONCATENATE(I12," - ",J12) -> 06 - Cadetes Alta Competición
B13: Responsable P.F. | D13: Juna Fco. Sarasti | I13: 07 | J13: Cadetes Estatal | K13: =CONCATENATE(I13," - ",J13) -> 07 - Cadetes Estatal
D14: Nombre y 2 apellidos | I14: 08 | J14: Arbitros Alta Competición | K14: =CONCATENATE(I14," - ",J14) -> 08 - Arbitros Alta Competición
B15: Jugadores | D15: Juan Francisco Sarasti Bernarás | I15: 09 | J15: Arbitros Estatal | K15: =CONCATENATE(I15," - ",J15) -> 09 - Arbitros Estatal
D16: Borja Virto Astudillo | I16: 10 | J16: Seniors | K16: =CONCATENATE(I16," - ",J16) -> 10 - Seniors
I17: 11 | J17: Becados Residencia Blume | K17: =CONCATENATE(I17," - ",J17) -> 11 - Becados Residencia Blume
D18: Enviar 300 Libras a cada uno. | I18: 12 | J18: Campos-Slope System | K18: =CONCATENATE(I18," - ",J18) -> 12 - Campos-Slope System
I19: 13 | J19: Formación C.T. Reglas | K19: =CONCATENATE(I19," - ",J19) -> 13 - Formación C.T. Reglas
I20: 14 | J20: Formación C.T. Juvenil | K20: =CONCATENATE(I20," - ",J20) -> 14 - Formación C.T. Juvenil
I21: 15 | J21: Formación C.T. Profesional | K21: =CONCATENATE(I21," - ",J21) -> 15 - Formación C.T. Profesional
I22: 16 | J22: Reuniones | K22: =CONCATENATE(I22," - ",J22) -> 16 - Reuniones
I23: 17 | J23: Médicos-Dopaje | K23: =CONCATENATE(I23," - ",J23) -> 17 - Médicos-Dopaje
I24: 18 | J24: Masculino Estatal | K24: =CONCATENATE(I24," - ",J24) -> 18 - Masculino Estatal
D25: Nombre y 2 apellidos | F25: Nombre y 2 apellidos | G25: Nombre y 2 apellidos | H25: Nombre y 2 apellidos | I25: 19 | J25: Formación C.T. Femenino | K25: =CONCATENATE(I25," - ",J25) -> 19 - Formación C.T. Femenino
B26: Técnicos | I26: 20 | J26: Comité de Greenes | K26: =CONCATENATE(I26," - ",J26) -> 20 - Comité de Greenes
D27: Nombre y 2 apellidos | G27: Nombre y 2 apellidos | I27: 21 | J27: Infantil-Alta Competición | K27: =CONCATENATE(I27," - ",J27) -> 21 - Infantil-Alta Competición
B28: Fisioterapeutas | I28: 22 | J28: Infantil-Estatal | K28: =CONCATENATE(I28," - ",J28) -> 22 - Infantil-Estatal
D29: Nombre y 2 apellidos | F29: Cometido | G29: Nombre y 2 apellidos | H29: Cometido | I29: 23 | J29: Formación C.T.Campos | K29: =CONCATENATE(I29," - ",J29) -> 23 - Formación C.T.Campos
B30: Otros participantes | I30: 24 | J30: Femenino Estatal | K30: =CONCATENATE(I30," - ",J30) -> 24 - Femenino Estatal
B31: FCT | I31: 25 | J31: Profesional Estatal | K31: =CONCATENATE(I31," - ",J31) -> 25 - Profesional Estatal
D32: =CONCATENATE(D30," ",E30) | E32: =CONCATENATE(D31," ",F31) | F32: =CONCATENATE(G30," ",H30) | G32: =CONCATENATE(G31," ",H31) | I32: 26 | J32: Femenino Sub-18 | K32: =CONCATENATE(I32," - ",J32) -> 26 - Femenino Sub-18
A33: Provisión de Fondos | E33: Divisa | F33: Cambio | H33: TOTAL PROVISION: | I33: 27 | J33: TECNIFICACION | K33: =CONCATENATE(I33," - ",J33) -> 27 - TECNIFICACION
C34: y/o | D34: 600 | E34: £ | F34: 1 | H34: =A34+(D34*1/F34) -> 600 | I34: 28 | J34: Formación C.T. Masculino | K34: =CONCATENATE(I34," - ",J34) -> 28 - Formación C.T. Masculino
I35: $
A36: Fecha de Recogida ( X de XX de XXXX) | D36: Transferencia? | I36: £
I37: ¥
A38: DETALLE DE GASTOS
D40: =E34 -> £ | F40: € | H40: TOTAL
B42: Alojamiento | D42: =calculos!C17 -> 0 | F42: =calculos!B17 -> 0 | H42: =(F42+(D42*1/F$34)) -> 0
B43: Manutención | D43: =calculos!E17 -> 0 | F43: =calculos!D17 -> 0 | H43: =(F43+(D43*1/F$34)) -> 0
B44: Desplazamiento | D44: =calculos!G17 -> 0 | F44: =calculos!F17 -> 0 | H44: =(F44+(D44*1/F$34)) -> 0
B45: Caddies y bolas | D45: =calculos!I17 -> 0 | F45: =calculos!H17 -> 0 | H45: =(F45+(D45*1/F$34)) -> 0
B46: Propinas | H46: =(F46+(D46*1/F$34)) -> 0
...

Sheet FCT
B8: Evento
B9: Lugar (club y población)
B10: Día de alta | D10: Día de baja
B11: Categoría
B12: Nº de días a abonar | F12: Director de Torneo
B13: Salario bruto/día | D13: Salario neto/día | F13: Administrativo
B15: Nombre y 2 apellidos
B16: Dirección completa
B17: N.I.F.
B18: Nº de la Seguridad Social
B19: Teléfono
B20: Correo electrónico
B21: Nº de cuenta corriente
B23: Comentarios
B25: Fecha
B27: ESTA FICHA OBRARÁ EN PODER DEL DEPARTAMENTO FINANCIERO 10 DÍAS ANTES DE LA FECHA DE ALTA
A37: 11-001 | B37: Copa de Andalucía | C37: =CONCATENATE(A37," ",B37) -> 11-001 Copa de Andalucía
A38: 11-002 | B38: Cº de Baleares-Copa de Invierno | C38: =CONCATENATE(A38," ",B38) -> 11-002 Cº de Baleares-Copa de Invierno
A39: 11-003 | B39: Cº de Canarias | C39: =CONCATENATE(A39," ",B39) -> 11-003 Cº de Canarias
A40: 11-004 | B40: Copa Sotogrande.Masters del Golf Amateur | C40: =CONCATENATE(A40," ",B40) -> 11-004 Copa Sotogrande.Masters del Golf Amateur
A41: 11-005 | B41: Copa Puerta de Hierro | C41: =CONCATENATE(A41," ",B41) -> 11-005 Copa Puerta de Hierro
A42: 11-006 | B42: Cº de España Absoluto | C42: =CONCATENATE(A42," ",B42) -> 11-006 Cº de España Absoluto
A43: 11-007 | B43: Cº de España Junior | C43: =CONCATENATE(A43," ",B43) -> 11-007 Cº de España Junior
A44: 11-008 | B44: Cº Internac .España "Copa SM El Rey" | C44: =CONCATENATE(A44," ",B44) -> 11-008 Cº Internac .España "Copa SM El Rey"
A45: 11-009 | B45: Cº Internac. España Junior | C45: =CONCATENATE(A45," ",B45) -> 11-009 Cº Internac. España Junior
A46: 11-010 | B46: Cº Internac. Inglaterra "Brabazon Trophy | C46: =CONCATENATE(A46," ",B46) -> 11-010 Cº Internac. Inglaterra "Brabazon Trophy
A47: 11-011 | B47: British Amateur Championship | C47: =CONCATENATE(A47," ",B47) -> 11-011 British Amateur Championship
A48: 11-012 | B48: Cº Internacinal de Portugal | C48: =CONCATENATE(A48," ",B48) -> 11-012 Cº Internacinal de Portugal
... A217: 11-910 | B217: British Ladies Senior | C217: =CONCATENATE(A217," ",B217) -> 11-910 British Ladies Senior

Sheet calculos
C2: REAL FEDERACION ESPAÑOLA DE GOLF
D4: PRESUPUESTO Y LIQUIDACION DE CAMPEONATOS
B8: CAMPEONATO | D8: =Liquidacion!D7 -> 13-017 8200 St. Andrews Links Trophy St.Andres Old & New
B10: LUGAR Y FECHA | D10: =CONCATENATE(Liquidacion!H9," ",H11) -> St.Andres Old & New
B12: RESPONSABLE | D12: =Liquidacion!D13 -> Juna Fco. Sarasti
B15: Alojamientos | D15: Manutención | F15: Desplazam. | H15: Caddies
B16: € | C16: (en divisa) | D16: € | E16: (en divisa) | F16: € | G16: (en divisa) | H16: € | I16: (en divisa)
A17: SUMA | B17: =SUM(B18:B58) -> 0 | C17: =SUM(C18:C58) -> 0 | D17: =SUM(D18:D58) -> 0 | E17: =SUM(E18:E58) -> 0 | F17: =SUM(F18:F58) -> 0 | G17: =SUM(G18:G58) -> 0 | H17: =SUM(H18:H58) -> 0 | I17: =SUM(I18:I58) -> 0
A18: 1
A19: 2
A20: 3
A21: 4
A22: 5
A23: 6
A24: 7
A25: 8
A26: 9
A27: =A26+1 -> 10
A28: =A27+1 -> 11
A29: =A28+1 -> 12
A30: =A29+1 -> 13
A31: =A30+1 -> 14
A32: =A31+1 -> 15
A33: =A32+1 -> 16
A34: =A33+1 -> 17
A35: =A34+1 -> 18
A36: =A35+1 -> 19
A37: =A36+1 -> 20
A38: =A37+1 -> 21
... A58: =A57+1 -> 41

Sheet MemoriadelaActividad
A2: Nº de Envío de esta Memoria: ____________________
A4: Fecha de envío de esta Memoria: _________________
B5: MEMORIA DE LA ACTIVIDAD
C6: EJERCICIO 2011
A8: 1.- PROGRAMA | C8: I - ALTA COMPETICIÓN
A10: 2.- Nº DE ACTUACIÓN | C10: =LEFT(H10,6) -> 13-017 | H10: =Liquidacion!D7 -> 13-017 8200 St. Andrews Links Trophy St.Andres Old & New
A12: 3.- ESPECIALIDAD Y GRUPO DE TRABAJO | C12: =CONCATENATE(H12," - ",I12) -> GOLF - | H12: GOLF | I12: =LEFT(Liquidacion!H7,3)
A14: 4.- NOMBRE DE LA ACTUACIÓN | C14: =MID(H10,15,40) -> St. Andrews Links Trophy | G14: =Liquidacion!D7 -> 13-017 8200 St. Andrews Links Trophy St.Andres Old & New
A17: 5.- FECHAS DE INICIO Y FINAL | C17: EN PRESUPUESTO: | D17: =Liquidacion!E11 -> 0 | F17: =Liquidacion!E11 -> 0
C18: REALES: | D18: =Liquidacion!H11 -> 4 al 10 de Junio 2013 | G18: Reales:
C19: =Liquidacion!H11 -> 4 al 10 de Junio 2013 | D19: =Liquidacion!E11 -> 0
A20: 6. LUGAR DE CELEBRACIÓN | C20: EN PRESUPUESTO: | D20: =Liquidacion!E9 -> St.Andres Old & New | G20: En Presupuesto
C21: REAL: | D21: =Liquidacion!H9 -> St.Andres Old & New | G21: Real:
C22: =Liquidacion!E9 -> St.Andres Old & New | D22: =Liquidacion!H9 -> St.Andres Old & New | F22: =Liquidacion!H11 -> 4 al 10 de Junio 2013
A23: 7.- RELACIÓN DE PARTICIPANTES
D24: Ppto. | E24: Real
A25: DEPORTISTAS | C25: DEPORTISTAS | E25: =COUNTIF(C26:C35,"<>0") -> 3
A26: =IF(Liquidacion!H7="CTAM","HOMBRES",IF(Liquidacion!H7="BLUME MASCULINO","HOMBRES",IF(Liquidacion!H7="ctj MASCULINO","HOMBRES","MUJERES"))) -> MUJERES | C26: =Liquidacion!D15 -> Juan Francisco Sarasti Bernarás
C27: =Liquidacion!D16 -> Borja Virto Astudillo
C28: =Liquidacion!D17 -> 0
C29: =Liquidacion!D18 -> Enviar 300 Libras a cada uno.
C30: =Liquidacion!D19 -> 0
C31: =Liquidacion!D20 -> 0
C32: =Liquidacion!D21 -> 0
C33: =Liquidacion!D22 -> 0
C34: =Liquidacion!D23 -> 0
C35: =Liquidacion!D24 -> 0
C36: TÉCNICOS | E36: =COUNTIF(C37:C40,"<>0") -> 0
C37: =Liquidacion!D26 -> 0
C38: =Liquidacion!F26 -> 0
C39: =Liquidacion!G26 -> 0
C40: =Liquidacion!H26 -> 0
C41: MÉDICOS
A42: =IF(Liquidacion!D28<>0,1,) -> 0 | B42: =IF(Liquidacion!G28<>0,1,) -> 0 | C42: FISIOTERAPEUTAS | E42: =SUM(A42:B42) -> 0
C43: OTROS (Especificando su cometido) | E43: =COUNTIF(C44:C47,"<>0") -> 0
C44: =Liquidacion!D30 -> 0 | D44: =Liquidacion!F30 -> 0
C45: =Liquidacion!G30 -> 0 | D45: =Liquidacion!H30 -> 0
C46: =Liquidacion!D31 -> 0 | D46: =Liquidacion!F31 -> 0 | F46: =Liquidacion!G30 -> 0 | G46: =Liquidacion!H30 -> 0
C47: =Liquidacion!G31 -> 0 | D47: =Liquidacion!H31 -> 0
A49: 8.- RESULTADOS DEPORTIVOS OBTENIDOS Y VALORACIÓN TÉCNICA
...

Sheet Memoria Gasto Indirecto
A2: REAL FEDERACIÓN ESPAÑOLA DE GOLF
A4: EJERCICIO 2010
B5: MEMORIA DE GASTO INDIRECTO
C7: Nº DE MEMORIA DE ESTE GASTO: | E7: 1
A10: 1.- PROGRAMA
A13: 2.- CONCEPTO DE GASTO (anexo 3)
G14: Reales: | H14: 01 | I14: Absoluto masculino | J14: =CONCATENATE(H14," ",I14) -> 01 Absoluto masculino
H15: 02 | I15: Absoluto femenino | J15: =CONCATENATE(H15," ",I15) -> 02 Absoluto femenino
H16: 03 | I16: Profesional | J16: =CONCATENATE(H16," ",I16) -> 03 Profesional
A17: 3.- IMPORTE DEL GASTO | H17: 04 | I17: Juvenil Alta Competición | J17: =CONCATENATE(H17," ",I17) -> 04 Juvenil Alta Competición
A18: DEPORTISTAS | C18: TOTAL | E18: CSD | H18: 05 | I18: Juvenil Estatal | J18: =CONCATENATE(H18," ",I18) -> 05 Juvenil Estatal
A19: =IF(#REF!="CTAM","HOMBRES",IF(#REF!="BLUME MASCULINO","HOMBRES",IF(#REF!="ctj MASCULINO","HOMBRES","MUJERES"))) -> #REF! | H19: 06 | I19: Cadetes Alta Competición | J19: =CONCATENATE(H19," ",I19) -> 06 Cadetes Alta Competición
H20: 07 | I20: Cadetes Estatal | J20: =CONCATENATE(H20," ",I20) -> 07 Cadetes Estatal
H21: 08 | I21: Arbitros Alta Competición | J21: =CONCATENATE(H21," ",I21) -> 08 Arbitros Alta Competición
H22: 25 | I22: Profesional Estatal | J22: =CONCATENATE(H22," ",I22) -> 25 Profesional Estatal
H23: 26 | I23: Femenino Sub-18 | J23: =CONCATENATE(H23," ",I23) -> 26 Femenino Sub-18
H24: 27 | I24: TECNIFICACION | J24: =CONCATENATE(H24," ",I24) -> 27 TECNIFICACION
A25: 4.- DETALLE DEL GASTO | D25: TOTAL | E25: CSD
A30: 5.- RELACIÓN DE PERCEPTORES/BENEFICIARIOS /PROVEEDORES
A31: CUENTA | B31: COMPROBANTE Nº | C31: NOMBRE | D31: IMPORTE
A32: 6540301 | B32: 1
B33: 2
B34: 3
B35: 4
A61: 6.- DESVIACIONES | C61: NINGUNA
C70: Gonzaga Escauriaza Barreiro
C71: Presidente

Sheet Actuaciones
A1: Actuación | B1: Descripción | C1: Presupuestado CSD | D1: Lugar | E1: Fecha inicio | F1: Fecha fin | G1: Especialidad | H1: Técnicos/Profesores | I1: Jueces | J1: Técnicos/Profesores realiz. | K1: Jueces realiz. | L1: Médicos realiz. | M1: Auxiliares realiz. | N1: Otros realiz. | O1: Deportistas/Alumnos realiz. | P1: Otros | Q1: Auxiliares | R1: Médicos | S1: Deportistas/Alumnos | T1: Nueva creación | U1: Realizado total | V1: Actividad | W1: Nº Mujeres Deportistas/Alumnas | X1: Nº Hombres Deportistas/Alumnos | Y1: Nº Mujeres Técnicas/Profesores | Z1: Nº Hombres Técnicos/Profesores | AA1: Nº Mujeres Jueces | AB1: Nº Hombres Jueces | AC1: Nº Mujeres Médicos | AD1: Nº Hombres Médicos | AE1: Nº Mujeres Auxiliares | AF1: Nº Hombres Auxiliares | AG1: Nº Mujeres Otros | AH1: Nº Hombres Otros | AI1: Nº Mujeres Dep/Alum realiz. | AJ1: Nº Hombres Dep/Alum realiz. | AK1: Nº Mujeres Téc/Prof realiz. | AL1: Nº Hombres Téc/Prof realiz. | AM1: Nº Mujeres Jueces realiz. | AN1: Nº Hombres Jueces realiz. | AO1: Nº Mujeres Médicos realiz. | AP1: Nº Hombres Médicos realiz. | AQ1: Nº Mujeres Auxiliares realiz. | AR1: Nº Hombres Auxiliares realiz. | AS1: Nº Mujeres Otros realiz. | AT1: Nº Hombres Otros realiz.
A2: 13-001 | B2: Cº Canarias Masculino | C2: 5000 | D2: R.C.G.Tenerife | E2: 41281 | F2: 41286 | G2: GOLF | H2: 1 | I2: 0 | J2: 1 | K2: 0 | L2: 0 | M2: 0 | N2: 0 | O2: 5 | P2: 0 | Q2: 0 | R2: 0 | S2: 5 | T2: No | U2: 0 | V2: I | W2: 0 | X2: 5 | Y2: 0 | Z2: 1 | AA2: 0 | AB2: 0 | AC2: 0 | AD2: 0 | AE2: 0 | AF2: 0 | AG2: 0 | AH2: 0 | AI2: 0 | AJ2: 5 | AK2: 0 | AL2: 1 | AM2: 0 | AN2: 0 | AO2: 0 | AP2: 0 | AQ2: 0 | AR2: 0 | AS2: 0 | AT2: 0
A3: 13-002 | B3: Match Cuadrangular Masculino | C3: 11500 | D3: Costa Ballena, Cádiz | E3: 41297 | F3: 41299 | G3: GOLF | H3: 1 | I3: 0 | J3: 1 | K3: 0 | L3: 0 | M3: 0 | N3: 1 | O3: 6 | P3: 1 | Q3: 0 | R3: 0 | S3: 6 | T3: No | U3: 0 | V3: I | W3: 0 | X3: 6 | Y3: 0 | Z3: 1 | AA3: 0 | AB3: 0 | AC3: 0 | AD3: 0 | AE3: 0 | AF3: 0 | AG3: 0 | AH3: 1 | AI3: 0 | AJ3: 6 | AK3: 0 | AL3: 1 | AM3: 0 | AN3: 0 | AO3: 0 | AP3: 0 | AQ3: 0 | AR3: 0 | AS3: 0 | AT3: 1
A4: 13-003 | B4: Copa Baleares Masculina | C4: 7000 | D4: Golf Son Antem (Mallorca) | E4: 41310 | F4: 41315 | G4: GOLF | H4: 2 | I4: 0 | J4: 2 | K4: 0 | L4: 0 | M4: 0 | N4: 1 | O4: 5 | P4: 1 | Q4: 0 | R4: 0 | S4: 5 | T4: No | U4: 0 | V4: I | W4: 0 | X4: 5 | Y4: 0 | Z4: 2 | AA4: 0 | AB4: 0 | AC4: 0 | AD4: 0 | AE4: 0 | AF4: 0 | AG4: 0 | AH4: 1 | AI4: 0 | AJ4: 5 | AK4: 0 | AL4: 2 | AM4: 0 | AN4: 0 | AO4: 0 | AP4: 0 | AQ4: 0 | AR4: 0 | AS4: 0 | AT4: 1
A5: 13-004 | B5: Cº Internacional de Portugal Masculino | C5: 6000 | D5: Montado Golf Resort | E5: 41318 | F5: 41321 | G5: GOLF | H5: 0 | I5: 0 | J5: 0 | K5: 0 | L5: 0 | M5: 0 | N5: 0 | O5: 3 | P5: 0 | Q5: 0 | R5: 0 | S5: 3 | T5: No | U5: 0 | V5: I | W5: 0 | X5: 3 | Y5: 0 | Z5: 0 | AA5: 0 | AB5: 0 | AC5: 0 | AD5: 0 | AE5: 0 | AF5: 0 | AG5: 0 | AH5: 0 | AI5: 0 | AJ5: 3 | AK5: 0 | AL5: 0 | AM5: 0 | AN5: 0 | AO5: 0 | AP5: 0 | AQ5: 0 | AR5: 0 | AS5: 0 | AT5: 0
A6: 13-005 | B6: Match Francia-España (sub 18) | C6: 7500 | D6: Pau | E6: 41321 | F6: 41322 | G6: GOLF | H6: 1 | I6: 0 | J6: 1 | K6: 0 | L6: 0 | M6: 0 | N6: 1 | O6: 12 | P6: 1 | Q6: 0 | R6: 0 | S6: 12 | T6: No | U6: 0 | V6: I | W6: 0 | X6: 12 | Y6: 0 | Z6: 1 | AA6: 0 | AB6: 0 | AC6: 0 | AD6: 0 | AE6: 0 | AF6: 0 | AG6: 0 | AH6: 1 | AI6: 0 | AJ6: 12 | AK6: 0 | AL6: 1 | AM6: 0 | AN6: 0 | AO6: 0 | AP6: 0 | AQ6: 0 | AR6: 0 | AS6: 0 | AT6: 1
A7: 13-006 | B7: Cº Int.España Amateur.Copa SM El Rey | C7: 12500 | D7: La Manga (Murcia) | E7: 41330 | F7: 41336 | G7: GOLF | H7: 1 | I7: 0 | J7: 1 | K7: 0 | L7: 0 | M7: 0 | N7: 3 | O7: 5 | P7: 3 | Q7: 0 | R7: 0 | S7: 5 | T7: No | U7: 0 | V7: I | W7: 0 | X7: 5 | Y7: 0 | Z7: 1 | AA7: 0 | AB7: 0 | AC7: 0 | AD7: 0 | AE7: 0 | AF7: 0 | AG7: 0 | AH7: 3 | AI7: 0 | AJ7: 5 | AK7: 0 | AL7: 1 | AM7: 0 | AN7: 0 | AO7: 0 | AP7: 0 | AQ7: 0 | AR7: 0 | AS7: 0 | AT7: 3
A8: 13-007 | B8: Copa Sotogrande Masculina | C8: 10500 | D8: R.C.G.Sotogrande (Cádiz) | E8: 41346 | F8: 41349 | G8: GOLF | H8: 1 | I8: 0 | J8: 1 | K8: 0 | L8: 0 | M8: 0 | N8: 1 | O8: 4 | P8: 1 | Q8: 0 | R8: 0 | S8: 4 | T8: No | U8: 0 | V8: I | W8: 0 | X8: 4 | Y8: 0 | Z8: 1 | AA8: 0 | AB8: 0 | AC8: 0 | AD8: 0 | AE8: 0 | AF8: 0 | AG8: 0 | AH8: 1 | AI8: 0 | AJ8: 4 | AK8: 0 | AL8: 1 | AM8: 0 | AN8: 0 | AO8: 0 | AP8: 0 | AQ8: 0 | AR8: 0 | AS8: 0 | AT8: 1
A9: 13-008 | B9: Cº España Individual Junior y Boys | C9: 6800 | D9: Señorío de Zuasti (Navarra) | E9: 41356 | F9: 41360 | G9: GOLF | H9: 0 | I9: 0 | J9: 0 | K9: 0 | L9: 0 | M9: 0 | N9: 2 | O9: 4 | P9: 2 | Q9: 0 | R9: 0 | S9: 4 | T9: No | U9: 0 | V9: I | W9: 0 | X9: 4 | Y9: 0 | Z9: 0 | AA9: 0 | AB9: 0 | AC9: 0 | AD9: 0 | AE9: 0 | AF9: 0 | AG9: 0 | AH9: 2 | AI9: 0 | AJ9: 4 | AK9: 0 | AL9: 0 | AM9: 0 | AN9: 0 | AO9: 0 | AP9: 0 | AQ9: 0 | AR9: 0 | AS9: 0 | AT9: 2
A10: 13-009 | B10: Cº Comunidad Valenciana Masculino | C10: 7800 | D10: El Saler (Valencia) | E10: 41374 | F10: 41378 | G10: GOLF | H10: 2 | I10: 0 | J10: 2 | K10: 0 | L10: 0 | M10: 0 | N10: 1 | O10: 5 | P10: 1 | Q10: 0 | R10: 0 | S10: 5 | T10: No | U10: 0 | V10: I | W10: 0 | X10: 5 | Y10: 0 | Z10: 2 | AA10: 0 | AB10: 0 | AC10: 0 | AD10: 0 | AE10: 0 | AF10: 0 | AG10: 0 | AH10: 1 | AI10: 0 | AJ10: 5 | AK10: 0 | AL10: 2 | AM10: 0 | AN10: 0 | AO10: 0 | AP10: 0 | AQ10: 0 | AR10: 0 | AS10: 0 | AT10: 1
A11: 13-010 | B11: Match España-Inglaterra masculino | C11: 14000 | D11: R.C.G.El Prat (Barcelona) | E11: 41391 | F11: 41392 | G11: GOLF | H11: 1 | I11: 0 | J11: 1 | K11: 0 | L11: 0 | M11: 0 | N11: 4 | O11: 9 | P11: 4 | Q11: 0 | R11: 0 | S11: 9 | T11: No | U11: 0 | V11: I | W11: 0 | X11: 9 | Y11: 0 | Z11: 1 | AA11: 0 | AB11: 0 | AC11: 0 | AD11: 0 | AE11: 0 | AF11: 0 | AG11: 0 | AH11: 4 | AI11: 0 | AJ11: 9 | AK11: 0 | AL11: 1 | AM11: 0 | AN11: 0 | AO11: 0 | AP11: 0 | AQ11: 0 | AR11: 0 | AS11: 0 | AT11: 4
A12: 13-011 | B12: Lytham Trophy | C12: 0 | D12: Royal Lytham & St. Annes | E12: 41397 | F12: 41399 | G12: GOLF | H12: 0 | I12: 0 | J12: 0 | K12: 0 | L12: 0 | M12: 0 | N12: 0 | O12: 0 | P12: 0 | Q12: 0 | R12: 0 | S12: 0 | T12: No | U12: 0 | V12: I | W12: 0 | X12: 0 | Y12: 0 | Z12: 0 | AA12: 0 | AB12: 0 | AC12: 0 | AD12: 0 | AE12: 0 | AF12: 0 | AG12: 0 | AH12: 0 | AI12: 0 | AJ12: 0 | AK12: 0 | AL12: 0 | AM12: 0 | AN12: 0 | AO12: 0 | AP12: 0 | AQ12: 0 | AR12: 0 | AS12: 0 | AT12: 0
A13: 13-012 | B13: Copa de Andalucía Masculina | C13: 7000 | D13: Lauro Golf (Málaga) | E13: 41401 | F13: 41406 | G13: GOLF | H13: 1 | I13: 0 | J13: 1 | K13: 0 | L13: 0 | M13: 0 | N13: 0 | O13: 5 | P13: 0 | Q13: 0 | R13: 0 | S13: 5 | T13: No | U13: 0 | V13: I | W13: 0 | X13: 5 | Y13: 0 | Z13: 1 | AA13: 0 | AB13: 0 | AC13: 0 | AD13: 0 | AE13: 0 | AF13: 0 | AG13: 0 | AH13: 0 | AI13: 0 | AJ13: 5 | AK13: 0 | AL13: 1 | AM13: 0 | AN13: 0 | AO13: 0 | AP13: 0 | AQ13: 0 | AR13: 0 | AS13: 0 | AT13: 0
A14: 13-014 | B14: Copa Nacional Puerta de Hierro Masculina | C14: 6000 | D14: C.G.La Cañada (Cádiz) | E14: 41415 | F14: 41420 | G14: GOLF | H14: 1 | I14: 0 | J14: 1 | K14: 0 | L14: 0 | M14: 0 | N14: 0 | O14: 5 | P14: 0 | Q14: 0 | R14: 0 | S14: 5 | T14: No | U14: 0 | V14: I | W14: 0 | X14: 5 | Y14: 0 | Z14: 1 | AA14: 0 | AB14: 0 | AC14: 0 | AD14: 0 | AE14: 0 | AF14: 0 | AG14: 0 | AH14: 0 | AI14: 0 | AJ14: 5 | AK14: 0 | AL14: 1 | AM14: 0 | AN14: 0 | AO14: 0 | AP14: 0 | AQ14: 0 | AR14: 0 | AS14: 0 | AT14: 0
... A175: 13-914 | B175: Master Senior | C175: 6000 | D175: a determinar | E175: 41609 | F175: 41611 | G175: GOLF | H175: 0 | I175: 0 | J175: 0 | K175: 0 | L175: 0 | M175: 0 | N175: 0 | O175: 4 | P175: 0 | Q175: 0 | R175: 0 | S175: 4 | T175: No | U175: 0 | V175: V | W175: 0 | X175: 4 | Y175: 0 | Z175: 0 | AA175: 0 | AB175: 0 | AC175: 0 | AD175: 0 | AE175: 0 | AF175: 0 | AG175: 0 | AH175: 0 | AI175: 0 | AJ175: 4 | AK175: 0 | AL175: 0 | AM175: 0 | AN175: 0 | AO175: 0 | AP175: 0 | AQ175: 0 | AR175: 0 | AS175: 0 | AT175: 0

Sheet Datos
A1: Actuación | B1: Prueba | C1: Lugar | D1: Fecha inicio | E1: Fecha fin | F1: Técnicos/Profesores | G1: Jueces | H1: Técnicos/Profesores realiz. | I1: Jueces realiz. | J1: Médicos realiz. | K1: Auxiliares realiz. | L1: Otros realiz. | M1: Deportistas/Alumnos realiz. | N1: Otros | O1: Auxiliares | P1: Médicos | Q1: Deportistas/Alumnos | R1: Nueva creación | S1: Realizado total | T1: Presupuestado CSD | U1: Actividad | V1: Nº Mujeres Deportistas/Alumnas | W1: Nº Hombres Deportistas/Alumnos | X1: Nº Mujeres Técnicas/Profesores | Y1: Nº Hombres Técnicos/Profesores | Z1: Nº Mujeres Jueces | AA1: Nº Hombres Jueces | AB1: Nº Mujeres Médicos | AC1: Nº Hombres Médicos | AD1: Nº Mujeres Auxiliares | AE1: Nº Hombres Auxiliares | AF1: Nº Mujeres Otros | AG1: Nº Hombres Otros | AH1: Nº Mujeres Dep/Alum realiz. | AI1: Nº Hombres Dep/Alum realiz. | AJ1: Nº Mujeres Téc/Prof realiz. | AK1: Nº Hombres Téc/Prof realiz. | AL1: Nº Mujeres Jueces realiz. | AM1: Nº Hombres Jueces realiz. | AN1: Nº Mujeres Médicos realiz. | AO1: Nº Hombres Médicos realiz. | AP1: Nº Mujeres Auxiliares realiz. | AQ1: Nº Hombres Auxiliares realiz. | AR1: Nº Mujeres Otros realiz. | AS1: Nº Hombres Otros realiz.
A2: 12-001 | B2: MATCH CUADRANGULAR | C2: Costa Ballena, Jerez | D2: 40933 | E2: 40935 | F2: 1 | G2: 0 | H2: 0 | I2: 0 | J2: 0 | K2: 0 | L2: 0 | M2: 0 | N2: 1 | O2: 0 | P2: 0 | Q2: 6 | R2: No | S2: 0 | T2: 9000 | U2: I | V2: 0 | W2: 6 | X2: 0 | Y2: 1 | Z2: 0 | AA2: 0 | AB2: 0 | AC2: 0 | AD2: 0 | AE2: 0 | AF2: 0 | AG2: 1 | AH2: 0 | AI2: 0 | AJ2: 0 | AK2: 0 | AL2: 0 | AM2: 0 | AN2: 0 | AO2: 0 | AP2: 0 | AQ2: 0 | AR2: 0 | AS2: 0
A3: 12-002 | B3: COPA BALEARES | C3: Mallorca | D3: 40941 | E3: 40944 | F3: 1 | G3: 0 | H3: 0 | I3: 0 | J3: 0 | K3: 0 | L3: 0 | M3: 0 | N3: 1 | O3: 0 | P3: 0 | Q3: 8 | R3: No | S3: 0 | T3: 7500 | U3: I | V3: 0 | W3: 8 | X3: 0 | Y3: 1 | Z3: 0 | AA3: 0 | AB3: 0 | AC3: 0 | AD3: 0 | AE3: 0 | AF3: 0 | AG3: 1 | AH3: 0 | AI3: 0 | AJ3: 0 | AK3: 0 | AL3: 0 | AM3: 0 | AN3: 0 | AO3: 0 | AP3: 0 | AQ3: 0 | AR3: 0 | AS3: 0
A4: 12-003 | B4: MATCH FRANCIA-ESPAÑA (SUB-18) | C4: PAU | D4: 40950 | E4: 40951 | F4: 1 | G4: 0 | H4: 0 | I4: 0 | J4: 0 | K4: 0 | L4: 0 | M4: 0 | N4: 2 | O4: 0 | P4: 0 | Q4: 12 | R4: No | S4: 0 | T4: 7500 | U4: I | V4: 0 | W4: 12 | X4: 0 | Y4: 1 | Z4: 0 | AA4: 0 | AB4: 0 | AC4: 0 | AD4: 0 | AE4: 0 | AF4: 0 | AG4: 2 | AH4: 0 | AI4: 0 | AJ4: 0 | AK4: 0 | AL4: 0 | AM4: 0 | AN4: 0 | AO4: 0 | AP4: 0 | AQ4: 0 | AR4: 0 | AS4: 0
A5: 12-004 | B5: Cº INTERNACIONAL DE PORTUGAL | C5: MONTADO G.R | D5: 40954 | E5: 40957 | F5: 1 | G5: 0 | H5: 0 | I5: 0 | J5: 0 | K5: 0 | L5: 0 | M5: 0 | N5: 0 | O5: 0 | P5: 0 | Q5: 3 | R5: No | S5: 0 | T5: 6000 | U5: I | V5: 0 | W5: 3 | X5: 0 | Y5: 1 | Z5: 0 | AA5: 0 | AB5: 0 | AC5: 0 | AD5: 0 | AE5: 0 | AF5: 0 | AG5: 0 | AH5: 0 | AI5: 0 | AJ5: 0 | AK5: 0 | AL5: 0 | AM5: 0 | AN5: 0 | AO5: 0 | AP5: 0 | AQ5: 0 | AR5: 0 | AS5: 0
A6: 12-005 | B6: Cº INTERNACIONAL ESPAÑA. COPA SM EL REY | C6: MALLORCA | D6: 40968 | E6: 40972 | F6: 2 | G6: 0 | H6: 0 | I6: 0 | J6: 0 | K6: 0 | L6: 0 | M6: 0 | N6: 2 | O6: 0 | P6: 0 | Q6: 8 | R6: No | S6: 0 | T6: 15000 | U6: I | V6: 0 | W6: 8 | X6: 0 | Y6: 2 | Z6: 0 | AA6: 0 | AB6: 0 | AC6: 0 | AD6: 0 | AE6: 0 | AF6: 0 | AG6: 2 | AH6: 0 | AI6: 0 | AJ6: 0 | AK6: 0 | AL6: 0 | AM6: 0 | AN6: 0 | AO6: 0 | AP6: 0 | AQ6: 0 | AR6: 0 | AS6: 0
A7: 12-006 | B7: CONCENTRACIÓN | C7: A DETERMINAR | D7: 40969 | E7: 40972 | F7: 4 | G7: 0 | H7: 0 | I7: 0 | J7: 0 | K7: 0 | L7: 0 | M7: 0 | N7: 2 | O7: 0 | P7: 0 | Q7: 12 | R7: No | S7: 0 | T7: 45000 | U7: I | V7: 0 | W7: 12 | X7: 0 | Y7: 4 | Z7: 0 | AA7: 0 | AB7: 0 | AC7: 0 | AD7: 0 | AE7: 0 | AF7: 0 | AG7: 2 | AH7: 0 | AI7: 0 | AJ7: 0 | AK7: 0 | AL7: 0 | AM7: 0 | AN7: 0 | AO7: 0 | AP7: 0 | AQ7: 0 | AR7: 0 | AS7: 0
A8: 12-007 | B8: COPA ANDALUCÍA | C8: LA CAÑADA (CÁDIZ) | D8: 40982 | E8: 40985 | F8: 1 | G8: 0 | H8: 0 | I8: 0 | J8: 0 | K8: 0 | L8: 0 | M8: 0 | N8: 1 | O8: 0 | P8: 0 | Q8: 8 | R8: No | S8: 0 | T8: 5000 | U8: I | V8: 0 | W8: 8 | X8: 0 | Y8: 1 | Z8: 0 | AA8: 0 | AB8: 0 | AC8: 0 | AD8: 0 | AE8: 0 | AF8: 0 | AG8: 1 | AH8: 0 | AI8: 0 | AJ8: 0 | AK8: 0 | AL8: 0 | AM8: 0 | AN8: 0 | AO8: 0 | AP8: 0 | AQ8: 0 | AR8: 0 | AS8: 0
A9: 12-008 | B9: COPA SOTOGRANDE | C9: SOTOGRANDE, CÁDIZ | D9: 40990 | E9: 40993 | F9: 0 | G9: 0 | H9: 0 | I9: 0 | J9: 0 | K9: 0 | L9: 0 | M9: 0 | N9: 1 | O9: 0 | P9: 0 | Q9: 4 | R9: No | S9: 0 | T9: 8000 | U9: I | V9: 0 | W9: 4 | X9: 0 | Y9: 0 | Z9: 0 | AA9: 0 | AB9: 0 | AC9: 0 | AD9: 0 | AE9: 0 | AF9: 0 | AG9: 1 | AH9: 0 | AI9: 0 | AJ9: 0 | AK9: 0 | AL9: 0 | AM9: 0 | AN9: 0 | AO9: 0 | AP9: 0 | AQ9: 0 | AR9: 0 | AS9: 0
A10: 12-009 | B10: Cº ESPAÑA JUNIOR Y BOYS | C10: A DETERMINAR | D10: 41000 | E10: 41003 | F10: 2 | G10: 0 | H10: 0 | I10: 0 | J10: 0 | K10: 0 | L10: 0 | M10: 0 | N10: 2 | O10: 0 | P10: 0 | Q10: 6 | R10: No | S10: 0 | T10: 6000 | U10: I | V10: 0 | W10: 6 | X10: 0 | Y10: 2 | Z10: 0 | AA10: 0 | AB10: 0 | AC10: 0 | AD10: 0 | AE10: 0 | AF10: 0 | AG10: 2 | AH10: 0 | AI10: 0 | AJ10: 0 | AK10: 0 | AL10: 0 | AM10: 0 | AN10: 0 | AO10: 0 | AP10: 0 | AQ10: 0 | AR10: 0 | AS10: 0
A11: 12-010 | B11: Cº DE BARCELONA | C11: EL PRAT, BARCELONA | D11: 41018 | E11: 41021 | F11: 1 | G11: 0 | H11: 0 | I11: 0 | J11: 0 | K11: 0 | L11: 0 | M11: 0 | N11: 1 | O11: 0 | P11: 0 | Q11: 8 | R11: No | S11: 0 | T11: 7000 | U11: I | V11: 0 | W11: 8 | X11: 0 | Y11: 1 | Z11: 0 | AA11: 0 | AB11: 0 | AC11: 0 | AD11: 0 | AE11: 0 | AF11: 0 | AG11: 1 | AH11: 0 | AI11: 0 | AJ11: 0 | AK11: 0 | AL11: 0 | AM11: 0 | AN11: 0 | AO11: 0 | AP11: 0 | AQ11: 0 | AR11: 0 | AS11: 0
A12: 12-011 | B12: LYTHAM TROPHY | C12: ROYAL LYTHAM | D12: 41033 | E12: 41035 | F12: 0 | G12: 0 | H12: 0 | I12: 0 | J12: 0 | K12: 0 | L12: 0 | M12: 0 | N12: 1 | O12: 0 | P12: 0 | Q12: 4 | R12: No | S12: 0 | T12: 0 | U12: I | V12: 0 | W12: 4 | X12: 0 | Y12: 0 | Z12: 0 | AA12: 0 | AB12: 0 | AC12: 0 | AD12: 0 | AE12: 0 | AF12: 0 | AG12: 1 | AH12: 0 | AI12: 0 | AJ12: 0 | AK12: 0 | AL12: 0 | AM12: 0 | AN12: 0 | AO12: 0 | AP12: 0 | AQ12: 0 | AR12: 0 | AS12: 0
A13: 12-012 | B13: Cº DE CANARIAS | C13: A DETERMINAR | D13: 41046 | E13: 41049 | F13: 1 | G13: 0 | H13: 0 | I13: 0 | J13: 0 | K13: 0 | L13: 0 | M13: 0 | N13: 0 | O13: 0 | P13: 0 | Q13: 8 | R13: No | S13: 0 | T13: 6000 | U13: I | V13: 0 | W13: 8 | X13: 0 | Y13: 1 | Z13: 0 | AA13: 0 | AB13: 0 | AC13: 0 | AD13: 0 | AE13: 0 | AF13: 0 | AG13: 0 | AH13: 0 | AI13: 0 | AJ13: 0 | AK13: 0 | AL13: 0 | AM13: 0 | AN13: 0 | AO13: 0 | AP13: 0 | AQ13: 0 | AR13: 0 | AS13: 0
... A184: 12-912 | B184: MASTER SENIOR | C184: A DETERMINAR | D184: 40909 | E184: 40909 | F184: 0 | G184: 0 | H184: 0 | I184: 0 | J184: 0 | K184: 0 | L184: 0 | M184: 0 | N184: 0 | O184: 0 | P184: 0 | Q184: 4 | R184: No | S184: 0 | T184: 6000 | U184: V | V184: 0 | W184: 4 | X184: 0 | Y184: 0 | Z184: 0 | AA184: 0 | AB184: 0 | AC184: 0 | AD184: 0 | AE184: 0 | AF184: 0 | AG184: 0 | AH184: 0 | AI184: 0 | AJ184: 0 | AK184: 0 | AL184: 0 | AM184: 0 | AN184: 0 | AO184: 0 | AP184: 0 | AQ184: 0 | AR184: 0 | AS184: 0

Sheet Hoja3
A2: Prueba | B2: ALPS TOUR | D2: =VLOOKUP(B2,A8:E19,3,FALSE) -> #N/A
A8: Actuación | B8: Prueba | C8: Lugar | D8: Fecha inicio | E8: Fecha fin
A9: 12-001 | B9: MATCH CUADRANGULAR | C9: Costa Ballena, Jerez | D9: 40933 | E9: 40935
A10: 12-002 | B10: COPA BALEARES | C10: Mallorca | D10: 40941 | E10: 40944
A11: 12-003 | B11: MATCH FRANCIA-ESPAÑA (SUB-18) | C11: PAU | D11: 40950 | E11: 40951
A12: 12-004 | B12: Cº INTERNACIONAL DE PORTUGAL | C12: MONTADO G.R | D12: 40954 | E12: 40957
A13: 12-005 | B13: Cº INTERNACIONAL ESPAÑA. COPA SM EL REY | C13: MALLORCA | D13: 40968 | E13: 40972
A14: 12-006 | B14: CONCENTRACIÓN | C14: A DETERMINAR | D14: 40969 | E14: 40972
A15: 12-007 | B15: COPA ANDALUCÍA | C15: LA CAÑADA (CÁDIZ) | D15: 40982 | E15: 40985
A16: 12-008 | B16: COPA SOTOGRANDE | C16: SOTOGRANDE, CÁDIZ | D16: 40990 | E16: 40993
A17: 12-009 | B17: Cº ESPAÑA JUNIOR Y BOYS | C17: A DETERMINAR | D17: 41000 | E17: 41003
A18: 12-010 | B18: Cº DE BARCELONA | C18: EL PRAT, BARCELONA | D18: 41018 | E18: 41021
A19: 12-011 | B19: LYTHAM TROPHY | C19: ROYAL LYTHAM | D19: 41033 | E19: 41035
