Workbook

Sheet Contabilidad
B2: =F13 -> Ernesto Fernandez de Gamboa
A12: Fecha | B12: Nº Asiento | C12: Nº Doc. | D12: Tipo | E12: Nº de cuenta | F12: Descripción | H12: Act. | I12: Grupo | J12: Actividad | K12: Debe | L12: Haber | M12: Tipo Contr. | N12: Cta. Contr. | O12: Cód. Depart. | P12: Cód. Programa
A13: =TODAY() -> 41785 | D13: C | E13: =IF(D13="C",65501,7) -> 65501 | F13: =Liquidacion!D16 -> Ernesto Fernandez de Gamboa | G13: =Liquidacion!D10 -> 14-407 Cº ESPAÑA MAYORES 35 AÑOS PULA GOLF 0 | H13: =Liquidacion!D10 -> 14-407 Cº ESPAÑA MAYORES 35 AÑOS PULA GOLF 0 | I13: 0 | K13: =Liquidacion!H56-Liquidacion!H45-Liquidacion!H46 -> 0 | P13: =Liquidacion!$H$10 -> 0
A14: =TODAY() -> 41785 | D14: C | E14: 65500 | F14: =Liquidacion!D16 -> Ernesto Fernandez de Gamboa | G14: =Liquidacion!D10 -> 14-407 Cº ESPAÑA MAYORES 35 AÑOS PULA GOLF 0 | H14: =Liquidacion!D10 -> 14-407 Cº ESPAÑA MAYORES 35 AÑOS PULA GOLF 0 | I14: 0 | K14: =Liquidacion!H45 -> 0 | P14: =Liquidacion!$H$10 -> 0
A15: =TODAY() -> 41785 | D15: C | E15: 62907006 | F15: =Liquidacion!D16 -> Ernesto Fernandez de Gamboa | G15: =Liquidacion!D10 -> 14-407 Cº ESPAÑA MAYORES 35 AÑOS PULA GOLF 0 | H15: =Liquidacion!D10 -> 14-407 Cº ESPAÑA MAYORES 35 AÑOS PULA GOLF 0 | K15: =Liquidacion!H46 -> 0 | P15: =Liquidacion!$H$10 -> 0
A16: =TODAY() -> 41785 | D16: P | F16: Justificación | G16: =F14 -> Ernesto Fernandez de Gamboa | L16: =Liquidacion!H66 -> 0 | O16: =Liquidacion!G16 -> 0 | P16: =Liquidacion!$H$10 -> 0
A17: =TODAY() -> 41785 | D17: =IF(Liquidacion!A66=0,"","P") | E17: =IF(D17="B",7,) -> 0 | F17: =IF(D17="B",Liquidacion!A66,) -> 0 | G17: =IF(D17="B",Liquidacion!$D$10,) -> 0 | K17: =IF(D17="P",Liquidacion!B66,) -> 0 | O17: =F17 -> 0 | P17: =Liquidacion!$H$10 -> 0
A18: =TODAY() -> 41785 | D18: =IF(Liquidacion!A67=0,"","P") | E18: =IF(D18="B",7,) -> 0 | F18: =IF(D18="B",Liquidacion!A67,) -> 0 | G18: =IF(D18="B",Liquidacion!$D$10,) -> 0 | K18: =IF(D18="P",Liquidacion!B67,) -> 0 | O18: =F18 -> 0 | P18: =Liquidacion!$H$10 -> 0
A19: =TODAY() -> 41785 | D19: =IF(Liquidacion!A68=0,"","P") | E19: =IF(D19="B",7,) -> 0 | F19: =IF(D19="B",Liquidacion!A68,) -> 0 | G19: =IF(D19="B",Liquidacion!$D$10,) -> 0 | K19: =IF(D19="P",Liquidacion!B68,) -> 0 | O19: =F19 -> 0 | P19: =Liquidacion!$H$10 -> 0
A20: =TODAY() -> 41785 | D20: =IF(Liquidacion!A69=0,"","P") | E20: =IF(D20="B",7,) -> 0 | F20: =IF(D20="B",Liquidacion!A69,) -> 0 | G20: =IF(D20="B",Liquidacion!$D$10,) -> 0 | K20: =IF(D20="P",Liquidacion!B69,) -> 0 | O20: =F20 -> 0 | P20: =Liquidacion!$H$10 -> 0
A21: =TODAY() -> 41785 | D21: =IF(Liquidacion!A70=0,"","P") | E21: =IF(D21="B",7,) -> 0 | F21: =IF(D21="B",Liquidacion!A70,) -> 0 | G21: =IF(D21="B",Liquidacion!$D$10,) -> 0 | K21: =IF(D21="P",Liquidacion!B70,) -> 0 | O21: =F21 -> 0 | P21: =Liquidacion!$H$10 -> 0
F22: =IF(K22=L22,"El Asiento está cuadrado","El Asiento NO está cuadrado") -> El Asiento está cuadrado | K22: =SUM(K13:K21) -> 0 | L22: =SUM(L13:L21) -> 0
D23: C | E23: B
A26: Comentarios:

Sheet Liquidacion
D3: REAL FEDERACION ESPAÑOLA DE GOLF
F6: 2014
D9: Datos de la prueba | H9: Comité
B10: Denominación | D10: 14-407 Cº ESPAÑA MAYORES 35 AÑOS PULA GOLF 0 | I10: 01 | J10: Absoluto masculino | K10: =CONCATENATE(I10," - ",J10) -> 01 - Absoluto masculino
I11: 02 | J11: Absoluto femenino | K11: =CONCATENATE(I11," - ",J11) -> 02 - Absoluto femenino
B12: Lugar | D12: En Presupuesto | E12: Pula Golf | G12: Real | H12: =E12 -> Pula Golf | I12: 03 | J12: Profesional | K12: =CONCATENATE(I12," - ",J12) -> 03 - Profesional
I13: 04 | J13: Juvenil Alta Competición | K13: =CONCATENATE(I13," - ",J13) -> 04 - Juvenil Alta Competición
B14: Fecha | D14: En Presupuesto | E14: 20 -22 Junio 2014 | G14: Real | H14: 18 - 22 Junio 2014 | I14: 05 | J14: Juvenil Estatal | K14: =CONCATENATE(I14," - ",J14) -> 05 - Juvenil Estatal
D15: Nombre y 2 apellidos | I15: 06 | J15: Cadetes Alta Competición | K15: =CONCATENATE(I15," - ",J15) -> 06 - Cadetes Alta Competición
B16: Responsable/Capitán | D16: Ernesto Fernandez de Gamboa | I16: 07 | J16: Cadetes Estatal | K16: =CONCATENATE(I16," - ",J16) -> 07 - Cadetes Estatal
D17: Nombre y 2 apellidos | I17: 08 | J17: Arbitros Alta Competición | K17: =CONCATENATE(I17," - ",J17) -> 08 - Arbitros Alta Competición
B18: Jugadores | D18: No se subvencionan jugadores | I18: 09 | J18: Arbitros Estatal | K18: =CONCATENATE(I18," - ",J18) -> 09 - Arbitros Estatal
I19: 10 | J19: Seniors | K19: =CONCATENATE(I19," - ",J19) -> 10 - Seniors
I20: 11 | J20: Becados Residencia Blume | K20: =CONCATENATE(I20," - ",J20) -> 11 - Becados Residencia Blume
I21: 12 | J21: Campos-Slope System | K21: =CONCATENATE(I21," - ",J21) -> 12 - Campos-Slope System
I22: 13 | J22: Formación C.T. Reglas | K22: =CONCATENATE(I22," - ",J22) -> 13 - Formación C.T. Reglas
I23: 14 | J23: Formación C.T. Juvenil | K23: =CONCATENATE(I23," - ",J23) -> 14 - Formación C.T. Juvenil
I24: 15 | J24: Formación C.T. Profesional | K24: =CONCATENATE(I24," - ",J24) -> 15 - Formación C.T. Profesional
I25: 16 | J25: Reuniones | K25: =CONCATENATE(I25," - ",J25) -> 16 - Reuniones
I26: 17 | J26: Médicos-Dopaje | K26: =CONCATENATE(I26," - ",J26) -> 17 - Médicos-Dopaje
I27: 18 | J27: Masculino Estatal | K27: =CONCATENATE(I27," - ",J27) -> 18 - Masculino Estatal
D28: Nombre y 2 apellidos | F28: Nombre y 2 apellidos | G28: Nombre y 2 apellidos | H28: Nombre y 2 apellidos | I28: 19 | J28: Formación C.T. Femenino | K28: =CONCATENATE(I28," - ",J28) -> 19 - Formación C.T. Femenino
B29: Técnicos | I29: 20 | J29: Comité de Greenes | K29: =CONCATENATE(I29," - ",J29) -> 20 - Comité de Greenes
D30: Nombre y 2 apellidos | F30: Cometido | G30: Nombre y 2 apellidos | H30: Cometido | I30: 23 | J30: Formación C.T.Campos | K30: =CONCATENATE(I30," - ",J30) -> 23 - Formación C.T.Campos
B31: Otros participantes | I31: 24 | J31: Femenino Estatal | K31: =CONCATENATE(I31," - ",J31) -> 24 - Femenino Estatal
B32: FCT | D32: Alvaro Fernández Ochoa | F32: Administrativo | I32: 25 | J32: Profesional Estatal | K32: =CONCATENATE(I32," - ",J32) -> 25 - Profesional Estatal
D33: =CONCATENATE(D31," ",E31) | E33: =CONCATENATE(D32," ",F32) -> Alvaro Fernández Ochoa Administrativo | F33: =CONCATENATE(G31," ",H31) | G33: =CONCATENATE(G32," ",H32) | I33: 26 | J33: Femenino Sub-18 | K33: =CONCATENATE(I33," - ",J33) -> 26 - Femenino Sub-18
A34: Provisión de Fondos | E34: Divisa | F34: Cambio | H34: TOTAL PROVISION: | I34: 27 | J34: TECNIFICACION | K34: =CONCATENATE(I34," - ",J34) -> 27 - TECNIFICACION
A35: 1000 | C35: y/o | F35: 1 | H35: =A35+(D35*1/F35) -> 1000 | I35: 28 | J35: Formación C.T. Masculino | K35: =CONCATENATE(I35," - ",J35) -> 28 - Formación C.T. Masculino
I36: $
A37: Fecha de Recogida ( X de XX de XXXX) | D37: Transferencia | I37: £
I38: ¥
A39: DETALLE DE GASTOS
D41: =E35 -> 0 | F41: € | H41: TOTAL
B43: Alojamiento | D43: =calculos!C17 -> 0 | F43: =calculos!B17 -> 0 | H43: =(F43+(D43*1/F$35)) -> 0
B44: Manutención | D44: =calculos!E17 -> 0 | F44: =calculos!D17 -> 0 | H44: =(F44+(D44*1/F$35)) -> 0
B45: Desplazamiento | D45: =calculos!G17 -> 0 | F45: =calculos!F17 -> 0 | H45: =(F45+(D45*1/F$35)) -> 0
B46: Caddies y bolas | D46: =calculos!I17 -> 0 | F46: =calculos!H17 -> 0 | H46: =(F46+(D46*1/F$35)) -> 0
B47: Propinas | H47: =(F47+(D47*1/F$35)) -> 0
B48: Varios: | H48: =(F48+(D48*1/F$35)) -> 0
...

Sheet calculos
C2: REAL FEDERACION ESPAÑOLA DE GOLF
D4: PRESUPUESTO Y LIQUIDACION DE CAMPEONATOS
B8: CAMPEONATO | D8: =Liquidacion!D10 -> 14-407 Cº ESPAÑA MAYORES 35 AÑOS PULA GOLF 0
B10: LUGAR Y FECHA | D10: =CONCATENATE(Liquidacion!H12," ",H11) -> Pula Golf
B12: RESPONSABLE | D12: =Liquidacion!D16 -> Ernesto Fernandez de Gamboa
B15: Alojamientos | D15: Manutención | F15: Desplazam. | H15: Caddies
B16: € | C16: (en divisa) | D16: € | E16: (en divisa) | F16: € | G16: (en divisa) | H16: € | I16: (en divisa)
A17: SUMA | B17: =SUM(B18:B58) -> 0 | C17: =SUM(C18:C58) -> 0 | D17: =SUM(D18:D58) -> 0 | E17: =SUM(E18:E58) -> 0 | F17: =SUM(F18:F58) -> 0 | G17: =SUM(G18:G58) -> 0 | H17: =SUM(H18:H58) -> 0 | I17: =SUM(I18:I58) -> 0
A18: 1
A19: 2
A20: 3
A21: 4
A22: 5
A23: 6
A24: 7
A25: 8
A26: 9
A27: =A26+1 -> 10
A28: =A27+1 -> 11
A29: =A28+1 -> 12
A30: =A29+1 -> 13
A31: =A30+1 -> 14
A32: =A31+1 -> 15
A33: =A32+1 -> 16
A34: =A33+1 -> 17
A35: =A34+1 -> 18
A36: =A35+1 -> 19
A37: =A36+1 -> 20
A38: =A37+1 -> 21
... A58: =A57+1 -> 41

Sheet MemoriadelaActividad
B5: MEMORIA DE LA ACTIVIDAD
C6: EJERCICIO 2014
A8: 1.- PROGRAMA | C8: I - ALTA COMPETICIÓN
A10: 2.- Nº DE ACTUACIÓN | C10: =LEFT(H10,6) -> 14-407 | H10: =Liquidacion!D10 -> 14-407 Cº ESPAÑA MAYORES 35 AÑOS PULA GOLF 0
A12: 3.- ESPECIALIDAD Y GRUPO DE TRABAJO | C12: =CONCATENATE(H12," - ",I12) -> GOLF - 0 | H12: GOLF | I12: =Liquidacion!H10 -> 0
A14: 4.- NOMBRE DE LA ACTUACIÓN | C14: =MID(H10,7,40) -> Cº ESPAÑA MAYORES 35 AÑOS PULA GOL | G14: =Liquidacion!D10 -> 14-407 Cº ESPAÑA MAYORES 35 AÑOS PULA GOLF 0
A17: 5.- FECHAS DE INICIO Y FINAL | C17: EN PRESUPUESTO: | D17: =Liquidacion!E14 -> 20 -22 Junio 2014 | F17: =Liquidacion!E14 -> 20 -22 Junio 2014
C18: REALES: | D18: =Liquidacion!H14 -> 18 - 22 Junio 2014 | G18: Reales:
C19: =Liquidacion!H14 -> 18 - 22 Junio 2014 | D19: =Liquidacion!E14 -> 20 -22 Junio 2014
A20: 6. LUGAR DE CELEBRACIÓN | C20: EN PRESUPUESTO: | D20: =Liquidacion!E12 -> Pula Golf | G20: En Presupuesto
C21: REAL: | D21: =Liquidacion!H12 -> Pula Golf | G21: Real:
C22: =Liquidacion!E12 -> Pula Golf | D22: =Liquidacion!H12 -> Pula Golf | F22: =Liquidacion!H14 -> 18 - 22 Junio 2014
A23: 7.- RELACIÓN DE PARTICIPANTES
D24: Ppto. | E24: Real
A25: DEPORTISTAS | C25: DEPORTISTAS | E25: =COUNTIF(C26:C35,"<>0") -> 1
A26: =IF(Liquidacion!H10="CTAM","HOMBRES",IF(Liquidacion!H10="BLUME MASCULINO","HOMBRES",IF(Liquidacion!H10="ctj MASCULINO","HOMBRES","MUJERES"))) -> MUJERES | C26: =Liquidacion!D18 -> No se subvencionan jugadores
C27: =Liquidacion!D19 -> 0
C28: =Liquidacion!D20 -> 0
C29: =Liquidacion!D21 -> 0
C30: =Liquidacion!D22 -> 0
C31: =Liquidacion!D23 -> 0
C32: =Liquidacion!D24 -> 0
C33: =Liquidacion!D25 -> 0
C34: =Liquidacion!D26 -> 0
C35: =Liquidacion!D27 -> 0
C36: TÉCNICOS | E36: =COUNTIF(C37:C40,"<>0") -> 0
C37: =Liquidacion!D29 -> 0
C38: =Liquidacion!F29 -> 0
C39: =Liquidacion!G29 -> 0
C40: =Liquidacion!H29 -> 0
C41: MÉDICOS
C42: OTROS (Especificando su cometido) | E42: =COUNTIF(C43:C46,"<>0") -> 2
C43: =Liquidacion!D16 -> Ernesto Fernandez de Gamboa | D43: =Liquidacion!B16 -> Responsable/Capitán
C44: =Liquidacion!G31 -> 0 | D44: =Liquidacion!H31 -> 0
C45: =Liquidacion!D32 -> Alvaro Fernández Ochoa | D45: =Liquidacion!F32 -> Administrativo | F45: =Liquidacion!G31 -> 0 | G45: =Liquidacion!H31 -> 0
C46: =Liquidacion!G32 -> 0 | D46: =Liquidacion!H32 -> 0
A48: 8.- RESULTADOS DEPORTIVOS OBTENIDOS Y VALORACIÓN TÉCNICA
A57: 9.- TOTAL DE GASTOS DE LA ACTUACIÓN | F57: PRESUPUESTO INICIAL APROBADO:
C58: PRESUPUESTO: | D58: =RIGHT(G14,10) -> 0
C59: PREVISTO A CIERRE DEL EJERCICIO:
...

Sheet Memoria Gasto Indirecto
A2: REAL FEDERACIÓN ESPAÑOLA DE GOLF
A4: EJERCICIO 2010
B5: MEMORIA DE GASTO INDIRECTO
C7: Nº DE MEMORIA DE ESTE GASTO: | E7: 1
A10: 1.- PROGRAMA
A13: 2.- CONCEPTO DE GASTO (anexo 3)
G14: Reales: | H14: 01 | I14: Absoluto masculino | J14: =CONCATENATE(H14," ",I14) -> 01 Absoluto masculino
H15: 02 | I15: Absoluto femenino | J15: =CONCATENATE(H15," ",I15) -> 02 Absoluto femenino
H16: 03 | I16: Profesional | J16: =CONCATENATE(H16," ",I16) -> 03 Profesional
A17: 3.- IMPORTE DEL GASTO | H17: 04 | I17: Juvenil Alta Competición | J17: =CONCATENATE(H17," ",I17) -> 04 Juvenil Alta Competición
A18: DEPORTISTAS | C18: TOTAL | E18: CSD | H18: 05 | I18: Juvenil Estatal | J18: =CONCATENATE(H18," ",I18) -> 05 Juvenil Estatal
A19: =IF(#REF!="CTAM","HOMBRES",IF(#REF!="BLUME MASCULINO","HOMBRES",IF(#REF!="ctj MASCULINO","HOMBRES","MUJERES"))) -> #REF! | H19: 06 | I19: Cadetes Alta Competición | J19: =CONCATENATE(H19," ",I19) -> 06 Cadetes Alta Competición
H20: 07 | I20: Cadetes Estatal | J20: =CONCATENATE(H20," ",I20) -> 07 Cadetes Estatal
H21: 08 | I21: Arbitros Alta Competición | J21: =CONCATENATE(H21," ",I21) -> 08 Arbitros Alta Competición
H22: 25 | I22: Profesional Estatal | J22: =CONCATENATE(H22," ",I22) -> 25 Profesional Estatal
H23: 26 | I23: Femenino Sub-18 | J23: =CONCATENATE(H23," ",I23) -> 26 Femenino Sub-18
H24: 27 | I24: TECNIFICACION | J24: =CONCATENATE(H24," ",I24) -> 27 TECNIFICACION
A25: 4.- DETALLE DEL GASTO | D25: TOTAL | E25: CSD
A30: 5.- RELACIÓN DE PERCEPTORES/BENEFICIARIOS /PROVEEDORES
A31: CUENTA | B31: COMPROBANTE Nº | C31: NOMBRE | D31: IMPORTE
A32: 6540301 | B32: 1
B33: 2
B34: 3
B35: 4
A61: 6.- DESVIACIONES | C61: NINGUNA
C70: Gonzaga Escauriaza Barreiro
C71: Presidente

Sheet Actuaciones
A1: Actuación | B1: Descripción | C1: Lugar | D1: Fecha inicio | E1: Fecha fin
A2: 14-001 | B2: MATCH CUADRANGULAR | C2: COSTA BALLENA | D2: 41661 | E2: 41663
A3: 14-002 | B3: Cº INTERNACIONAL DE PORTUGAL | C3: C.G. MONTADO | D3: 41682 | E3: 41685
A4: 14-003 | B4: MATCH FRANCIA-ESPAÑA SUB 18 | C4: PAU | D4: 41684 | E4: 41686
A5: 14-004 | B5: INTERNAC. ESPAÑA MASC.-COPA REY | C5: LA RESERVA | D5: 41696 | E5: 41700
A6: 14-005 | B6: COPA SOTOGRANDE.MASTERS GOLF AMATEUR | C6: SOTOGRANDE | D6: 41703 | E6: 41706
A7: 14-006 | B7: Cº EUROPA IND. MID-AMATEUR MASCULINO | C7: PRAVETS G.C. | D7: 41795 | E7: 41797
A8: 14-007 | B8: ST. ANDREWS LINKS TROPHY | C8: ST. ANDREWS LINKS | D8: 41796 | E8: 41798
A9: 14-008 | B9: BRITISH AMATEUR | C9: ROYAL PORTRUSH & PORTSTEWART G | D9: 41806 | E9: 41811
A10: 14-009 | B10: Cº DEL MUNDO UNIVERSITARIO | C10: CRANS MONTANA | D10: 41814 | E10: 41817
A11: 14-010 | B11: BRABAZON TROPY | C11: SEATON CAREW | D11: 41815 | E11: 41818
A12: 14-011 | B12: Cº EUROPA ABSOLUTO POR EQUIPOS MASC. | C12: LINNA G.C. | D12: 41828 | E12: 41832
A13: 14-012 | B13: Cº EUROPA SUB-18 POR EQUIPOS MASCULINO | C13: OSLO G.C. | D13: 41828 | E13: 41832
... A179: 14-921 | B179: LET ACCESS SERIES | C179: A DETERMINAR | D179: 41760 | E179: 41764

Sheet Datos
A1: Actuación | B1: Descripción | C1: Lugar | D1: Presupuestado CSD | E1: Fecha inicio | F1: Fecha fin
A2: 14-001 | B2: MATCH CUADRANGULAR | C2: COSTA BALLENA | D2: 9000 | E2: 41661 | F2: 41663
A3: 14-002 | B3: Cº INTERNACIONAL DE PORTUGAL | C3: C.G. MONTADO | D3: 6000 | E3: 41682 | F3: 41685
A4: 14-003 | B4: MATCH FRANCIA-ESPAÑA SUB 18 | C4: PAU | D4: 7500 | E4: 41684 | F4: 41686
A5: 14-004 | B5: INTERNAC. ESPAÑA MASC.-COPA REY | C5: LA RESERVA | D5: 12000 | E5: 41696 | F5: 41700
A6: 14-005 | B6: COPA SOTOGRANDE.MASTERS GOLF AMATEUR | C6: SOTOGRANDE | D6: 8000 | E6: 41703 | F6: 41706
A7: 14-006 | B7: Cº EUROPA IND. MID-AMATEUR MASCULINO | C7: PRAVETS G.C. | D7: 0 | E7: 41795 | F7: 41797
A8: 14-007 | B8: ST. ANDREWS LINKS TROPHY | C8: ST. ANDREWS LINKS | D8: 6000 | E8: 41796 | F8: 41798
A9: 14-008 | B9: BRITISH AMATEUR | C9: ROYAL PORTRUSH & PORTSTEWART G | D9: 10000 | E9: 41806 | F9: 41811
A10: 14-009 | B10: Cº DEL MUNDO UNIVERSITARIO | C10: CRANS MONTANA | D10: 0 | E10: 41814 | F10: 41817
A11: 14-010 | B11: BRABAZON TROPY | C11: SEATON CAREW | D11: 9000 | E11: 41815 | F11: 41818
A12: 14-011 | B12: Cº EUROPA ABSOLUTO POR EQUIPOS MASC. | C12: LINNA G.C. | D12: 18000 | E12: 41828 | F12: 41832
A13: 14-012 | B13: Cº EUROPA SUB-18 POR EQUIPOS MASCULINO | C13: OSLO G.C. | D13: 18000 | E13: 41828 | F13: 41832
... A179: 14-921 | B179: LET ACCESS SERIES | C179: A DETERMINAR | D179: 60000 | E179: 41760 | F179: 41764
