Workbook

Sheet  Result. Clas.Scratch
A2: II PUNTUABLE RANKING NACIONAL SENIORS MASCULINO 2014
C5: CLUB DE GOLF EL BOSQUE
C6: 15-16 DE MARZO DE 2014
A8: Pos | B8: Licencia | C8: Nombre | D8: Hex | E8: NVH | F8: Niv. | G8: HPU | H8: 1ª | I8: 2ª | J8: 3ª | K8: 4ª | L8: TOT | N8: LICENCIA | O8: NOMBRE | P8: Hex | Q8: NVH | R8: Niv. | S8: HPU | T8: 1 | U8: 2 | V8: 3 | W8: 4 | X8: 5 | Y8: 6 | Z8: 7 | AA8: 8 | AB8: 9 | AC8: 10 | AD8: 11 | AE8: 12 | AF8: 13 | AG8: 14 | AH8: 15 | AI8: 16 | AJ8: 17 | AK8: 18 | AL8: 1ª Vuelta | AM8: 1 | AN8: 2 | AO8: 3 | AP8: 4 | AQ8: 5 | AR8: 6 | AS8: 7 | AT8: 8 | AU8: 9 | AV8: 10 | AW8: 11 | AX8: 12 | AY8: 13 | AZ8: 14 | BA8: 15 | BB8: 16 | BC8: 17 | BD8: 18 | BE8: 2º vuelta
A9: 1 | B9: =N9 -> 0 | C9: =O9 -> MAESTRO YELA, FRANCISCO | D9: =P9 -> 0 | E9: =Q9 -> 0 | F9: =R9 -> S | G9: =S9 -> -0.1 | H9: =AL9 -> 140 | I9: =BE9 -> 0 | L9: =BF9 -> 140 | N9: ='Listado de Inscritos'!B11 -> 0 | O9: ='Listado de Inscritos'!C11 -> MAESTRO YELA, FRANCISCO | P9: ='Listado de Inscritos'!G11 -> 0 | R9: S | S9: =P9*(135/113)+(71.9-72) -> -0.1 | T9: 140 | AL9: =SUM(T9:AK9) -> 140 | BE9: =SUM(AM9:BD9) -> 0 | BF9: =AL9+BE9 -> 140
A10: 2 | B10: =N10 -> 0 | C10: =O10 -> ELOSEGUI DE LA PEÑA, JUAN CARLOS | D10: =P10 -> 1 | E10: =Q10 -> 0 | F10: =R10 -> S | G10: =S10 -> 1.0946903 | H10: =AL10 -> 139 | I10: =BE10 -> 0 | L10: =BF10 -> 139 | N10: ='Listado de Inscritos'!B12 -> 0 | O10: ='Listado de Inscritos'!C12 -> ELOSEGUI DE LA PEÑA, JUAN CARLOS | P10: ='Listado de Inscritos'!G12 -> 1 | R10: S | S10: =P10*(135/113)+(71.9-72) -> 1.0946903 | T10: 139 | AL10: =SUM(T10:AK10) -> 139 | BE10: =SUM(AM10:BD10) -> 0 | BF10: =AL10+BE10 -> 139
A11: 3 | B11: =N11 -> 0 | C11: =O11 -> MACIAS ROMERO, ANGEL | D11: =P11 -> 2 | E11: =Q11 -> 0 | F11: =R11 -> S | G11: =S11 -> 2.2893805 | H11: =AL11 -> 138 | I11: =BE11 -> 0 | L11: =BF11 -> 138 | N11: ='Listado de Inscritos'!B13 -> 0 | O11: ='Listado de Inscritos'!C13 -> MACIAS ROMERO, ANGEL | P11: ='Listado de Inscritos'!G13 -> 2 | R11: S | S11: =P11*(135/113)+(71.9-72) -> 2.2893805 | T11: 138 | AL11: =SUM(T11:AK11) -> 138 | BE11: =SUM(AM11:BD11) -> 0 | BF11: =AL11+BE11 -> 138
A12: 4 | B12: =N12 -> 0 | C12: =O12 -> QUEIPO DE LLANO FERNANDEZ, BORJA | D12: =P12 -> 3 | E12: =Q12 -> 0 | F12: =R12 -> S | G12: =S12 -> 3.4840708 | H12: =AL12 -> 137 | I12: =BE12 -> 0 | L12: =BF12 -> 137 | N12: ='Listado de Inscritos'!B14 -> 0 | O12: ='Listado de Inscritos'!C14 -> QUEIPO DE LLANO FERNANDEZ, BORJA | P12: ='Listado de Inscritos'!G14 -> 3 | R12: S | S12: =P12*(135/113)+(71.9-72) -> 3.4840708 | T12: 137 | AL12: =SUM(T12:AK12) -> 137 | BE12: =SUM(AM12:BD12) -> 0 | BF12: =AL12+BE12 -> 137
A13: 5 | B13: =N13 -> 0 | C13: =O13 -> GABARDA DURAN, LUIS | D13: =P13 -> 4 | E13: =Q13 -> 0 | F13: =R13 -> S | G13: =S13 -> 4.6787611 | H13: =AL13 -> 136 | I13: =BE13 -> 0 | L13: =BF13 -> 136 | N13: ='Listado de Inscritos'!B15 -> 0 | O13: ='Listado de Inscritos'!C15 -> GABARDA DURAN, LUIS | P13: ='Listado de Inscritos'!G15 -> 4 | R13: S | S13: =P13*(135/113)+(71.9-72) -> 4.6787611 | T13: 136 | AL13: =SUM(T13:AK13) -> 136 | BE13: =SUM(AM13:BD13) -> 0 | BF13: =AL13+BE13 -> 136
A14: 6 | B14: =N14 -> 0 | C14: =O14 -> LARRAZABAL AGUERREVERE, GUSTAVO | D14: =P14 -> 5 | E14: =Q14 -> 0 | F14: =R14 -> S | G14: =S14 -> 5.8734513 | H14: =AL14 -> 135 | I14: =BE14 -> 0 | L14: =BF14 -> 135 | N14: ='Listado de Inscritos'!B17 -> 0 | O14: ='Listado de Inscritos'!C17 -> LARRAZABAL AGUERREVERE, GUSTAVO | P14: ='Listado de Inscritos'!G17 -> 5 | R14: S | S14: =P14*(135/113)+(71.9-72) -> 5.8734513 | T14: 135 | AL14: =SUM(T14:AK14) -> 135 | BE14: =SUM(AM14:BD14) -> 0 | BF14: =AL14+BE14 -> 135
A15: 7 | B15: =N15 -> 0 | C15: =O15 -> FERNANDEZ BAYON, RUFINO | D15: =P15 -> 6 | E15: =Q15 -> 0 | F15: =R15 -> S | G15: =S15 -> 7.0681416 | H15: =AL15 -> 134 | I15: =BE15 -> 0 | L15: =BF15 -> 134 | N15: ='Listado de Inscritos'!B18 -> 0 | O15: ='Listado de Inscritos'!C18 -> FERNANDEZ BAYON, RUFINO | P15: ='Listado de Inscritos'!G18 -> 6 | R15: S | S15: =P15*(135/113)+(71.9-72) -> 7.0681416 | T15: 134 | AL15: =SUM(T15:AK15) -> 134 | BE15: =SUM(AM15:BD15) -> 0 | BF15: =AL15+BE15 -> 134
A16: 8 | B16: =N16 -> 0 | C16: =O16 -> DASI MARTINEZ DE VALLEJO, VICENTE | D16: =P16 -> 7 | E16: =Q16 -> 0 | F16: =R16 -> S | G16: =S16 -> 8.2628319 | H16: =AL16 -> 133 | I16: =BE16 -> 0 | L16: =BF16 -> 133 | N16: ='Listado de Inscritos'!B19 -> 0 | O16: ='Listado de Inscritos'!C19 -> DASI MARTINEZ DE VALLEJO, VICENTE | P16: ='Listado de Inscritos'!G19 -> 7 | R16: S | S16: =P16*(135/113)+(71.9-72) -> 8.2628319 | T16: 133 | AL16: =SUM(T16:AK16) -> 133 | BE16: =SUM(AM16:BD16) -> 0 | BF16: =AL16+BE16 -> 133
A17: 9 | B17: =N17 -> 0 | C17: =O17 -> RECASENS SANCHEZ-MEJIAS, LUIS IGNAC | D17: =P17 -> 8 | E17: =Q17 -> 0 | F17: =R17 -> S | G17: =S17 -> 9.4575221 | H17: =AL17 -> 132 | I17: =BE17 -> 0 | L17: =BF17 -> 132 | N17: ='Listado de Inscritos'!B20 -> 0 | O17: ='Listado de Inscritos'!C20 -> RECASENS SANCHEZ-MEJIAS, LUIS IGNAC | P17: ='Listado de Inscritos'!G20 -> 8 | R17: S | S17: =P17*(135/113)+(71.9-72) -> 9.4575221 | T17: 132 | AL17: =SUM(T17:AK17) -> 132 | BE17: =SUM(AM17:BD17) -> 0 | BF17: =AL17+BE17 -> 132
A18: 10 | B18: =N18 -> 0 | C18: =O18 -> TINTURE EGUREN, JUAN CARLOS | D18: =P18 -> 9 | E18: =Q18 -> 0 | F18: =R18 -> S | G18: =S18 -> 10.652212 | H18: =AL18 -> 131 | I18: =BE18 -> 0 | L18: =BF18 -> 131 | N18: ='Listado de Inscritos'!B21 -> 0 | O18: ='Listado de Inscritos'!C21 -> TINTURE EGUREN, JUAN CARLOS | P18: ='Listado de Inscritos'!G21 -> 9 | R18: S | S18: =P18*(135/113)+(71.9-72) -> 10.652212 | T18: 131 | AL18: =SUM(T18:AK18) -> 131 | BE18: =SUM(AM18:BD18) -> 0 | BF18: =AL18+BE18 -> 131
A19: 11 | B19: =N19 -> 0 | C19: =O19 -> MORENO COMINO, FRANCISCO | D19: =P19 -> 10 | E19: =Q19 -> 0 | F19: =R19 -> S | G19: =S19 -> 11.846903 | H19: =AL19 -> 130 | I19: =BE19 -> 0 | L19: =BF19 -> 130 | N19: ='Listado de Inscritos'!B22 -> 0 | O19: ='Listado de Inscritos'!C22 -> MORENO COMINO, FRANCISCO | P19: ='Listado de Inscritos'!G22 -> 10 | R19: S | S19: =P19*(135/113)+(71.9-72) -> 11.846903 | T19: 130 | AL19: =SUM(T19:AK19) -> 130 | BE19: =SUM(AM19:BD19) -> 0 | BF19: =AL19+BE19 -> 130
A20: 12 | B20: =N20 -> 0 | C20: =O20 -> BERNARDO MARTINEZ-PI?EIRO, ENRIQUE | D20: =P20 -> 11 | E20: =Q20 -> 0 | F20: =R20 -> S | G20: =S20 -> 13.041593 | H20: =AL20 -> 129 | I20: =BE20 -> 0 | L20: =BF20 -> 129 | N20: ='Listado de Inscritos'!B23 -> 0 | O20: ='Listado de Inscritos'!C23 -> BERNARDO MARTINEZ-PI?EIRO, ENRIQUE | P20: ='Listado de Inscritos'!G23 -> 11 | R20: S | S20: =P20*(135/113)+(71.9-72) -> 13.041593 | T20: 129 | AL20: =SUM(T20:AK20) -> 129 | BE20: =SUM(AM20:BD20) -> 0 | BF20: =AL20+BE20 -> 129
A21: 13 | B21: =N21 -> 0 | C21: =O21 -> CANOMANUEL GONZALEZ, RAFAEL | D21: =P21 -> 12 | E21: =Q21 -> 0 | F21: =R21 -> S | G21: =S21 -> 14.236283 | H21: =AL21 -> 128 | I21: =BE21 -> 0 | L21: =BF21 -> 128 | N21: ='Listado de Inscritos'!B24 -> 0 | O21: ='Listado de Inscritos'!C24 -> CANOMANUEL GONZALEZ, RAFAEL | P21: ='Listado de Inscritos'!G24 -> 12 | R21: S | S21: =P21*(135/113)+(71.9-72) -> 14.236283 | T21: 128 | AL21: =SUM(T21:AK21) -> 128 | BE21: =SUM(AM21:BD21) -> 0 | BF21: =AL21+BE21 -> 128
A22: 14 | B22: =N22 -> 0 | C22: =O22 -> PAN DE SORALUCE MUGUIRO, JOSE | D22: =P22 -> 13 | E22: =Q22 -> 0 | F22: =R22 -> S | G22: =S22 -> 15.430973 | H22: =AL22 -> 127 | I22: =BE22 -> 0 | L22: =BF22 -> 127 | N22: ='Listado de Inscritos'!B25 -> 0 | O22: ='Listado de Inscritos'!C25 -> PAN DE SORALUCE MUGUIRO, JOSE | P22: ='Listado de Inscritos'!G25 -> 13 | R22: S | S22: =P22*(135/113)+(71.9-72) -> 15.430973 | T22: 127 | AL22: =SUM(T22:AK22) -> 127 | BE22: =SUM(AM22:BD22) -> 0 | BF22: =AL22+BE22 -> 127
A23: 15 | B23: =N23 -> 0 | C23: =O23 -> SALDAÑA MARTINEZ, CARLOS | D23: =P23 -> 14 | E23: =Q23 -> 0 | F23: =R23 -> S | G23: =S23 -> 16.625664 | H23: =AL23 -> 126 | I23: =BE23 -> 0 | L23: =BF23 -> 126 | N23: ='Listado de Inscritos'!B26 -> 0 | O23: ='Listado de Inscritos'!C26 -> SALDAÑA MARTINEZ, CARLOS | P23: ='Listado de Inscritos'!G26 -> 14 | R23: S | S23: =P23*(135/113)+(71.9-72) -> 16.625664 | T23: 126 | AL23: =SUM(T23:AK23) -> 126 | BE23: =SUM(AM23:BD23) -> 0 | BF23: =AL23+BE23 -> 126
A24: 16 | B24: =N24 -> 0 | C24: =O24 -> MARTINEZ MARTINEZ, JOSE MANUEL | D24: =P24 -> 15 | E24: =Q24 -> 0 | F24: =R24 -> S | G24: =S24 -> 17.820354 | H24: =AL24 -> 125 | I24: =BE24 -> 0 | L24: =BF24 -> 125 | N24: ='Listado de Inscritos'!B27 -> 0 | O24: ='Listado de Inscritos'!C27 -> MARTINEZ MARTINEZ, JOSE MANUEL | P24: ='Listado de Inscritos'!G27 -> 15 | R24: S | S24: =P24*(135/113)+(71.9-72) -> 17.820354 | T24: 125 | AL24: =SUM(T24:AK24) -> 125 | BE24: =SUM(AM24:BD24) -> 0 | BF24: =AL24+BE24 -> 125
A25: 17 | B25: =N25 -> 0 | C25: =O25 -> HERNANDO BLAZQUEZ, ANDRES | D25: =P25 -> 16 | E25: =Q25 -> 0 | F25: =R25 -> S | G25: =S25 -> 19.015044 | H25: =AL25 -> 124 | I25: =BE25 -> 0 | L25: =BF25 -> 124 | N25: ='Listado de Inscritos'!B28 -> 0 | O25: ='Listado de Inscritos'!C28 -> HERNANDO BLAZQUEZ, ANDRES | P25: ='Listado de Inscritos'!G28 -> 16 | R25: S | S25: =P25*(135/113)+(71.9-72) -> 19.015044 | T25: 124 | AL25: =SUM(T25:AK25) -> 124 | BE25: =SUM(AM25:BD25) -> 0 | BF25: =AL25+BE25 -> 124
... A66: 58 | B66: =N66 -> 0 | C66: =O66 -> MARTINEZ CANO, JUAN | D66: =P66 -> 57 | E66: =Q66 -> 0 | F66: =R66 -> S | G66: =S66 -> 67.997345 | H66: =AL66 -> 83 | I66: =BE66 -> 0 | L66: =BF66 -> 83 | N66: ='Listado de Inscritos'!B69 -> 0 | O66: ='Listado de Inscritos'!C69 -> MARTINEZ CANO, JUAN | P66: ='Listado de Inscritos'!G69 -> 57 | R66: S | S66: =P66*(135/113)+(71.9-72) -> 67.997345 | T66: 83 | AL66: =SUM(T66:AK66) -> 83 | BE66: =SUM(AM66:BD66) -> 0 | BF66: =AL66+BE66 -> 83
A67: 59 | B67: =N67 -> #REF! | C67: =O67 -> #REF! | D67: =P67 -> #REF! | E67: =Q67 -> 0 | F67: =R67 -> S | G67: =S67 -> #REF! | H67: =AL67 -> 82 | I67: =BE67 -> 0 | L67: =BF67 -> 82 | N67: ='Listado de Inscritos'!#REF! -> #REF! | O67: ='Listado de Inscritos'!#REF! -> #REF! | P67: ='Listado de Inscritos'!#REF! -> #REF! | R67: S | S67: =P67*(135/113)+(71.9-72) -> #REF! | T67: 82 | AL67: =SUM(T67:AK67) -> 82 | BE67: =SUM(AM67:BD67) -> 0 | BF67: =AL67+BE67 -> 82
A68: 60 | B68: =N68 -> 0 | C68: =O68 -> ROMERO CABALLERO, JOAQUIN | D68: =P68 -> 59 | E68: =Q68 -> 0 | F68: =R68 -> S | G68: =S68 -> 70.386726 | H68: =AL68 -> 81 | I68: =BE68 -> 0 | L68: =BF68 -> 81 | N68: ='Listado de Inscritos'!B70 -> 0 | O68: ='Listado de Inscritos'!C70 -> ROMERO CABALLERO, JOAQUIN | P68: ='Listado de Inscritos'!G70 -> 59 | R68: S | S68: =P68*(135/113)+(71.9-72) -> 70.386726 | T68: 81 | AL68: =SUM(T68:AK68) -> 81 | BE68: =SUM(AM68:BD68) -> 0 | BF68: =AL68+BE68 -> 81
A69: 61 | B69: =N69 -> 0 | C69: =O69 -> MARON FERNANDEZ, JESUS MARIA | D69: =P69 -> 60 | E69: =Q69 -> 0 | F69: =R69 -> S | G69: =S69 -> 71.581416 | H69: =AL69 -> 80 | I69: =BE69 -> 0 | L69: =BF69 -> 80 | N69: ='Listado de Inscritos'!B71 -> 0 | O69: ='Listado de Inscritos'!C71 -> MARON FERNANDEZ, JESUS MARIA | P69: ='Listado de Inscritos'!G71 -> 60 | R69: S | S69: =P69*(135/113)+(71.9-72) -> 71.581416 | T69: 80 | AL69: =SUM(T69:AK69) -> 80 | BE69: =SUM(AM69:BD69) -> 0 | BF69: =AL69+BE69 -> 80
A70: 62 | B70: =N70 -> 0 | C70: =O70 -> CASTELLANO COMENGE, VICENTE | D70: =P70 -> 61 | E70: =Q70 -> 0 | F70: =R70 -> S | G70: =S70 -> 72.776106 | H70: =AL70 -> 79 | I70: =BE70 -> 0 | L70: =BF70 -> 79 | N70: ='Listado de Inscritos'!B72 -> 0 | O70: ='Listado de Inscritos'!C72 -> CASTELLANO COMENGE, VICENTE | P70: ='Listado de Inscritos'!G72 -> 61 | R70: S | S70: =P70*(135/113)+(71.9-72) -> 72.776106 | T70: 79 | AL70: =SUM(T70:AK70) -> 79 | BE70: =SUM(AM70:BD70) -> 0 | BF70: =AL70+BE70 -> 79
A71: 63 | B71: =N71 -> 0 | C71: =O71 -> ANDRES TIMOR, AGUSTIN | D71: =P71 -> 62 | E71: =Q71 -> 0 | F71: =R71 -> S | G71: =S71 -> 73.970796 | H71: =AL71 -> 78 | I71: =BE71 -> 0 | L71: =BF71 -> 78 | N71: ='Listado de Inscritos'!B73 -> 0 | O71: ='Listado de Inscritos'!C73 -> ANDRES TIMOR, AGUSTIN | P71: ='Listado de Inscritos'!G73 -> 62 | R71: S | S71: =P71*(135/113)+(71.9-72) -> 73.970796 | T71: 78 | AL71: =SUM(T71:AK71) -> 78 | BE71: =SUM(AM71:BD71) -> 0 | BF71: =AL71+BE71 -> 78
A72: 64 | B72: =N72 -> 0 | C72: =O72 -> GRANELL RUIZ, LORENZO | D72: =P72 -> 63 | E72: =Q72 -> 0 | F72: =R72 -> S | G72: =S72 -> 75.165487 | H72: =AL72 -> 77 | I72: =BE72 -> 0 | L72: =BF72 -> 77 | N72: ='Listado de Inscritos'!B74 -> 0 | O72: ='Listado de Inscritos'!C74 -> GRANELL RUIZ, LORENZO | P72: ='Listado de Inscritos'!G74 -> 63 | R72: S | S72: =P72*(135/113)+(71.9-72) -> 75.165487 | T72: 77 | AL72: =SUM(T72:AK72) -> 77 | BE72: =SUM(AM72:BD72) -> 0 | BF72: =AL72+BE72 -> 77
A73: 65 | B73: =N73 -> 0 | C73: =O73 -> MONZONIS OVEJERO, FRANCISCO | D73: =P73 -> 64 | E73: =Q73 -> 0 | F73: =R73 -> S | G73: =S73 -> 76.360177 | H73: =AL73 -> 76 | I73: =BE73 -> 0 | L73: =BF73 -> 76 | N73: ='Listado de Inscritos'!B75 -> 0 | O73: ='Listado de Inscritos'!C75 -> MONZONIS OVEJERO, FRANCISCO | P73: ='Listado de Inscritos'!G75 -> 64 | R73: S | S73: =P73*(135/113)+(71.9-72) -> 76.360177 | T73: 76 | AL73: =SUM(T73:AK73) -> 76 | BE73: =SUM(AM73:BD73) -> 0 | BF73: =AL73+BE73 -> 76
A74: 66 | B74: =N74 -> 0 | C74: =O74 -> GIMENEZ MUÑOZ, JUAN LUIS | D74: =P74 -> 65 | E74: =Q74 -> 0 | F74: =R74 -> S | G74: =S74 -> 77.554867 | H74: =AL74 -> 75 | I74: =BE74 -> 0 | L74: =BF74 -> 75 | N74: ='Listado de Inscritos'!B76 -> 0 | O74: ='Listado de Inscritos'!C76 -> GIMENEZ MUÑOZ, JUAN LUIS | P74: ='Listado de Inscritos'!G76 -> 65 | R74: S | S74: =P74*(135/113)+(71.9-72) -> 77.554867 | T74: 75 | AL74: =SUM(T74:AK74) -> 75 | BE74: =SUM(AM74:BD74) -> 0 | BF74: =AL74+BE74 -> 75
A75: 67 | B75: =N75 -> 0 | C75: =O75 -> CAÑAVERAL DE LA PAZ, INOCENCIO | D75: =P75 -> 66 | E75: =Q75 -> 0 | F75: =R75 -> S | G75: =S75 -> 78.749558 | H75: =AL75 -> 74 | I75: =BE75 -> 0 | L75: =BF75 -> 74 | N75: ='Listado de Inscritos'!B77 -> 0 | O75: ='Listado de Inscritos'!C77 -> CAÑAVERAL DE LA PAZ, INOCENCIO | P75: ='Listado de Inscritos'!G77 -> 66 | R75: S | S75: =P75*(135/113)+(71.9-72) -> 78.749558 | T75: 74 | AL75: =SUM(T75:AK75) -> 74 | BE75: =SUM(AM75:BD75) -> 0 | BF75: =AL75+BE75 -> 74
A76: 68 | B76: =N76 -> 0 | C76: =O76 -> MONTERO FERNANDEZ, JOSE MANUEL | D76: =P76 -> 67 | E76: =Q76 -> 0 | F76: =R76 -> S | G76: =S76 -> 79.944248 | H76: =AL76 -> 73 | I76: =BE76 -> 0 | L76: =BF76 -> 73 | N76: ='Listado de Inscritos'!B78 -> 0 | O76: ='Listado de Inscritos'!C78 -> MONTERO FERNANDEZ, JOSE MANUEL | P76: ='Listado de Inscritos'!G78 -> 67 | R76: S | S76: =P76*(135/113)+(71.9-72) -> 79.944248 | T76: 73 | AL76: =SUM(T76:AK76) -> 73 | BE76: =SUM(AM76:BD76) -> 0 | BF76: =AL76+BE76 -> 73
A77: 69 | B77: =N77 -> 0 | C77: =O77 -> FERRER BORDES, SECUNDINO | D77: =P77 -> 68 | E77: =Q77 -> 0 | F77: =R77 -> S | G77: =S77 -> 81.138938 | H77: =AL77 -> 72 | I77: =BE77 -> 0 | L77: =BF77 -> 72 | N77: ='Listado de Inscritos'!B79 -> 0 | O77: ='Listado de Inscritos'!C79 -> FERRER BORDES, SECUNDINO | P77: ='Listado de Inscritos'!G79 -> 68 | R77: S | S77: =P77*(135/113)+(71.9-72) -> 81.138938 | T77: 72 | AL77: =SUM(T77:AK77) -> 72 | BE77: =SUM(AM77:BD77) -> 0 | BF77: =AL77+BE77 -> 72
A78: 70 | B78: =N78 -> 0 | C78: =O78 -> VELEZ GUTIERREZ, JULIO CESAR | D78: =P78 -> 69 | E78: =Q78 -> 0 | F78: =R78 -> S | G78: =S78 -> 82.333628 | H78: =AL78 -> 71 | I78: =BE78 -> 0 | L78: =BF78 -> 71 | N78: ='Listado de Inscritos'!B80 -> 0 | O78: ='Listado de Inscritos'!C80 -> VELEZ GUTIERREZ, JULIO CESAR | P78: ='Listado de Inscritos'!G80 -> 69 | R78: S | S78: =P78*(135/113)+(71.9-72) -> 82.333628 | T78: 71 | AL78: =SUM(T78:AK78) -> 71 | BE78: =SUM(AM78:BD78) -> 0 | BF78: =AL78+BE78 -> 71
A79: 71 | B79: =N79 -> 0 | C79: =O79 -> TEJADA PINO, RAFAEL | D79: =P79 -> 70 | E79: =Q79 -> 0 | F79: =R79 -> S | G79: =S79 -> 83.528319 | H79: =AL79 -> 70 | I79: =BE79 -> 0 | L79: =BF79 -> 70 | N79: ='Listado de Inscritos'!B81 -> 0 | O79: ='Listado de Inscritos'!C81 -> TEJADA PINO, RAFAEL | P79: ='Listado de Inscritos'!G81 -> 70 | R79: S | S79: =P79*(135/113)+(71.9-72) -> 83.528319 | T79: 70 | AL79: =SUM(T79:AK79) -> 70 | BE79: =SUM(AM79:BD79) -> 0 | BF79: =AL79+BE79 -> 70
... A148: 140 | B148: =N148 -> 0 | C148: =O148 -> 140 | D148: =P148 -> 139 | E148: =Q148 -> 0 | F148: =R148 -> S | G148: =S148 -> 165.96195 | H148: =AL148 -> 1 | I148: =BE148 -> 0 | L148: =BF148 -> 1 | N148: ='Listado de Inscritos'!B150 -> 0 | O148: ='Listado de Inscritos'!C150 -> 140 | P148: ='Listado de Inscritos'!G150 -> 139 | R148: S | S148: =P148*(135/113)+(71.9-72) -> 165.96195 | T148: 1 | AL148: =SUM(T148:AK148) -> 1 | BE148: =SUM(AM148:BD148) -> 0 | BF148: =AL148+BE148 -> 1

Sheet Clas.Handicap
A2: II PUNTUABLE RANKING NACIONAL SENIORS MASCULINO 2014
C5: CLUB DE GOLF EL BOSQUE
C6: 15-16 DE MARZO DE 2014
A8: Pos | B8: Licencia | C8: Nombre | D8: Hex | E8: NVH | F8: Niv. | G8: HPU | H8: 1ª | I8: 2ª | J8: 3ª | K8: 4ª | L8: TOT
A9: 1 | B9: =' Result. Clas.Scratch'!B9 -> 0 | C9: =' Result. Clas.Scratch'!C9 -> MAESTRO YELA, FRANCISCO | D9: =' Result. Clas.Scratch'!D9 -> 0 | E9: =' Result. Clas.Scratch'!E9 -> 0 | F9: =' Result. Clas.Scratch'!F9 -> S | G9: =' Result. Clas.Scratch'!G9 -> -0.1 | H9: =' Result. Clas.Scratch'!H9 -> 140 | I9: =' Result. Clas.Scratch'!I9 -> 0 | L9: =H9+I9-G9 -> 140.1
A10: 2 | B10: =' Result. Clas.Scratch'!B10 -> 0 | C10: =' Result. Clas.Scratch'!C10 -> ELOSEGUI DE LA PEÑA, JUAN CARLOS | D10: =' Result. Clas.Scratch'!D10 -> 1 | E10: =' Result. Clas.Scratch'!E10 -> 0 | F10: =' Result. Clas.Scratch'!F10 -> S | G10: =' Result. Clas.Scratch'!G10 -> 1.0946903 | H10: =' Result. Clas.Scratch'!H10 -> 139 | I10: =' Result. Clas.Scratch'!I10 -> 0 | L10: =H10+I10-G10 -> 137.90531
A11: 3 | B11: =' Result. Clas.Scratch'!B11 -> 0 | C11: =' Result. Clas.Scratch'!C11 -> MACIAS ROMERO, ANGEL | D11: =' Result. Clas.Scratch'!D11 -> 2 | E11: =' Result. Clas.Scratch'!E11 -> 0 | F11: =' Result. Clas.Scratch'!F11 -> S | G11: =' Result. Clas.Scratch'!G11 -> 2.2893805 | H11: =' Result. Clas.Scratch'!H11 -> 138 | I11: =' Result. Clas.Scratch'!I11 -> 0 | L11: =H11+I11-G11 -> 135.71062
A12: 4 | B12: =' Result. Clas.Scratch'!B12 -> 0 | C12: =' Result. Clas.Scratch'!C12 -> QUEIPO DE LLANO FERNANDEZ, BORJA | D12: =' Result. Clas.Scratch'!D12 -> 3 | E12: =' Result. Clas.Scratch'!E12 -> 0 | F12: =' Result. Clas.Scratch'!F12 -> S | G12: =' Result. Clas.Scratch'!G12 -> 3.4840708 | H12: =' Result. Clas.Scratch'!H12 -> 137 | I12: =' Result. Clas.Scratch'!I12 -> 0 | L12: =H12+I12-G12 -> 133.51593
A13: 5 | B13: =' Result. Clas.Scratch'!B13 -> 0 | C13: =' Result. Clas.Scratch'!C13 -> GABARDA DURAN, LUIS | D13: =' Result. Clas.Scratch'!D13 -> 4 | E13: =' Result. Clas.Scratch'!E13 -> 0 | F13: =' Result. Clas.Scratch'!F13 -> S | G13: =' Result. Clas.Scratch'!G13 -> 4.6787611 | H13: =' Result. Clas.Scratch'!H13 -> 136 | I13: =' Result. Clas.Scratch'!I13 -> 0 | L13: =H13+I13-G13 -> 131.32124
A14: 6 | B14: =' Result. Clas.Scratch'!B14 -> 0 | C14: =' Result. Clas.Scratch'!C14 -> LARRAZABAL AGUERREVERE, GUSTAVO | D14: =' Result. Clas.Scratch'!D14 -> 5 | E14: =' Result. Clas.Scratch'!E14 -> 0 | F14: =' Result. Clas.Scratch'!F14 -> S | G14: =' Result. Clas.Scratch'!G14 -> 5.8734513 | H14: =' Result. Clas.Scratch'!H14 -> 135 | I14: =' Result. Clas.Scratch'!I14 -> 0 | L14: =H14+I14-G14 -> 129.12655
A15: 7 | B15: =' Result. Clas.Scratch'!B15 -> 0 | C15: =' Result. Clas.Scratch'!C15 -> FERNANDEZ BAYON, RUFINO | D15: =' Result. Clas.Scratch'!D15 -> 6 | E15: =' Result. Clas.Scratch'!E15 -> 0 | F15: =' Result. Clas.Scratch'!F15 -> S | G15: =' Result. Clas.Scratch'!G15 -> 7.0681416 | H15: =' Result. Clas.Scratch'!H15 -> 134 | I15: =' Result. Clas.Scratch'!I15 -> 0 | L15: =H15+I15-G15 -> 126.93186
A16: 8 | B16: =' Result. Clas.Scratch'!B16 -> 0 | C16: =' Result. Clas.Scratch'!C16 -> DASI MARTINEZ DE VALLEJO, VICENTE | D16: =' Result. Clas.Scratch'!D16 -> 7 | E16: =' Result. Clas.Scratch'!E16 -> 0 | F16: =' Result. Clas.Scratch'!F16 -> S | G16: =' Result. Clas.Scratch'!G16 -> 8.2628319 | H16: =' Result. Clas.Scratch'!H16 -> 133 | I16: =' Result. Clas.Scratch'!I16 -> 0 | L16: =H16+I16-G16 -> 124.73717
A17: 9 | B17: =' Result. Clas.Scratch'!B17 -> 0 | C17: =' Result. Clas.Scratch'!C17 -> RECASENS SANCHEZ-MEJIAS, LUIS IGNAC | D17: =' Result. Clas.Scratch'!D17 -> 8 | E17: =' Result. Clas.Scratch'!E17 -> 0 | F17: =' Result. Clas.Scratch'!F17 -> S | G17: =' Result. Clas.Scratch'!G17 -> 9.4575221 | H17: =' Result. Clas.Scratch'!H17 -> 132 | I17: =' Result. Clas.Scratch'!I17 -> 0 | L17: =H17+I17-G17 -> 122.54248
A18: 10 | B18: =' Result. Clas.Scratch'!B18 -> 0 | C18: =' Result. Clas.Scratch'!C18 -> TINTURE EGUREN, JUAN CARLOS | D18: =' Result. Clas.Scratch'!D18 -> 9 | E18: =' Result. Clas.Scratch'!E18 -> 0 | F18: =' Result. Clas.Scratch'!F18 -> S | G18: =' Result. Clas.Scratch'!G18 -> 10.652212 | H18: =' Result. Clas.Scratch'!H18 -> 131 | I18: =' Result. Clas.Scratch'!I18 -> 0 | L18: =H18+I18-G18 -> 120.34779
A19: 11 | B19: =' Result. Clas.Scratch'!B19 -> 0 | C19: =' Result. Clas.Scratch'!C19 -> MORENO COMINO, FRANCISCO | D19: =' Result. Clas.Scratch'!D19 -> 10 | E19: =' Result. Clas.Scratch'!E19 -> 0 | F19: =' Result. Clas.Scratch'!F19 -> S | G19: =' Result. Clas.Scratch'!G19 -> 11.846903 | H19: =' Result. Clas.Scratch'!H19 -> 130 | I19: =' Result. Clas.Scratch'!I19 -> 0 | L19: =H19+I19-G19 -> 118.1531
A20: 12 | B20: =' Result. Clas.Scratch'!B20 -> 0 | C20: =' Result. Clas.Scratch'!C20 -> BERNARDO MARTINEZ-PI?EIRO, ENRIQUE | D20: =' Result. Clas.Scratch'!D20 -> 11 | E20: =' Result. Clas.Scratch'!E20 -> 0 | F20: =' Result. Clas.Scratch'!F20 -> S | G20: =' Result. Clas.Scratch'!G20 -> 13.041593 | H20: =' Result. Clas.Scratch'!H20 -> 129 | I20: =' Result. Clas.Scratch'!I20 -> 0 | L20: =H20+I20-G20 -> 115.95841
... A112: 104 | B112: =' Result. Clas.Scratch'!B112 -> 0 | C112: =' Result. Clas.Scratch'!C112 -> 104 | D112: =' Result. Clas.Scratch'!D112 -> 103 | E112: =' Result. Clas.Scratch'!E112 -> 0 | F112: =' Result. Clas.Scratch'!F112 -> S | G112: =' Result. Clas.Scratch'!G112 -> 122.9531 | H112: =' Result. Clas.Scratch'!H112 -> 37 | I112: =' Result. Clas.Scratch'!I112 -> 0 | L112: =H112+I112-G112 -> -85.953097

Sheet Horarios por handicap
A2: II PUNTUABLE RANKING NACIONAL SENIORS MASCULINO 2014 | K2: II PUNTUABLE RANKING NACIONAL SENIORS MASCULINO 2014
A5: CLUB DE GOLF EL BOSQUE | K5: CLUB DE GOLF EL BOSQUE
A6: 15-16 DE MARZO DE 2014 | K6: 15-16 DE MARZO DE 2014
A8: HORARIOS DE SALIDA 1ª JORNADA | K8: HORARIOS DE SALIDA 1ª JORNADA
A9: (15 de marzo de 2014) | K9: (15 de marzo de 2014)
J10: 0.0069444444
A11: HORA | B11: TEE | C11: PARTIDO | D11: JUGADORES | K11: HORA | L11: TEE | M11: PARTIDO | N11: JUGADORES
A12: 0.375 | B12: 1 | C12: 1 | D12: ='Listado de Inscritos'!C11 -> MAESTRO YELA, FRANCISCO | K12: 0.375 | L12: 10 | M12: 14 | N12: ='Listado de Inscritos'!C50 -> VEGA-PENICHET LOPEZ, JORGE
D13: ='Listado de Inscritos'!C12 -> ELOSEGUI DE LA PEÑA, JUAN CARLOS | N13: ='Listado de Inscritos'!C51 -> RAMIREZ DE HARO V., FERNANDO
D14: ='Listado de Inscritos'!C13 -> MACIAS ROMERO, ANGEL | N14: ='Listado de Inscritos'!C52 -> SIMON FONTCUBERTA, CROTIDO DE
A15: =A12+$J$10 -> 0.38194444 | B15: =$B$12 -> 1 | C15: 2 | D15: ='Listado de Inscritos'!C14 -> QUEIPO DE LLANO FERNANDEZ, BORJA | K15: =K12+$J$10 -> 0.38194444 | L15: =$L$12 -> 10 | M15: 15 | N15: ='Listado de Inscritos'!C53 -> AVILA LATORRE, CARLOS
D16: ='Listado de Inscritos'!C15 -> GABARDA DURAN, LUIS | N16: ='Listado de Inscritos'!C54 -> RUIZ SEGUNDO, JULIO
D17: ='Listado de Inscritos'!C16 -> PREYSLER DE LA RIVA, MIGUEL | N17: ='Listado de Inscritos'!C55 -> JUAN ESPERT, VICENTE FRANCISCO
A18: =A15+$J$10 -> 0.38888889 | B18: =$B$12 -> 1 | C18: 3 | D18: ='Listado de Inscritos'!C17 -> LARRAZABAL AGUERREVERE, GUSTAVO | K18: =K15+$J$10 -> 0.38888889 | L18: =$L$12 -> 10 | M18: 16 | N18: ='Listado de Inscritos'!C56 -> ELCARTE REVESTIDO, FRANCISCO.JAVIER
D19: ='Listado de Inscritos'!C18 -> FERNANDEZ BAYON, RUFINO | N19: ='Listado de Inscritos'!C57 -> BARANDIARAN BARBEIRA, JUAN MANUEL
D20: ='Listado de Inscritos'!C19 -> DASI MARTINEZ DE VALLEJO, VICENTE | N20: ='Listado de Inscritos'!C58 -> LA CHICA DAMAS, JUAN MANUEL
A21: =A18+$J$10 -> 0.39583333 | B21: =$B$12 -> 1 | C21: 4 | D21: ='Listado de Inscritos'!C20 -> RECASENS SANCHEZ-MEJIAS, LUIS IGNAC | K21: =K18+$J$10 -> 0.39583333 | L21: =$L$12 -> 10 | M21: 17 | N21: ='Listado de Inscritos'!C59 -> RIPOLL BORJA, JOSE FRANCISCO
D22: ='Listado de Inscritos'!C21 -> TINTURE EGUREN, JUAN CARLOS | N22: ='Listado de Inscritos'!C60 -> ALONSO-ALLENDE AZNAR, JAIME
D23: ='Listado de Inscritos'!C22 -> MORENO COMINO, FRANCISCO | N23: ='Listado de Inscritos'!C61 -> GOMEZ PEREZ, JOSE MARIA
A24: =A21+$J$10 -> 0.40277778 | B24: =$B$12 -> 1 | C24: 5 | D24: ='Listado de Inscritos'!C23 -> BERNARDO MARTINEZ-PI?EIRO, ENRIQUE | K24: =K21+$J$10 -> 0.40277778 | L24: =$L$12 -> 10 | M24: 18 | N24: ='Listado de Inscritos'!C62 -> MUÑOZ MARTINEZ, ALEJANDRO
D25: ='Listado de Inscritos'!C24 -> CANOMANUEL GONZALEZ, RAFAEL | N25: ='Listado de Inscritos'!C63 -> GARRIDO MONTES, JOSE
D26: ='Listado de Inscritos'!C25 -> PAN DE SORALUCE MUGUIRO, JOSE | N26: ='Listado de Inscritos'!C64 -> HERNANDEZ GARCIA, JULIAN
A27: =A24+$J$10 -> 0.40972222 | B27: =$B$12 -> 1 | C27: 6 | D27: ='Listado de Inscritos'!C26 -> SALDAÑA MARTINEZ, CARLOS | K27: =K24+$J$10 -> 0.40972222 | L27: =$L$12 -> 10 | M27: 19 | N27: ='Listado de Inscritos'!C65 -> MARTIN MORENO, FRANCISCO
D28: ='Listado de Inscritos'!C27 -> MARTINEZ MARTINEZ, JOSE MANUEL | N28: ='Listado de Inscritos'!C66 -> FERNANDEZ NUÑEZ, CARLOS LUIS
D29: ='Listado de Inscritos'!C28 -> HERNANDO BLAZQUEZ, ANDRES | N29: ='Listado de Inscritos'!C67 -> PEREZ DE LOS COBOS AYUSO, ENRIQUE
A30: =A27+$J$10 -> 0.41666667 | B30: =$B$12 -> 1 | C30: 7 | D30: ='Listado de Inscritos'!C29 -> MORET JARAIZ, ANDRES | K30: =K27+$J$10 -> 0.41666667 | L30: =$L$12 -> 10 | M30: 20 | N30: ='Listado de Inscritos'!C68 -> BERGARECHE GANDARIAS, RAFAEL
D31: ='Listado de Inscritos'!C30 -> FERNANDEZ SANCHEZ, MIGUEL | N31: ='Listado de Inscritos'!C69 -> MARTINEZ CANO, JUAN
D32: ='Listado de Inscritos'!C31 -> MAURA ANDREU, HONORIO | N32: ='Listado de Inscritos'!C70 -> ROMERO CABALLERO, JOAQUIN
A33: =A30+$J$10 -> 0.42361111 | B33: =$B$12 -> 1 | C33: 8 | D33: ='Listado de Inscritos'!C32 -> VEGA DE SEOANE AZPILICUETA, ALVARO | K33: =K30+$J$10 -> 0.42361111 | L33: =$L$12 -> 10 | M33: 21 | N33: ='Listado de Inscritos'!C71 -> MARON FERNANDEZ, JESUS MARIA
D34: ='Listado de Inscritos'!C33 -> ANDRES DELGADO, ERNESTO | N34: ='Listado de Inscritos'!C72 -> CASTELLANO COMENGE, VICENTE
D35: ='Listado de Inscritos'!C34 -> TARAZONA ALMENAR, FERNANDO | N35: ='Listado de Inscritos'!C73 -> ANDRES TIMOR, AGUSTIN
A36: =A33+$J$10 -> 0.43055556 | B36: =$B$12 -> 1 | C36: 9 | D36: ='Listado de Inscritos'!C35 -> FERNANDEZ DE HENESTROSA ARGUELLES, | K36: =K33+$J$10 -> 0.43055556 | L36: =$L$12 -> 10 | M36: 22 | N36: ='Listado de Inscritos'!C74 -> GRANELL RUIZ, LORENZO
D37: ='Listado de Inscritos'!C36 -> MOYA BALLESTEROS, JOSE | N37: ='Listado de Inscritos'!C75 -> MONZONIS OVEJERO, FRANCISCO
D38: ='Listado de Inscritos'!C37 -> CORONADO RODRIGUEZ, ILDEFONSO | N38: ='Listado de Inscritos'!C76 -> GIMENEZ MUÑOZ, JUAN LUIS
A39: =A36+$J$10 -> 0.4375 | B39: =$B$12 -> 1 | C39: 10 | D39: ='Listado de Inscritos'!C38 -> SOUSA MUROS, MANUEL | K39: =K36+$J$10 -> 0.4375 | L39: =$L$12 -> 10 | M39: 23 | N39: ='Listado de Inscritos'!C77 -> CAÑAVERAL DE LA PAZ, INOCENCIO
D40: ='Listado de Inscritos'!C39 -> ALVAREZ-MON PAN DE SORALUCE, RAMON | N40: ='Listado de Inscritos'!C78 -> MONTERO FERNANDEZ, JOSE MANUEL
D41: ='Listado de Inscritos'!C40 -> CISNEROS GARCIA, FRANCISCO JOSE | N41: ='Listado de Inscritos'!C79 -> FERRER BORDES, SECUNDINO
A42: =A39+$J$10 -> 0.44444444 | B42: =$B$12 -> 1 | C42: 11 | D42: ='Listado de Inscritos'!C41 -> ERHARDT ALZAGA, ALFONSO | K42: =K39+$J$10 -> 0.44444444 | L42: =$L$12 -> 10 | M42: 24 | N42: ='Listado de Inscritos'!C80 -> VELEZ GUTIERREZ, JULIO CESAR
D43: ='Listado de Inscritos'!C42 -> MOYA TORRES, JULIO | N43: ='Listado de Inscritos'!C81 -> TEJADA PINO, RAFAEL
D44: ='Listado de Inscritos'!C43 -> TORRES ALDUNCIN, ENRIQUE | N44: ='Listado de Inscritos'!C82 -> SARRIA LOPEZ DEL CASTILLO, GINES JO
...

Sheet Listado de Inscritos
A2: II PUNTUABLE RANKING NACIONAL SENIORS MASCULINO 2014
A5: CLUB DE GOLF EL BOSQUE
A6: 15-16 DE MARZO DE 2014
A8: LISTADO DE INSCRITOS
A9: (15 de marzo de 2014)
B10: LICENCIA | C10: JUGADOR | G10: Hex.
A11: 1 | C11: MAESTRO YELA, FRANCISCO | G11: 0
A12: 2 | C12: ELOSEGUI DE LA PEÑA, JUAN CARLOS | G12: 1
A13: 3 | C13: MACIAS ROMERO, ANGEL | G13: 2
A14: 4 | C14: QUEIPO DE LLANO FERNANDEZ, BORJA | G14: 3
A15: 5 | C15: GABARDA DURAN, LUIS | G15: 4
A16: 6 | C16: PREYSLER DE LA RIVA, MIGUEL
A17: 7 | C17: LARRAZABAL AGUERREVERE, GUSTAVO | G17: 5
A18: 8 | C18: FERNANDEZ BAYON, RUFINO | G18: 6
A19: 9 | C19: DASI MARTINEZ DE VALLEJO, VICENTE | G19: 7
A20: 10 | C20: RECASENS SANCHEZ-MEJIAS, LUIS IGNAC | G20: 8
A21: 11 | C21: TINTURE EGUREN, JUAN CARLOS | G21: 9
A22: 12 | C22: MORENO COMINO, FRANCISCO | G22: 10
A23: 13 | C23: BERNARDO MARTINEZ-PI?EIRO, ENRIQUE | G23: 11
A24: 14 | C24: CANOMANUEL GONZALEZ, RAFAEL | G24: 12
A25: 15 | C25: PAN DE SORALUCE MUGUIRO, JOSE | G25: 13
A26: 16 | C26: SALDAÑA MARTINEZ, CARLOS | G26: 14
A27: 17 | C27: MARTINEZ MARTINEZ, JOSE MANUEL | G27: 15
A28: 18 | C28: HERNANDO BLAZQUEZ, ANDRES | G28: 16
... A85: 76 | C85: LOPEZ COSTELL, FRANCISCO | G85: 74
A86: 77 | C86: 76 | G86: 75
A87: 78 | C87: 77 | G87: 76
A88: 79 | C88: 78 | G88: 77
A89: 80 | C89: 79 | G89: 78
A90: 81 | C90: 80 | G90: 79
A91: 82 | C91: 81 | G91: 80
A92: 83 | C92: 82 | G92: 81
A93: 84 | C93: 83 | G93: 82
A94: 85 | C94: 84 | G94: 83
A95: 86 | C95: 85 | G95: 84
A96: 87 | C96: 86 | G96: 85
A97: 88 | C97: 87 | G97: 86
... A150: 141 | C150: 140 | G150: 139
A151: 142 | C151: 141
A152: 143 | C152: 142
...

Sheet Horarios por resultados
A1: II PUNTUABLE RANKING NACIONAL SENIORS MASCULINO 2014 | K1: =A1 -> II PUNTUABLE RANKING NACIONAL SENIORS MASCULINO 2014
A4: CLUB DE GOLF EL BOSQUE | K4: =A4 -> CLUB DE GOLF EL BOSQUE
A5: 15-16 DE MARZO DE 2014 | K5: =A5 -> 15-16 DE MARZO DE 2014
A7: HORARIOS DE SALIDA 2ª JORNADA | K7: =A7 -> HORARIOS DE SALIDA 2ª JORNADA
A8: (16 de marzo de 2014) | K8: =A8 -> (16 de marzo de 2014)
J9: 0.00625
A10: HORA | B10: TEE | C10: PARTIDO | D10: JUGADORES | K10: HORA | L10: TEE | M10: PARTIDO | N10: JUGADORES
A11: 0.375 | B11: 1 | C11: 1 | K11: 0.375 | L11: 10 | M11: 1
A14: =A11+$J$9 -> 0.38125 | B14: =$B$11 -> 1 | C14: 2 | K14: =K11+$J$9 -> 0.38125 | L14: =$L$11 -> 10 | M14: 2
A17: =A14+$J$9 -> 0.3875 | B17: =$B$11 -> 1 | C17: 3 | K17: =K14+$J$9 -> 0.3875 | L17: =$L$11 -> 10 | M17: 3
A20: =A17+$J$9 -> 0.39375 | B20: =$B$11 -> 1 | C20: 4 | K20: =K17+$J$9 -> 0.39375 | L20: =$L$11 -> 10 | M20: 4
A23: =A20+$J$9 -> 0.4 | B23: =$B$11 -> 1 | C23: 5 | K23: =K20+$J$9 -> 0.4 | L23: =$L$11 -> 10 | M23: 5
A26: =A23+$J$9 -> 0.40625 | B26: =$B$11 -> 1 | C26: 6 | K26: =K23+$J$9 -> 0.40625 | L26: =$L$11 -> 10 | M26: 6
A29: =A26+$J$9 -> 0.4125 | B29: =$B$11 -> 1 | C29: 7 | K29: =K26+$J$9 -> 0.4125 | L29: =$L$11 -> 10 | M29: 7
A32: =A29+$J$9 -> 0.41875 | B32: =$B$11 -> 1 | C32: 8 | K32: =K29+$J$9 -> 0.41875 | L32: =$L$11 -> 10 | M32: 8
A35: =A32+$J$9 -> 0.425 | B35: =$B$11 -> 1 | C35: 9 | K35: =K32+$J$9 -> 0.425 | L35: =$L$11 -> 10 | M35: 9
A38: =A35+$J$9 -> 0.43125 | B38: =$B$11 -> 1 | C38: 10 | K38: =K35+$J$9 -> 0.43125 | L38: =$L$11 -> 10 | M38: 10
A41: =A38+$J$9 -> 0.4375 | B41: =$B$11 -> 1 | C41: 11 | K41: =K38+$J$9 -> 0.4375 | L41: =$L$11 -> 10 | M41: 11
A44: =A41+$J$9 -> 0.44375 | B44: =$B$11 -> 1 | C44: 12 | K44: =K41+$J$9 -> 0.44375 | L44: =$L$11 -> 10 | M44: 12
A47: =A44+$J$9 -> 0.45 | B47: =$B$11 -> 1 | C47: 13 | K47: =K44+$J$9 -> 0.45 | L47: =$L$11 -> 10 | M47: 13
A50: =A47+$J$9 -> 0.45625 | B50: 1 | C50: 14 | K50: =K47+$J$9 -> 0.45625 | L50: =$L$11 -> 10 | M50: 14
A53: =A50+$J$9 -> 0.4625 | B53: =$B$50 -> 1 | C53: 15 | K53: =K50+$J$9 -> 0.4625 | L53: =$L$11 -> 10 | M53: 15
A56: =A53+$J$9 -> 0.46875 | B56: =$B$50 -> 1 | C56: 16 | K56: =K53+$J$9 -> 0.46875 | L56: =$L$11 -> 10 | M56: 16
A59: =A56+$J$9 -> 0.475 | B59: =$B$50 -> 1 | C59: 17 | K59: =K56+$J$9 -> 0.475 | L59: =$L$11 -> 10 | M59: 17
A62: =A59+$J$9 -> 0.48125 | B62: =$B$50 -> 1 | C62: 18 | K62: =K59+$J$9 -> 0.48125 | L62: =$L$11 -> 10 | M62: 18
A65: =A62+$J$9 -> 0.4875 | B65: =$B$50 -> 1 | C65: 19 | K65: =K62+$J$9 -> 0.4875 | L65: =$L$11 -> 10 | M65: 19
A68: =A65+$J$9 -> 0.49375 | B68: =$B$50 -> 1 | C68: 20 | K68: =K65+$J$9 -> 0.49375 | L68: =$L$11 -> 10 | M68: 20
A71: =A68+$J$9 -> 0.5 | B71: =$B$50 -> 1 | C71: 21 | K71: =K68+$J$9 -> 0.5 | L71: =$L$11 -> 10 | M71: 21
A74: =A71+$J$9 -> 0.50625 | B74: =$B$50 -> 1 | C74: 22 | K74: =K71+$J$9 -> 0.50625 | L74: =$L$11 -> 10 | M74: 22
A77: =A74+$J$9 -> 0.5125 | B77: =$B$50 -> 1 | C77: 23 | K77: =K74+$J$9 -> 0.5125 | L77: =$L$11 -> 10 | M77: 23
A80: =A77+$J$9 -> 0.51875 | B80: =$B$50 -> 1 | C80: 24 | K80: =K77+$J$9 -> 0.51875 | L80: =$L$11 -> 10 | M80: 24
A83: =A80+$J$9 -> 0.525 | B83: =$B$50 -> 1 | C83: 25 | K83: =K80+$J$9 -> 0.525 | L83: =$L$11 -> 10 | M83: 25
A86: =A83+$J$9 -> 0.53125 | B86: =$B$50 -> 1 | C86: 26 | K86: =K83+$J$9 -> 0.53125 | L86: =$L$11 -> 10 | M86: 26
... A95: =A92+$J$9 -> 0.55 | B95: =$B$50 -> 1 | C95: 29 | K95: =K92+$J$9 -> 0.55 | L95: =$L$11 -> 10 | M95: 29
