Workbook

Sheet CLAS
A1: 1
A2: 2
A3: 3
A4: 4
A5: 5
A6: 6
A7: 7
A8: 8
A9: 9
A10: 10
A11: 11
A12: 12
... A32: 32

Sheet cuadro
A5: CUADRO DE MATCH // MATCH PLAY BRACKETS
B7: 27 de Febrero | D7: 28 de Febrero | F7: 1 de Marzo
B8: Tee 1 08:15
A9: 1
A10: 32
B11: Tee 1 08:23 | C11: Tee 1 13:15
A12: 16
A13: 17
B14: Tee 1 08:31 | D14: Tee 1 08:15
A15: 9
A16: 24
B17: Tee 1 08:39 | C17: Tee 1 13:30
A18: 8
A19: 25
B20: Tee 1 08:47 | E20: Tee 1 13:15
A21: 5
A22: 28
B23: Tee 1 08:55 | C23: Tee 1 13:45
A24: 12
A25: 21
B26: Tee 1 09:03 | D26: Tee 1 08:23
A27: 13
A28: 20
B29: Tee 1 09:11 | C29: Tee 1 14:00
A30: 4
A31: 29
B32: Tee 10 08:15 | F32: Tee 1 08:30 // 13:30
A33: 3
A34: 30
B35: Tee 10 08:23 | C35: Tee 10 13:15
A36: 14
A37: 19
B38: Tee 10 08:31 | D38: Tee 1 08:31
A39: 11
A40: 22
B41: Tee 10 08:39 | C41: Tee 10 13:30
A42: 6
A43: 27
B44: Tee 10 08:47 | E44: Tee 1 13:30
A45: 7
...

Sheet H.M. 1.16
D2: HOJA RESULTADO DE MATCH
B5: MATCH 1
B7: Fecha: 27 Febrero 2015 | F7: Tee: 1 | I7: Hora: | J7: 0.34375
B9: Jugadores
B10: =cuadro!B9 -> 0
G11: JUGADOR GANADOR | J11: RESULTADO
B13: Jugadores
B14: =cuadro!B10 -> 0
C17: Firma:
D21: HOJA RESULTADO DE MATCH
B24: MATCH 2
B26: Fecha: 27 Febrero 2015 | F26: Tee: 1 | I26: Hora: | J26: 0.34930556
B28: Jugadores
B29: =cuadro!B12 -> 0
G30: JUGADOR GANADOR | J30: RESULTADO
B32: Jugadores
B33: =cuadro!B13 -> 0
C36: Firma:
D40: HOJA RESULTADO DE MATCH
B43: MATCH 3
B45: Fecha: 27 Febrero 2015 | F45: Tee: 1 | I45: Hora: | J45: 0.35486111
B47: Jugadores
B48: =cuadro!B15 -> 0
G49: JUGADOR GANADOR | J49: RESULTADO
B51: Jugadores
B52: =cuadro!B16 -> 0
C55: Firma:
D59: HOJA RESULTADO DE MATCH
B62: MATCH 4
B64: Fecha: 27 Febrero 2015 | F64: Tee: 1 | I64: Hora: | J64: 0.36041667
B66: Jugadores
B67: =cuadro!B18 -> 0
G68: JUGADOR GANADOR | J68: RESULTADO
B70: Jugadores
B71: =cuadro!B19 -> 0
C74: Firma:
D78: HOJA RESULTADO DE MATCH
B81: MATCH 5
B83: Fecha: 27 Febrero 2015 | F83: Tee: 1 | I83: Hora: | J83: 0.36597222
B85: Jugadores
...

Sheet H.M. 1.8
D2: HOJA RESULTADO DE MATCH
B5: MATCH 17
B7: Fecha: 27 Febrero 2015 | F7: Tee: 1 | I7: Hora: | J7: 0.55208333
B9: Jugadores
B10: =cuadro!C10 -> 0
G11: JUGADOR GANADOR | J11: RESULTADO
B13: Jugadores
B14: =cuadro!C12 -> 0
C17: Firma:
D21: HOJA RESULTADO DE MATCH
B24: MATCH 18
B26: Fecha: 27 Febrero 2015 | F26: Tee: 1 | I26: Hora: | J26: 13.30
B28: Jugadores
B29: =cuadro!C16 -> 0
G30: JUGADOR GANADOR | J30: RESULTADO
B32: Jugadores
B33: =cuadro!C18 -> 0
C36: Firma:
D40: HOJA RESULTADO DE MATCH
B43: MATCH 19
B45: Fecha: 27 Febrero 2015 | F45: Tee: 1 | I45: Hora: | J45: 0.57291667
B47: Jugadores
B48: =cuadro!C22 -> 0
G49: JUGADOR GANADOR | J49: RESULTADO
B51: Jugadores
B52: =cuadro!C24 -> 0
C55: Firma:
D59: HOJA RESULTADO DE MATCH
B62: MATCH 20
B64: Fecha: 27 Febrero 2015 | F64: Tee: 1 | I64: Hora: | J64: 0.58333333
B66: Jugadores
B67: =cuadro!C28 -> 0
G68: JUGADOR GANADOR | J68: RESULTADO
B70: Jugadores
B71: =cuadro!C30 -> 0
C74: Firma:
D78: HOJA RESULTADO DE MATCH
B81: MATCH 21
B83: Fecha: 27 Febrero 2015 | F83: Tee: 10 | I83: Hora: | J83: 0.55208333
B85: Jugadores
...

Sheet H.M. 1.4
D2: HOJA RESULTADO DE MATCH
B5: MATCH 1
B7: Fecha: 28 Febrero 2015 | F7: Tee: 1 | I7: Hora: | J7: 0.34375
B9: Jugadores
B10: =cuadro!D11 -> 0
G11: JUGADOR GANADOR | J11: RESULTADO
B13: Jugadores
B14: =cuadro!D17 -> 0
C17: Firma:
D21: HOJA RESULTADO DE MATCH
B24: MATCH 2
B26: Fecha: 28 Febrero 2015 | F26: Tee: 1 | I26: Hora: | J26: 0.34930556
B28: Jugadores
B29: =cuadro!D23 -> 0
G30: JUGADOR GANADOR | J30: RESULTADO
B32: Jugadores
B33: =cuadro!D29 -> 0
C36: Firma:
D40: HOJA RESULTADO DE MATCH
B43: MATCH 3
B45: Fecha: 28 Febrero 2015 | F45: Tee: 1 | I45: Hora: | J45: 0.35486111
B47: Jugadores
B48: =cuadro!D35 -> 0
G49: JUGADOR GANADOR | J49: RESULTADO
B51: Jugadores
B52: =cuadro!D41 -> 0
C55: Firma:
D59: HOJA RESULTADO DE MATCH
B62: MATCH 4
B64: Fecha: 28 Febrero 2015 | F64: Tee: 1 | I64: Hora: | J64: 0.36041667
B66: Jugadores
B67: =cuadro!D47 -> 0
G68: JUGADOR GANADOR | J68: RESULTADO
B70: Jugadores
B71: =cuadro!D53 -> 0
C74: Firma:

Sheet H.M. 1.2 
D2: HOJA RESULTADO DE MATCH
B5: MATCH 5 - SEMIFINALES 1
B7: Fecha: 28 Febrero 2015 | F7: Tee: 1 | I7: Hora: | J7: 0.55208333
B9: Jugadores
B10: =cuadro!E14 -> 0
G11: JUGADOR GANADOR | J11: RESULTADO
B13: Jugadores
B14: =cuadro!E26 -> 0
C17: Firma:
D21: HOJA RESULTADO DE MATCH
B24: MATCH 6 - SEMIFINALES 2
B26: Fecha: 28 Febrero 2015 | F26: Tee: 1 | I26: Hora: | J26: 0.5625
B28: Jugadores
B29: =cuadro!E38 -> 0
G30: JUGADOR GANADOR | J30: RESULTADO
B32: Jugadores
B33: =cuadro!E50 -> 0
C36: Firma:

Sheet H.M. Final
D2: HOJA RESULTADO DE MATCH
B5: MATCH FINAL
B7: Fecha: 1 Marzo 2015 | F7: Tee: 1 | I7: Hora: | J7: 0.34375
B9: Jugadores
B10: =cuadro!F20 -> 0
G11: JUGADOR GANADOR | J11: RESULTADO
B13: Jugadores
B14: =cuadro!F44 -> 0
C17: Firma:
