Workbook

Sheet CLAS
A1: 1
A2: 2
A3: 3
A4: 4
A5: 5
A6: 6
A7: 7
A8: 8
A9: 9
A10: 10
A11: 11
A12: 12
... A32: 32

Sheet cuadro
A5: CUADRO DE MATCH // MATCH PLAY BRACKETS
B7: 27 de Febrero | D7: 28 de Febrero | F7: 1 de Marzo
B8: Tee 1 08:15
A9: 1
A10: 32
B11: Tee 1 08:23 | C11: Tee 1 13:15
A12: 16
A13: 17
B14: Tee 1 08:31 | D14: Tee 1 08:15
A15: 9
A16: 24
B17: Tee 1 08:39 | C17: Tee 1 13:30
A18: 8
A19: 25
B20: Tee 1 08:47 | E20: Tee 1 13:15
A21: 5
A22: 28
B23: Tee 1 08:55 | C23: Tee 1 13:45
A24: 12
A25: 21
B26: Tee 1 09:03 | D26: Tee 1 08:23
A27: 13
A28: 20
B29: Tee 1 09:11 | C29: Tee 1 14:00
A30: 4
A31: 29
B32: Tee 10 08:15 | F32: Tee 1 08:30 // 13:30
A33: 3
A34: 30
B35: Tee 10 08:23 | C35: Tee 10 13:15
A36: 14
A37: 19
B38: Tee 10 08:31 | D38: Tee 1 08:31
A39: 11
A40: 22
B41: Tee 10 08:39 | C41: Tee 10 13:30
A42: 6
A43: 27
B44: Tee 10 08:47 | E44: Tee 1 13:30
A45: 7
A46: 26
B47: Tee 10 08:55 | C47: Tee 10 13:45
A48: 10
A49: 23
B50: Tee 10 09:03 | D50: Tee 10 08:39
A51: 15
A52: 18
B53: Tee 10 09:11 | C53: Tee 10 14:00
A54: 2
A55: 31
B57: 1/16 Final | C57: 1/8 Final | D57: 1/4 Final | E57: Semifinales | F57: Final | G57: Campeón

Sheet H.M. 1.16
D2: HOJA RESULTADO DE MATCH
B5: MATCH 1
B7: Fecha: 27 Febrero 2015 | F7: Tee: 1 | I7: Hora: | J7: 0.34375
B9: Jugadores
B10: =cuadro!B9 -> 0
G11: JUGADOR GANADOR | J11: RESULTADO
B13: Jugadores
B14: =cuadro!B10 -> 0
C17: Firma:
D21: HOJA RESULTADO DE MATCH
B24: MATCH 2
B26: Fecha: 27 Febrero 2015 | F26: Tee: 1 | I26: Hora: | J26: 0.34930556
B28: Jugadores
B29: =cuadro!B12 -> 0
G30: JUGADOR GANADOR | J30: RESULTADO
B32: Jugadores
B33: =cuadro!B13 -> 0
C36: Firma:
D40: HOJA RESULTADO DE MATCH
B43: MATCH 3
B45: Fecha: 27 Febrero 2015 | F45: Tee: 1 | I45: Hora: | J45: 0.35486111
B47: Jugadores
B48: =cuadro!B15 -> 0
G49: JUGADOR GANADOR | J49: RESULTADO
B51: Jugadores
B52: =cuadro!B16 -> 0
C55: Firma:
D59: HOJA RESULTADO DE MATCH
B62: MATCH 4
B64: Fecha: 27 Febrero 2015 | F64: Tee: 1 | I64: Hora: | J64: 0.36041667
B66: Jugadores
B67: =cuadro!B18 -> 0
G68: JUGADOR GANADOR | J68: RESULTADO
B70: Jugadores
B71: =cuadro!B19 -> 0
C74: Firma:
D78: HOJA RESULTADO DE MATCH
B81: MATCH 5
B83: Fecha: 27 Febrero 2015 | F83: Tee: 1 | I83: Hora: | J83: 0.36597222
B85: Jugadores
B86: =cuadro!B21 -> 0
G87: JUGADOR GANADOR | J87: RESULTADO
B89: Jugadores
B90: =cuadro!B22 -> 0
C93: Firma:
D97: HOJA RESULTADO DE MATCH
B100: MATCH 6
B102: Fecha: 27 Febrero 2015 | F102: Tee: 1 | I102: Hora: | J102: 0.37152778
B104: Jugadores
B105: =cuadro!B24 -> 0
G106: JUGADOR GANADOR | J106: RESULTADO
B108: Jugadores
B109: =cuadro!B25 -> 0
C112: Firma:
D116: HOJA RESULTADO DE MATCH
B119: MATCH 7
B121: Fecha: 27 Febrero 2015 | F121: Tee: 1 | I121: Hora: | J121: 0.37708333
B123: Jugadores
B124: =cuadro!B27 -> 0
G125: JUGADOR GANADOR | J125: RESULTADO
B127: Jugadores
B128: =cuadro!B28 -> 0
C131: Firma:
D135: HOJA RESULTADO DE MATCH
B138: MATCH 8
B140: Fecha: 27 Febrero 2015 | F140: Tee: 1 | I140: Hora: | J140: 0.38263889
B142: Jugadores
B143: =cuadro!B30 -> 0
G144: JUGADOR GANADOR | J144: RESULTADO
B146: Jugadores
B147: =cuadro!B31 -> 0
C150: Firma:
D154: HOJA RESULTADO DE MATCH
B157: MATCH 9
B159: Fecha: 27 Febrero 2015 | F159: Tee: 10 | I159: Hora: | J159: 0.34375
B161: Jugadores
B162: =cuadro!B33 -> 0
G163: JUGADOR GANADOR | J163: RESULTADO
B165: Jugadores
B166: =cuadro!B34 -> 0
C169: Firma:
D173: HOJA RESULTADO DE MATCH
B176: MATCH 10
B178: Fecha: 27 Febrero 2015 | F178: Tee: 10 | I178: Hora: | J178: 0.34930556
B180: Jugadores
B181: =cuadro!B36 -> 0
G182: JUGADOR GANADOR | J182: RESULTADO
B184: Jugadores
B185: =cuadro!B37 -> 0
C188: Firma:
D192: HOJA RESULTADO DE MATCH
B195: MATCH 11
B197: Fecha: 27 Febrero 2015 | F197: Tee: 10 | I197: Hora: | J197: 0.35486111
B199: Jugadores
B200: =cuadro!B39 -> 0
G201: JUGADOR GANADOR | J201: RESULTADO
B203: Jugadores
B204: =cuadro!B40 -> 0
C207: Firma:
D211: HOJA RESULTADO DE MATCH
...

Sheet H.M. 1.8
D2: HOJA RESULTADO DE MATCH
B5: MATCH 17
B7: Fecha: 27 Febrero 2015 | F7: Tee: 1 | I7: Hora: | J7: 0.55208333
B9: Jugadores
B10: =cuadro!C10 -> 0
G11: JUGADOR GANADOR | J11: RESULTADO
B13: Jugadores
B14: =cuadro!C12 -> 0
C17: Firma:
D21: HOJA RESULTADO DE MATCH
B24: MATCH 18
B26: Fecha: 27 Febrero 2015 | F26: Tee: 1 | I26: Hora: | J26: 13.30
B28: Jugadores
B29: =cuadro!C16 -> 0
G30: JUGADOR GANADOR | J30: RESULTADO
B32: Jugadores
B33: =cuadro!C18 -> 0
C36: Firma:
D40: HOJA RESULTADO DE MATCH
B43: MATCH 19
B45: Fecha: 27 Febrero 2015 | F45: Tee: 1 | I45: Hora: | J45: 0.57291667
B47: Jugadores
B48: =cuadro!C22 -> 0
G49: JUGADOR GANADOR | J49: RESULTADO
B51: Jugadores
B52: =cuadro!C24 -> 0
C55: Firma:
D59: HOJA RESULTADO DE MATCH
B62: MATCH 20
B64: Fecha: 27 Febrero 2015 | F64: Tee: 1 | I64: Hora: | J64: 0.58333333
B66: Jugadores
B67: =cuadro!C28 -> 0
G68: JUGADOR GANADOR | J68: RESULTADO
B70: Jugadores
B71: =cuadro!C30 -> 0
C74: Firma:
D78: HOJA RESULTADO DE MATCH
B81: MATCH 21
B83: Fecha: 27 Febrero 2015 | F83: Tee: 10 | I83: Hora: | J83: 0.55208333
B85: Jugadores
B86: =cuadro!C34 -> 0
G87: JUGADOR GANADOR | J87: RESULTADO
B89: Jugadores
B90: =cuadro!C36 -> 0
C93: Firma:
D97: HOJA RESULTADO DE MATCH
B100: MATCH 22
B102: Fecha: 27 Febrero 2015 | F102: Tee: 10 | I102: Hora: | J102: 0.5625
B104: Jugadores
B105: =cuadro!C40 -> 0
G106: JUGADOR GANADOR | J106: RESULTADO
B108: Jugadores
B109: =cuadro!C42 -> 0
C112: Firma:
D116: HOJA RESULTADO DE MATCH
B119: MATCH 23
B121: Fecha: 27 Febrero 2015 | F121: Tee: 10 | I121: Hora: | J121: 0.57291667
B123: Jugadores
B124: =cuadro!C46 -> 0
G125: JUGADOR GANADOR | J125: RESULTADO
B127: Jugadores
B128: =cuadro!C48 -> 0
C131: Firma:
D135: HOJA RESULTADO DE MATCH
B138: MATCH 24
B140: Fecha: 27 Febrero 2015 | F140: Tee: 10 | I140: Hora: | J140: 0.58333333
B142: Jugadores
B143: =cuadro!C52 -> 0
G144: JUGADOR GANADOR | J144: RESULTADO
B146: Jugadores
B147: =cuadro!C54 -> 0
C150: Firma:

Sheet H.M. 1.4
D2: HOJA RESULTADO DE MATCH
B5: MATCH 1
B7: Fecha: 28 Febrero 2015 | F7: Tee: 1 | I7: Hora: | J7: 0.34375
B9: Jugadores
B10: =cuadro!D11 -> 0
G11: JUGADOR GANADOR | J11: RESULTADO
B13: Jugadores
B14: =cuadro!D17 -> 0
C17: Firma:
D21: HOJA RESULTADO DE MATCH
B24: MATCH 2
B26: Fecha: 28 Febrero 2015 | F26: Tee: 1 | I26: Hora: | J26: 0.34930556
B28: Jugadores
B29: =cuadro!D23 -> 0
G30: JUGADOR GANADOR | J30: RESULTADO
B32: Jugadores
B33: =cuadro!D29 -> 0
C36: Firma:
D40: HOJA RESULTADO DE MATCH
B43: MATCH 3
B45: Fecha: 28 Febrero 2015 | F45: Tee: 1 | I45: Hora: | J45: 0.35486111
B47: Jugadores
B48: =cuadro!D35 -> 0
G49: JUGADOR GANADOR | J49: RESULTADO
B51: Jugadores
B52: =cuadro!D41 -> 0
C55: Firma:
D59: HOJA RESULTADO DE MATCH
B62: MATCH 4
B64: Fecha: 28 Febrero 2015 | F64: Tee: 1 | I64: Hora: | J64: 0.36041667
B66: Jugadores
B67: =cuadro!D47 -> 0
G68: JUGADOR GANADOR | J68: RESULTADO
B70: Jugadores
B71: =cuadro!D53 -> 0
C74: Firma:

Sheet H.M. 1.2 
D2: HOJA RESULTADO DE MATCH
B5: MATCH 5 - SEMIFINALES 1
B7: Fecha: 28 Febrero 2015 | F7: Tee: 1 | I7: Hora: | J7: 0.55208333
B9: Jugadores
B10: =cuadro!E14 -> 0
G11: JUGADOR GANADOR | J11: RESULTADO
B13: Jugadores
B14: =cuadro!E26 -> 0
C17: Firma:
D21: HOJA RESULTADO DE MATCH
B24: MATCH 6 - SEMIFINALES 2
B26: Fecha: 28 Febrero 2015 | F26: Tee: 1 | I26: Hora: | J26: 0.5625
B28: Jugadores
B29: =cuadro!E38 -> 0
G30: JUGADOR GANADOR | J30: RESULTADO
B32: Jugadores
B33: =cuadro!E50 -> 0
C36: Firma:

Sheet H.M. Final
D2: HOJA RESULTADO DE MATCH
B5: MATCH FINAL
B7: Fecha: 1 Marzo 2015 | F7: Tee: 1 | I7: Hora: | J7: 0.34375
B9: Jugadores
B10: =cuadro!F20 -> 0
G11: JUGADOR GANADOR | J11: RESULTADO
B13: Jugadores
B14: =cuadro!F44 -> 0
C17: Firma:
