Workbook

Sheet DATOS
B1: FEDERACION | C1: FOURSOME | D1: INDIVIDUALES | F1: FEDERACION | G1: FOURSOME | H1: INDIVIDUALES
A2: 1ª | B2: GERMANY | C2: Michael HIRMER | D2: Michael HIRMER | E2: 8ª | F2: SPAIN | G2: Mario GALIANO | H2: Mario GALIANO
C3: Matthias SCHMID | D3: Matthias SCHMID | G3: Victor PASTOR | H3: Victor PASTOR
C4: Raphael GEIßLER | D4: Raphael GEIßLER | G4: Pablo RODRIGUEZ | H4: Victor GARCÍA
C5: Timo VAHLENKAMP | D5: Timo VAHLENKAMP | G5: Victor GARCÍA | H5: Pablo RODRIGUEZ-T
C6: Yannick SCHÜTZ | D6: Yannick SCHÜTZ | G6: Iván CANTERO | H6: Iván CANTERO
C7: Niklas MATTNER | D7: Niklas MATTNER | G7: Xabier GOROSPE | H7: Xabier GOROSPE
B10: FEDERACION | C10: FOURSOME | D10: INDIVIDUALES | F10: FEDERACION | G10: FOURSOME | H10: INDIVIDUALES
A11: 2ª | B11: ENGLAND | C11: Ashton TURNER | D11: Ashton TURNER | E11: 7ª | F11: FINLAND | G11: Sami VÄLIMÄKI | H11: Ilari SAULO
C12: Sean TOWNDROW | D12: Sean TOWNDROW | G12: Ilari SAULO | H12: Sami VÄLIMÄKI
C13: Scott GREGORY | D13: Scott GREGORY | G13: Oliver LINDELL | H13: Oliver LINDELL
C14: Jamie BOWER | D14: Rob BURLISON | G14: Lauri RUUSKA | H14: Tuomas NUKARI
C15: Bobby KEEBLE | D15: Jamie BOWER | G15: Väinö VIITAHARJU | H15: Väinö VIITAHARJU
C16: Rob BURLISON | D16: Bobby KEEBLE | G16: Tuomas NUKARI | H16: Lauri RUUSKA

Sheet A vs B
D8: MATCH
B11: A vs. B
B13: TEE 1
B16: =(DATOS!B2) -> GERMANY | G16: =(DATOS!F2) -> SPAIN
B18: Foursomes A vs B
B20: HORA | C20: Jugador | E20: Puntos | F20: Resultado | G20: Puntos | H20: Jugador
B21: 0.35416667 | C21: =(DATOS!C2) -> Michael HIRMER | H21: =(DATOS!G2) -> Mario GALIANO
C22: =(DATOS!C3) -> Matthias SCHMID | H22: =(DATOS!G3) -> Victor PASTOR
B24: HORA | C24: Jugador | E24: Puntos | F24: Resultado | G24: Puntos | H24: Jugador
B25: 0.35972222 | C25: =(DATOS!C4) -> Raphael GEIßLER | H25: =(DATOS!G4) -> Pablo RODRIGUEZ
C26: =(DATOS!C5) -> Timo VAHLENKAMP | H26: =(DATOS!G5) -> Victor GARCÍA
B28: HORA | C28: Jugador | E28: Puntos | F28: Resultado | G28: Puntos | H28: Jugador
B29: 0.36527778 | C29: =DATOS!$C$6 -> Yannick SCHÜTZ | H29: =DATOS!G6 -> Iván CANTERO
C30: =DATOS!$C$7 -> Niklas MATTNER | H30: =DATOS!G7 -> Xabier GOROSPE
C32: SUMA DE PUNTOS………. | H32: ……….SUMA DE PUNTOS
B34: Individuales A vs. B
B36: HORA | C36: Jugador | E36: Puntos | F36: Resultado | G36: Puntos | H36: Jugador
B37: 0.54166667 | C37: =DATOS!D2 -> Michael HIRMER | H37: =DATOS!H2 -> Mario GALIANO
B38: 0.54722222 | C38: =DATOS!D3 -> Matthias SCHMID | H38: =DATOS!H3 -> Victor PASTOR
B39: 0.55277778 | C39: =DATOS!D4 -> Raphael GEIßLER | H39: =DATOS!H4 -> Victor GARCÍA
B40: 0.55833333 | C40: =DATOS!D5 -> Timo VAHLENKAMP | H40: =DATOS!H5 -> Pablo RODRIGUEZ-T
B41: 0.56388889 | C41: =DATOS!D6 -> Yannick SCHÜTZ | H41: =DATOS!H6 -> Iván CANTERO
B42: 0.56944444 | C42: =DATOS!D7 -> Niklas MATTNER | H42: =DATOS!H7 -> Xabier GOROSPE
C44: SUMA DE PUNTOS……. | H44: ….….SUMA DE PUNTOS
C46: RESULTADO MATCH | H46: RESULTADO MATCH
D53: HOJA RESULTADO DE MATCH
D55: =$B$11 -> A vs. B
B56: FOURSOME 1
B58: Fecha: 21 de Enero 2015 | F58: =$B$13 -> TEE 1 | I58: Hora: | J58: =$B$21 -> 0.35416667
D60: Jugadores
B61: =(DATOS!B2) -> GERMANY | D61: =(DATOS!C2) -> Michael HIRMER
D62: =(DATOS!C3) -> Matthias SCHMID | J62: RESULTADO
D64: Jugadores
B65: =(DATOS!F2) -> SPAIN | D65: =(DATOS!G2) -> Mario GALIANO
D66: =(DATOS!G3) -> Victor PASTOR
C68: Firma:
D72: HOJA RESULTADO DE MATCH
D74: =$B$11 -> A vs. B
B75: FOURSOME 2
B77: =$B$58 -> Fecha: 21 de Enero 2015 | F77: =$B$13 -> TEE 1 | I77: Hora: | J77: =$B$25 -> 0.35972222
D79: Jugadores
B80: =DATOS!$B$2 -> GERMANY | D80: =(DATOS!C4) -> Raphael GEIßLER
D81: =(DATOS!C5) -> Timo VAHLENKAMP | J81: RESULTADO
D83: Jugadores
B84: =DATOS!$F$2 -> SPAIN | D84: =(DATOS!G4) -> Pablo RODRIGUEZ
D85: =(DATOS!G5) -> Victor GARCÍA
C87: Firma:
D90: HOJA RESULTADO DE MATCH
D92: =$B$11 -> A vs. B
B93: FOURSOME 3
B95: =$B$58 -> Fecha: 21 de Enero 2015 | F95: =$B$13 -> TEE 1 | I95: Hora: | J95: =$B$29 -> 0.36527778
D97: Jugadores
B98: =DATOS!$B$2 -> GERMANY | D98: =DATOS!C6 -> Yannick SCHÜTZ
D99: =DATOS!C7 -> Niklas MATTNER | J99: RESULTADO
D101: Jugadores
B102: =DATOS!$F$2 -> SPAIN | D102: =DATOS!G6 -> Iván CANTERO
D103: =DATOS!G7 -> Xabier GOROSPE
C105: Firma:
D110: HOJA RESULTADO DE MATCH
D112: =$B$11 -> A vs. B
B113: INDIVIDUALES 1
B115: =$B$58 -> Fecha: 21 de Enero 2015 | F115: =$B$13 -> TEE 1 | I115: Hora: | J115: =$B$37 -> 0.54166667
D117: Jugador
B118: =DATOS!$B$2 -> GERMANY | D118: =(DATOS!D2) -> Michael HIRMER
J119: RESULTADO
D121: Jugador
B122: =DATOS!$F$2 -> SPAIN | D122: =(DATOS!H2) -> Mario GALIANO
C125: Firma:
D128: HOJA RESULTADO DE MATCH
D130: =$B$11 -> A vs. B
B131: INDIVIDUALES 2
B133: =$B$58 -> Fecha: 21 de Enero 2015 | F133: =$B$13 -> TEE 1 | I133: Hora: | J133: =$B$38 -> 0.54722222
D135: Jugador
B136: =DATOS!$B$2 -> GERMANY | D136: =(DATOS!D3) -> Matthias SCHMID
J137: RESULTADO
D139: Jugador
B140: =DATOS!$F$2 -> SPAIN | D140: =(DATOS!H3) -> Victor PASTOR
C143: Firma:
D146: HOJA RESULTADO DE MATCH
D148: =$B$11 -> A vs. B
B149: INDIVIDUALES 3
B151: =$B$58 -> Fecha: 21 de Enero 2015 | F151: =$B$13 -> TEE 1 | I151: Hora: | J151: =$B$39 -> 0.55277778
D153: Jugador
B154: =DATOS!$B$2 -> GERMANY | D154: =(DATOS!D4) -> Raphael GEIßLER
J155: RESULTADO
D157: Jugador
B158: =DATOS!$F$2 -> SPAIN | D158: =(DATOS!H4) -> Victor GARCÍA
C161: Firma:
D165: HOJA RESULTADO DE MATCH
D167: =$B$11 -> A vs. B
B168: INDIVIDUALES 4
B170: =$B$58 -> Fecha: 21 de Enero 2015 | F170: =$B$13 -> TEE 1 | I170: Hora: | J170: =$B$40 -> 0.55833333
D172: Jugador
B173: =DATOS!$B$2 -> GERMANY | D173: =DATOS!$D$5 -> Timo VAHLENKAMP
J174: RESULTADO
D176: Jugador
B177: =DATOS!$F$2 -> SPAIN | D177: =DATOS!$H$5 -> Pablo RODRIGUEZ-T
C180: Firma:
D183: HOJA RESULTADO DE MATCH
D185: =$B$11 -> A vs. B
...

Sheet C vs.D
D8: MATCH
B11: C vs. D
B13: TEE 1
B16: =DATOS!$B$11 -> ENGLAND | G16: =DATOS!$F$11 -> FINLAND
B18: Foursomes (C vs. D)
B20: HORA | C20: Jugador | E20: Puntos | F20: Resultado | G20: Puntos | H20: Jugador
B21: 0.37083333 | C21: =DATOS!C11 -> Ashton TURNER | H21: =DATOS!G11 -> Sami VÄLIMÄKI
C22: =DATOS!C12 -> Sean TOWNDROW | H22: =DATOS!G12 -> Ilari SAULO
B24: HORA | C24: Jugador | E24: Puntos | F24: Resultado | G24: Puntos | H24: Jugador
B25: 0.37638889 | C25: =DATOS!C13 -> Scott GREGORY | H25: =DATOS!G13 -> Oliver LINDELL
C26: =DATOS!C14 -> Jamie BOWER | H26: =DATOS!G14 -> Lauri RUUSKA
B28: HORA | C28: Jugador | E28: Puntos | F28: Resultado | G28: Puntos | H28: Jugador
B29: 0.38194444 | C29: =DATOS!C15 -> Bobby KEEBLE | H29: =DATOS!G15 -> Väinö VIITAHARJU
C30: =DATOS!C16 -> Rob BURLISON | H30: =DATOS!G16 -> Tuomas NUKARI
C32: SUMA DE PUNTOS………. | H32: ……….SUMA DE PUNTOS
B34: Individuales (C vs.D)
B36: HORA | C36: Jugador | E36: Puntos | F36: Resultado | G36: Puntos | H36: Jugador
B37: 0.575 | C37: =DATOS!D11 -> Ashton TURNER | H37: =DATOS!H11 -> Ilari SAULO
B38: 0.58055556 | C38: =DATOS!D12 -> Sean TOWNDROW | H38: =DATOS!H12 -> Sami VÄLIMÄKI
B39: 0.58611111 | C39: =DATOS!D13 -> Scott GREGORY | H39: =DATOS!H13 -> Oliver LINDELL
B40: 0.59166667 | C40: =DATOS!D14 -> Rob BURLISON | H40: =DATOS!H14 -> Tuomas NUKARI
B41: 0.59722222 | C41: =DATOS!D15 -> Jamie BOWER | H41: =DATOS!H15 -> Väinö VIITAHARJU
B42: 0.60277778 | C42: =DATOS!D16 -> Bobby KEEBLE | H42: =DATOS!H16 -> Lauri RUUSKA
C44: SUMA DE PUNTOS……. | H44: ….….SUMA DE PUNTOS
C46: RESULTADO MATCH | H46: RESULTADO MATCH
D53: HOJA RESULTADO DE MATCH
D59: =$B$11 -> C vs. D
B60: FOURSOME 1
B62: Fecha: 21 de Enero 2015 | F62: =$B$13 -> TEE 1 | I62: Hora: | J62: =$B$21 -> 0.37083333
D64: Jugadores
B65: =DATOS!$B$11 -> ENGLAND | D65: =DATOS!C11 -> Ashton TURNER
D66: =DATOS!C12 -> Sean TOWNDROW | J66: RESULTADO
D68: Jugadores
B69: =DATOS!$F$11 -> FINLAND | D69: =DATOS!G11 -> Sami VÄLIMÄKI
D70: =DATOS!G12 -> Ilari SAULO
C72: Firma:
A78: HOJA RESULTADO DE MATCH
D80: =$B$11 -> C vs. D
B81: FOURSOME 2
B83: =$B$62 -> Fecha: 21 de Enero 2015 | F83: =$B$13 -> TEE 1 | I83: Hora: | J83: =$B$25 -> 0.37638889
D85: Jugadores
B86: =DATOS!$B$11 -> ENGLAND | D86: =DATOS!C13 -> Scott GREGORY
D87: =DATOS!C14 -> Jamie BOWER | J87: RESULTADO
D89: Jugadores
B90: =DATOS!$F$11 -> FINLAND | D90: =DATOS!G13 -> Oliver LINDELL
D91: =DATOS!G14 -> Lauri RUUSKA
C93: Firma:
D97: HOJA RESULTADO DE MATCH
D100: =$B$11 -> C vs. D
B102: FOURSOME 3
B104: =$B$62 -> Fecha: 21 de Enero 2015 | F104: =$B$13 -> TEE 1 | I104: Hora: | J104: =$B$29 -> 0.38194444
D106: Jugadores
B107: =DATOS!$B$11 -> ENGLAND | D107: =DATOS!C15 -> Bobby KEEBLE
D108: =DATOS!C16 -> Rob BURLISON | J108: RESULTADO
D110: Jugadores
B111: =DATOS!$F$11 -> FINLAND | D111: =DATOS!G15 -> Väinö VIITAHARJU
D112: =DATOS!G16 -> Tuomas NUKARI
C114: Firma:
D117: HOJA RESULTADO DE MATCH
D119: =$B$11 -> C vs. D
B120: INDIVIDUALES 1
B122: =$B$62 -> Fecha: 21 de Enero 2015 | F122: =$B$13 -> TEE 1 | I122: Hora: | J122: =$B$37 -> 0.575
D124: Jugador
B125: =DATOS!$B$11 -> ENGLAND | D125: =DATOS!$D$11 -> Ashton TURNER
J126: RESULTADO
D128: Jugador
B129: =DATOS!$F$11 -> FINLAND | D129: =DATOS!$H$11 -> Ilari SAULO
C132: Firma:
D135: HOJA RESULTADO DE MATCH
D136: =$B$11 -> C vs. D
B137: INDIVIDUALES 2
B139: =$B$62 -> Fecha: 21 de Enero 2015 | F139: =$B$13 -> TEE 1 | I139: Hora: | J139: =$B$38 -> 0.58055556
D141: Jugador
B142: =DATOS!$B$11 -> ENGLAND | D142: =DATOS!$D$12 -> Sean TOWNDROW
J143: RESULTADO
D145: Jugador
B146: =DATOS!$F$11 -> FINLAND | D146: =DATOS!$H$12 -> Sami VÄLIMÄKI
C149: Firma:
D151: HOJA RESULTADO DE MATCH
D152: =$B$11 -> C vs. D
B153: INDIVIDUALES 3
B155: =$B$62 -> Fecha: 21 de Enero 2015 | F155: =$B$13 -> TEE 1 | I155: Hora: | J155: =$B$39 -> 0.58611111
D157: Jugador
B158: =DATOS!$B$11 -> ENGLAND | D158: =DATOS!$D$13 -> Scott GREGORY
J159: RESULTADO
D161: Jugador
B162: =DATOS!$F$11 -> FINLAND | D162: =DATOS!$H$13 -> Oliver LINDELL
C165: Firma:
D168: HOJA RESULTADO DE MATCH
D170: =$B$11 -> C vs. D
B171: INDIVIDUALES 4
B173: =$B$62 -> Fecha: 21 de Enero 2015 | F173: =$B$13 -> TEE 1 | I173: Hora: | J173: =$B$40 -> 0.59166667
D175: Jugador
B176: =DATOS!$B$11 -> ENGLAND | D176: =DATOS!$D$14 -> Rob BURLISON
J177: RESULTADO
D179: Jugador
B180: =DATOS!$F$11 -> FINLAND | D180: =DATOS!$H$14 -> Tuomas NUKARI
C183: Firma:
D186: HOJA RESULTADO DE MATCH
D188: =$B$11 -> C vs. D
...

Sheet ENVIO PRENSA
D6: MATCH
B10: A vs. B
B11: ='A vs B'!$B$13 -> TEE 1
B14: =(DATOS!B2) -> GERMANY | G14: =(DATOS!F2) -> SPAIN
B16: FOURSOMES
B18: ='A vs B'!B20 -> HORA | C18: JUGADOR | E18: PUNTOS | F18: RESULTADO | G18: PUNTOS | H18: JUGADOR
B19: ='A vs B'!B21 -> 0.35416667 | C19: =(DATOS!C2) -> Michael HIRMER | E19: 1 | F19: 5/3 | G19: 0 | H19: =(DATOS!G2) -> Mario GALIANO
C20: =(DATOS!C3) -> Matthias SCHMID | H20: =(DATOS!G3) -> Victor PASTOR
B21: ='A vs B'!B25 -> 0.35972222 | C21: =(DATOS!C4) -> Raphael GEIßLER | E21: 1 | F21: 1UP | G21: 0 | H21: =(DATOS!G4) -> Pablo RODRIGUEZ
C22: =(DATOS!C5) -> Timo VAHLENKAMP | H22: =(DATOS!G5) -> Victor GARCÍA
B23: ='A vs B'!B29 -> 0.36527778 | C23: =DATOS!$C$6 -> Yannick SCHÜTZ | E23: 0 | F23: 6/5 | G23: 1 | H23: =DATOS!G6 -> Iván CANTERO
C24: =DATOS!$C$7 -> Niklas MATTNER | H24: =DATOS!G7 -> Xabier GOROSPE
C26: SUMA DE PUNTOS………. | E26: 2 | G26: 1 | H26: ……….SUMA DE PUNTOS
B28: INDIVIDUALES
B30: HORA | C30: JUGADOR | E30: PUNTOS | F30: RESULTADO | G30: PUNTOS | H30: JUGADOR
B31: ='A vs B'!B37 -> 0.54166667 | C31: =DATOS!D2 -> Michael HIRMER | E31: 0 | F31: 3/1 | G31: 1 | H31: =DATOS!H2 -> Mario GALIANO
B32: ='A vs B'!B38 -> 0.54722222 | C32: =DATOS!D3 -> Matthias SCHMID | E32: 0 | F32: 1UP | G32: 1 | H32: =DATOS!H3 -> Victor PASTOR
B33: ='A vs B'!B39 -> 0.55277778 | C33: =DATOS!D4 -> Raphael GEIßLER | E33: 1 | F33: 5/4 | G33: 0 | H33: =DATOS!H4 -> Victor GARCÍA
B34: ='A vs B'!B40 -> 0.55833333 | C34: =DATOS!D5 -> Timo VAHLENKAMP | E34: 0 | F34: 4/2 | G34: 1 | H34: =DATOS!H5 -> Pablo RODRIGUEZ-T
B35: ='A vs B'!B41 -> 0.56388889 | C35: =DATOS!D6 -> Yannick SCHÜTZ | E35: 1 | F35: 2UP | G35: 0 | H35: =DATOS!H6 -> Iván CANTERO
B36: ='A vs B'!B42 -> 0.56944444 | C36: =DATOS!D7 -> Niklas MATTNER | E36: 1/2 | F36: AS | G36: 1/2 | H36: =DATOS!H7 -> Xabier GOROSPE
C38: SUMA DE PUNTOS……. | E38: 2 1/2 | G38: 3 1/2 | H38: ….….SUMA DE PUNTOS
C40: RESULTADO MATCH | E40: 4 1/2 | G40: 4 1/2 | H40: RESULTADO MATCH
D52: MATCH
B55: C vs. D
B57: TEE 1
B60: ENGLAND | G60: =DATOS!$F$11 -> FINLAND
B62: FOURSOMES
B64: HORA | C64: JUGADOR | E64: PUNTOS | F64: RESULTADO | G64: PUNTOS | H64: JUGADOR
B65: ='C vs.D'!B21 -> 0.37083333 | C65: ='C vs.D'!C21 -> Ashton TURNER | E65: 1 | F65: 3/2 | G65: 0 | H65: ='C vs.D'!H21 -> Sami VÄLIMÄKI
C66: ='C vs.D'!C22 -> Sean TOWNDROW | H66: ='C vs.D'!H22 -> Ilari SAULO
B67: ='C vs.D'!B25 -> 0.37638889 | C67: ='C vs.D'!C25 -> Scott GREGORY | E67: 0 | F67: 4/2 | G67: 1 | H67: ='C vs.D'!H25 -> Oliver LINDELL
C68: ='C vs.D'!C26 -> Jamie BOWER | H68: ='C vs.D'!H26 -> Lauri RUUSKA
B69: ='C vs.D'!B29 -> 0.38194444 | C69: ='C vs.D'!C29 -> Bobby KEEBLE | E69: 1 | F69: 1UP | G69: 0 | H69: ='C vs.D'!H29 -> Väinö VIITAHARJU
C70: ='C vs.D'!C30 -> Rob BURLISON | H70: ='C vs.D'!H30 -> Tuomas NUKARI
C72: SUMA DE PUNTOS………. | E72: 2 | G72: 1 | H72: ……….SUMA DE PUNTOS
B74: INDIVIDUALES
B76: HORA | C76: JUGADOR | E76: PUNTOS | F76: RESULTADO | G76: PUNTOS | H76: JUGADOR
B77: ='C vs.D'!B37 -> 0.575 | C77: ='C vs.D'!C37 -> Ashton TURNER | E77: 0 | F77: 4/2 | G77: 1 | H77: ='C vs.D'!H37 -> Ilari SAULO
B78: ='C vs.D'!B38 -> 0.58055556 | C78: ='C vs.D'!C38 -> Sean TOWNDROW | E78: 1 | F78: 1UP | G78: 0 | H78: ='C vs.D'!H38 -> Sami VÄLIMÄKI
B79: ='C vs.D'!B39 -> 0.58611111 | C79: ='C vs.D'!C39 -> Scott GREGORY | E79: 1/2 | F79: AS | G79: 1/2 | H79: ='C vs.D'!H39 -> Oliver LINDELL
B80: ='C vs.D'!B40 -> 0.59166667 | C80: ='C vs.D'!C40 -> Rob BURLISON | E80: 1 | F80: 3/2 | G80: 0 | H80: ='C vs.D'!H40 -> Tuomas NUKARI
B81: ='C vs.D'!B41 -> 0.59722222 | C81: ='C vs.D'!C41 -> Jamie BOWER | E81: 0 | F81: 4/2 | G81: 1 | H81: ='C vs.D'!H41 -> Väinö VIITAHARJU
B82: ='C vs.D'!B42 -> 0.60277778 | C82: ='C vs.D'!C42 -> Bobby KEEBLE | E82: 0 | F82: 5/3 | G82: 1 | H82: ='C vs.D'!H42 -> Lauri RUUSKA
C84: SUMA DE PUNTOS……. | E84: 2 1/2 | G84: 3 1/2 | H84: ….….SUMA DE PUNTOS
C86: RESULTADO MATCH | E86: 4 1/2 | G86: 4 1/2 | H86: RESULTADO MATCH
