Workbook

Sheet DATOS
B1: FEDERACION | C1: FOURSOME | D1: INDIVIDUALES | F1: FEDERACION | G1: FOURSOME | H1: INDIVIDUALES
A2: 1º/2º | B2: ENGLAND | C2: Ashton TURNER | D2: Ashton TURNER | E2: 1º/2º | F2: SPAIN | G2: Iván CANTERO | H2: Xabier GOROSPE
B3: C vs. B | C3: Sean TOWNDROW | D3: Sean TOWNDROW | F3: C vs. B | G3: Xabier GOROSPE | H3: Iván CANTERO
C4: Scott GREGORY | D4: Scott GREGORY | G4: Mario GALIANO | H4: Pablo RODRIGUEZ-T
C5: Jamie BOWER | D5: Rob BURLISON | G5: Pablo RODRIGUEZ-T | H5: Mario GALIANO
C6: Bobby KEEBLE | D6: Jamie BOWER | G6: Victor GARCÍA | H6: Victor PASTOR
C7: Rob BURLISON | D7: Bobby KEEBLE | G7: Victor PASTOR | H7: Victor GARCÍA BROTO
B10: FEDERACION | C10: FOURSOME | D10: INDIVIDUALES | F10: FEDERACION | G10: FOURSOME | H10: INDIVIDUALES
A11: 7º/8º | B11: GERMANY | C11: Raphael GEIßLER | D11: Raphael GEIßLER | E11: 7º/8º | F11: FINLAND | G11: Ilari SAULO | H11: Ilari SAULO
B12: A vs. D | C12: Timo VAHLENKAMP | D12: Timo VAHLENKAMP | F12: A vs. D | G12: Tuomas NUKARI | H12: Tuomas NUKARI
C13: Yannick SCHÜTZ | D13: Niklas MATTNER | G13: Oliver LINDELL | H13: Oliver LINDELL
C14: Niklas MATTNER | D14: Yannick SCHÜTZ | G14: Lauri RUUSKA | H14: Väinö VIITAHARJU
C15: Matthias SCHMID | D15: Matthias SCHMID | G15: Väinö VIITAHARJU | H15: Lauri RUUSKA
C16: Michael HIRMER | D16: Michael HIRMER | G16: Sami VÄLIMÄKI | H16: Sami VÄLIMÄKI

Sheet C vs. B
D8: MATCH
B11: C vs. B
B13: TEE 1
B16: =(DATOS!B2) -> ENGLAND | G16: =(DATOS!F2) -> SPAIN
B18: Foursomes (C vs. B)
B20: HORA | C20: Jugador | E20: Puntos | F20: Resultado | G20: Puntos | H20: Jugador
B21: 0.35416667 | C21: =(DATOS!C2) -> Ashton TURNER | H21: =(DATOS!G2) -> Iván CANTERO
C22: =(DATOS!C3) -> Sean TOWNDROW | H22: =(DATOS!G3) -> Xabier GOROSPE
B24: HORA | C24: Jugador | E24: Puntos | F24: Resultado | G24: Puntos | H24: Jugador
B25: 0.35972222 | C25: =(DATOS!C4) -> Scott GREGORY | H25: =(DATOS!G4) -> Mario GALIANO
C26: =(DATOS!C5) -> Jamie BOWER | H26: =(DATOS!G5) -> Pablo RODRIGUEZ-T
B28: HORA | C28: Jugador | E28: Puntos | F28: Resultado | G28: Puntos | H28: Jugador
B29: 0.36527778 | C29: =DATOS!$C$6 -> Bobby KEEBLE | H29: =DATOS!G6 -> Victor GARCÍA
C30: =DATOS!$C$7 -> Rob BURLISON | H30: =DATOS!G7 -> Victor PASTOR
C32: SUMA DE PUNTOS………. | H32: ……….SUMA DE PUNTOS
B34: Individuales (C vs. B)
B36: HORA | C36: Jugador | E36: Puntos | F36: Resultado | G36: Puntos | H36: Jugador
B37: 0.54166667 | C37: =DATOS!D2 -> Ashton TURNER | H37: =DATOS!H2 -> Xabier GOROSPE
B38: 0.54722222 | C38: =DATOS!D3 -> Sean TOWNDROW | H38: =DATOS!H3 -> Iván CANTERO
B39: 0.55277778 | C39: =DATOS!D4 -> Scott GREGORY | H39: =DATOS!H4 -> Pablo RODRIGUEZ-T
B40: 0.55833333 | C40: =DATOS!D5 -> Rob BURLISON | H40: =DATOS!H5 -> Mario GALIANO
B41: 0.56388889 | C41: =DATOS!D6 -> Jamie BOWER | H41: =DATOS!H6 -> Victor PASTOR
B42: 0.56944444 | C42: =DATOS!D7 -> Bobby KEEBLE | H42: =DATOS!H7 -> Victor GARCÍA BROTO
C44: SUMA DE PUNTOS……. | H44: ….….SUMA DE PUNTOS
C46: RESULTADO MATCH | H46: RESULTADO MATCH
D53: HOJA RESULTADO DE MATCH
B56: FOURSOME 1
B58: Fecha: 23 de Enero 2015 | F58: =$B$13 -> TEE 1 | I58: Hora: | J58: =$B$21 -> 0.35416667
D60: Jugadores
B61: =(DATOS!B2) -> ENGLAND | D61: =(DATOS!C2) -> Ashton TURNER
D62: =(DATOS!C3) -> Sean TOWNDROW | J62: RESULTADO
D64: Jugadores
B65: =(DATOS!F2) -> SPAIN | D65: =(DATOS!G2) -> Iván CANTERO
D66: =(DATOS!G3) -> Xabier GOROSPE
C68: Firma:
D71: HOJA RESULTADO DE MATCH
B74: FOURSOME 2
B76: Fecha: 23 de Enero 2015 | F76: =$B$13 -> TEE 1 | I76: Hora: | J76: =$B$25 -> 0.35972222
D78: Jugadores
B79: =DATOS!$B$2 -> ENGLAND | D79: =(DATOS!C4) -> Scott GREGORY
...

Sheet A vs. D
D8: MATCH
B11: A vs. D
B13: TEE 1
B16: =DATOS!$B$11 -> GERMANY | G16: =DATOS!$F$11 -> FINLAND
B18: Foursomes (A vs D)
B20: HORA | C20: Jugador | E20: Puntos | F20: Resultado | G20: Puntos | H20: Jugador
B21: 0.37083333 | C21: =DATOS!C11 -> Raphael GEIßLER | H21: =DATOS!G11 -> Ilari SAULO
C22: =DATOS!C12 -> Timo VAHLENKAMP | H22: =DATOS!G12 -> Tuomas NUKARI
B24: HORA | C24: Jugador | E24: Puntos | F24: Resultado | G24: Puntos | H24: Jugador
B25: 0.37638889 | C25: =DATOS!C13 -> Yannick SCHÜTZ | H25: =DATOS!G13 -> Oliver LINDELL
C26: =DATOS!C14 -> Niklas MATTNER | H26: =DATOS!G14 -> Lauri RUUSKA
B28: HORA | C28: Jugador | E28: Puntos | F28: Resultado | G28: Puntos | H28: Jugador
B29: 0.38194444 | C29: =DATOS!C15 -> Matthias SCHMID | H29: =DATOS!G15 -> Väinö VIITAHARJU
C30: =DATOS!C16 -> Michael HIRMER | H30: =DATOS!G16 -> Sami VÄLIMÄKI
C32: SUMA DE PUNTOS………. | H32: ……….SUMA DE PUNTOS
B34: Individuales (A vs D)
B36: HORA | C36: Jugador | E36: Puntos | F36: Resultado | G36: Puntos | H36: Jugador
B37: 0.575 | C37: =DATOS!D11 -> Raphael GEIßLER | H37: =DATOS!H11 -> Ilari SAULO
B38: 0.58055556 | C38: =DATOS!D12 -> Timo VAHLENKAMP | H38: =DATOS!H12 -> Tuomas NUKARI
B39: 0.58611111 | C39: =DATOS!D13 -> Niklas MATTNER | H39: =DATOS!H13 -> Oliver LINDELL
B40: 0.59166667 | C40: =DATOS!D14 -> Yannick SCHÜTZ | H40: =DATOS!H14 -> Väinö VIITAHARJU
B41: 0.59722222 | C41: =DATOS!D15 -> Matthias SCHMID | H41: =DATOS!H15 -> Lauri RUUSKA
B42: 0.60277778 | C42: =DATOS!D16 -> Michael HIRMER | H42: =DATOS!H16 -> Sami VÄLIMÄKI
C44: SUMA DE PUNTOS……. | H44: ….….SUMA DE PUNTOS
C46: RESULTADO MATCH | H46: RESULTADO MATCH
D53: HOJA RESULTADO DE MATCH
C55: =$B$11 -> A vs. D
B56: FOURSOME 1
B58: Fecha: 23 de Enero 2015 | F58: =$B$13 -> TEE 1 | I58: Hora: | J58: =$B$21 -> 0.37083333
D60: Jugadores
B61: =DATOS!$B$11 -> GERMANY | D61: =DATOS!C11 -> Raphael GEIßLER
D62: =DATOS!C12 -> Timo VAHLENKAMP | J62: RESULTADO
D64: Jugadores
B65: =DATOS!$F$11 -> FINLAND | D65: =DATOS!G11 -> Ilari SAULO
D66: =DATOS!G12 -> Tuomas NUKARI
C68: Firma:
D71: HOJA RESULTADO DE MATCH
C75: =$B$11 -> A vs. D
B76: FOURSOME 2
B78: =$B$58 -> Fecha: 23 de Enero 2015 | F78: =$B$13 -> TEE 1 | I78: Hora: | J78: =$B$25 -> 0.37638889
...

Sheet ENVIO PRENSA
B8: MATCH
B11: C vs. B
B13: ='C vs. B'!$B$13 -> TEE 1
B16: =(DATOS!B2) -> ENGLAND | G16: =(DATOS!F2) -> SPAIN
B18: FOURSOMES
B20: HORA | C20: JUGADOR | E20: PUNTOS | F20: RESULTADO | G20: PUNTOS | H20: JUGADOR
B21: ='C vs. B'!B21 -> 0.35416667 | C21: =(DATOS!C2) -> Ashton TURNER | E21: 0 | F21: 3/2 | G21: 1 | H21: =(DATOS!G2) -> Iván CANTERO
C22: =(DATOS!C3) -> Sean TOWNDROW | H22: =(DATOS!G3) -> Xabier GOROSPE
B23: ='C vs. B'!B25 -> 0.35972222 | C23: =(DATOS!C4) -> Scott GREGORY | E23: 0 | F23: 4/2 | G23: 1 | H23: =(DATOS!G4) -> Mario GALIANO
C24: =(DATOS!C5) -> Jamie BOWER | H24: =(DATOS!G5) -> Pablo RODRIGUEZ-T
B25: ='C vs. B'!B29 -> 0.36527778 | C25: =DATOS!$C$6 -> Bobby KEEBLE | E25: 0 | F25: 3/2 | G25: 1 | H25: =DATOS!G6 -> Victor GARCÍA
C26: =DATOS!$C$7 -> Rob BURLISON | H26: =DATOS!G7 -> Victor PASTOR
C28: SUMA DE PUNTOS………. | E28: 0 | G28: 3 | H28: ……….SUMA DE PUNTOS
B30: INDIVIDUALES
B32: HORA | C32: JUGADOR | E32: PUNTOS | F32: RESULTADO | G32: PUNTOS | H32: JUGADOR
B33: ='C vs. B'!B37 -> 0.54166667 | C33: =DATOS!D2 -> Ashton TURNER | E33: 1 | F33: 1UP | G33: 0 | H33: =DATOS!H2 -> Xabier GOROSPE
B34: ='C vs. B'!B38 -> 0.54722222 | C34: =DATOS!D3 -> Sean TOWNDROW | E34: 1 | F34: 2/1 | G34: 0 | H34: =DATOS!H3 -> Iván CANTERO
B35: ='C vs. B'!B39 -> 0.55277778 | C35: =DATOS!D4 -> Scott GREGORY | E35: 1 | F35: 3/2 | G35: 0 | H35: =DATOS!H4 -> Pablo RODRIGUEZ-T
B36: ='C vs. B'!B40 -> 0.55833333 | C36: =DATOS!D5 -> Rob BURLISON | E36: 0 | F36: 2/1 | G36: 1 | H36: =DATOS!H5 -> Mario GALIANO
B37: ='C vs. B'!B41 -> 0.56388889 | C37: =DATOS!D6 -> Jamie BOWER | E37: 0 | F37: 4/2 | G37: 1 | H37: =DATOS!H6 -> Victor PASTOR
B38: ='C vs. B'!B42 -> 0.56944444 | C38: =DATOS!D7 -> Bobby KEEBLE | E38: 0 | F38: 7/6 | G38: 1 | H38: =DATOS!H7 -> Victor GARCÍA BROTO
C40: SUMA DE PUNTOS……. | E40: 3 | G40: 3 | H40: ….….SUMA DE PUNTOS
C42: RESULTADO MATCH | E42: 3 | G42: 6 | H42: RESULTADO MATCH
B49: MATCH
B52: A vs. D
B54: TEE 1
B57: =DATOS!$B$11 -> GERMANY | G57: =DATOS!$F$11 -> FINLAND
B59: FOURSOMES
B61: HORA | C61: JUGADOR | E61: PUNTOS | F61: RESULTADO | G61: PUNTOS | H61: JUGADOR
B62: ='A vs. D'!B21 -> 0.37083333 | C62: ='A vs. D'!C21 -> Raphael GEIßLER | E62: 0 | F62: 3/2 | G62: 1 | H62: ='A vs. D'!H21 -> Ilari SAULO
C63: ='A vs. D'!C22 -> Timo VAHLENKAMP | H63: ='A vs. D'!H22 -> Tuomas NUKARI
B64: ='A vs. D'!B25 -> 0.37638889 | C64: ='A vs. D'!C25 -> Yannick SCHÜTZ | E64: 1/2 | F64: AS | G64: 1/2 | H64: ='A vs. D'!H25 -> Oliver LINDELL
C65: ='A vs. D'!C26 -> Niklas MATTNER | H65: ='A vs. D'!H26 -> Lauri RUUSKA
B66: ='A vs. D'!B29 -> 0.38194444 | C66: ='A vs. D'!C29 -> Matthias SCHMID | E66: 1/2 | F66: AS | G66: 1/2 | H66: ='A vs. D'!H29 -> Väinö VIITAHARJU
C67: ='A vs. D'!C30 -> Michael HIRMER | H67: ='A vs. D'!H30 -> Sami VÄLIMÄKI
C69: SUMA DE PUNTOS………. | E69: 1 | G69: 2 | H69: ……….SUMA DE PUNTOS
B71: INDIVIDUALES
B73: HORA | C73: JUGADOR | E73: PUNTOS | F73: RESULTADO | G73: PUNTOS | H73: JUGADOR
B74: ='A vs. D'!B37 -> 0.575 | C74: ='A vs. D'!C37 -> Raphael GEIßLER | E74: 1 | F74: 2UP | G74: 0 | H74: ='A vs. D'!H37 -> Ilari SAULO
B75: ='A vs. D'!B38 -> 0.58055556 | C75: ='A vs. D'!C38 -> Timo VAHLENKAMP | E75: 0 | F75: 1UP | G75: 1 | H75: ='A vs. D'!H38 -> Tuomas NUKARI
...
