Workbook

Sheet DATOS
B1: FEDERACION | C1: FOURSOME | D1: INDIVIDUALES | F1: FEDERACION | G1: FOURSOME | H1: INDIVIDUALES
A2: 1ª | B2: FEDERACION 1 | C2: FOURSOME 11A | D2: INDIVIDUAL 1A | E2: 8ª | F2: FEDERACION 8 | G2: FOURSOME 81A | H2: INDIVIDUAL 8A
C3: FOURSOME 11B | D3: INDIVIDUAL 1B | G3: FOURSOME 81B | H3: INDIVIDUAL 8B
C4: FOURSOME 12A | D4: INDIVIDUAL 1C | G4: FOURSOME 82A | H4: INDIVIDUAL 8C
C5: FOURSOME 12B | D5: INDIVIDUAL 1D | G5: FOURSOME 82B | H5: INDIVIDUAL 8D
C6: FOURSOME 13A | D6: INDIVIDUAL 1E | G6: FOURSOME 83A | H6: INDIVIDUAL 8E
C7: FOURSOME 13B | D7: INDIVIDUAL 1F | G7: FOURSOME 83B | H7: INDIVIDUAL 8F
B10: FEDERACION | C10: FOURSOME | D10: INDIVIDUALES | F10: FEDERACION | G10: FOURSOME | H10: INDIVIDUALES
A11: 2ª | B11: FEDERACION 2 | C11: FOURSOME 21A | D11: INDIVIDUAL 2A | E11: 7ª | F11: FEDERACION 7 | G11: FOURSOME 71A | H11: INDIVIDUAL 7A
C12: FOURSOME 21B | D12: INDIVIDUAL 2B | G12: FOURSOME 71B | H12: INDIVIDUAL 7B
C13: FOURSOME 22A | D13: INDIVIDUAL 2C | G13: FOURSOME 72A | H13: INDIVIDUAL 7C
C14: FOURSOME 22B | D14: INDIVIDUAL 2D | G14: FOURSOME 72B | H14: INDIVIDUAL 7D
C15: FOURSOME 23A | D15: INDIVIDUAL 2E | G15: FOURSOME 73A | H15: INDIVIDUAL 7E
C16: FOURSOME 23B | D16: INDIVIDUAL 2F | G16: FOURSOME 73B | H16: INDIVIDUAL 7F
B19: FEDERACION | C19: FOURSOME | D19: INDIVIDUALES | F19: FEDERACION | G19: FOURSOME | H19: INDIVIDUALES
A20: 3ª | B20: FEDERACION 3 | C20: FOURSOME 31A | D20: INDIVIDUAL 3A | E20: 6ª | F20: FEDERACION 6 | G20: FOURSOME 61A | H20: INDIVIDUAL 6A
C21: FOURSOME 31B | D21: INDIVIDUAL 3B | G21: FOURSOME 61B | H21: INDIVIDUAL 6B
C22: FOURSOME 32A | D22: INDIVIDUAL 3C | G22: FOURSOME 62A | H22: INDIVIDUAL 6C
C23: FOURSOME 32B | D23: INDIVIDUAL 3D | G23: FOURSOME 62B | H23: INDIVIDUAL 6D
C24: FOURSOME 33A | D24: INDIVIDUAL 3E | G24: FOURSOME 63A | H24: INDIVIDUAL 6E
C25: FOURSOME 33B | D25: INDIVIDUAL 3F | G25: FOURSOME 63B | H25: INDIVIDUAL 6F
B28: FEDERACION | C28: FOURSOME | D28: INDIVIDUALES | F28: FEDERACION | G28: FOURSOME | H28: INDIVIDUALES
A29: 4ª | B29: FEDERACION 4 | C29: FOURSOME 41A | D29: INDIVIDUAL 4A | E29: 5ª | F29: FEDERACION 5 | G29: FOURSOME 51A | H29: INDIVIDUAL 5A
C30: FOURSOME 41B | D30: INDIVIDUAL 4B | G30: FOURSOME 51B | H30: INDIVIDUAL 5B
C31: FOURSOME 42A | D31: INDIVIDUAL 4C | G31: FOURSOME 52A | H31: INDIVIDUAL 5C
C32: FOURSOME 42B | D32: INDIVIDUAL 4D | G32: FOURSOME 52B | H32: INDIVIDUAL 5D
C33: FOURSOME 43A | D33: INDIVIDUAL 4E | G33: FOURSOME 53A | H33: INDIVIDUAL 5E
C34: FOURSOME 43B | D34: INDIVIDUAL 4F | G34: FOURSOME 53B | H34: INDIVIDUAL 5F

Sheet 1VS8
D8: MATCH
B11: ELIMINATORIAS ¼ FINAL (1º vs 8º)
B13: TEE 1
B16: =(DATOS!B2) -> FEDERACION 1 | G16: =(DATOS!F2) -> FEDERACION 8
B18: Foursomes (1º vs 8º)
B20: HORA | C20: Jugador | E20: Puntos | F20: Resultado | G20: Puntos | H20: Jugador
B21: 0.35416667 | C21: =(DATOS!C2) -> FOURSOME 11A | H21: =(DATOS!G2) -> FOURSOME 81A
C22: =(DATOS!C3) -> FOURSOME 11B | H22: =(DATOS!G3) -> FOURSOME 81B
B24: HORA | C24: Jugador | E24: Puntos | F24: Resultado | G24: Puntos | H24: Jugador
B25: 0.35972222 | C25: =(DATOS!C4) -> FOURSOME 12A | H25: =(DATOS!G4) -> FOURSOME 82A
C26: =(DATOS!C5) -> FOURSOME 12B | H26: =(DATOS!G5) -> FOURSOME 82B
B28: HORA | C28: Jugador | E28: Puntos | F28: Resultado | G28: Puntos | H28: Jugador
B29: 0.36527778 | C29: =DATOS!$C$6 -> FOURSOME 13A | H29: =DATOS!G6 -> FOURSOME 83A
C30: =DATOS!$C$7 -> FOURSOME 13B | H30: =DATOS!G7 -> FOURSOME 83B
C32: SUMA DE PUNTOS………. | H32: ……….SUMA DE PUNTOS
B34: Individuales (1º vs 8º)
B36: HORA | C36: Jugador | E36: Puntos | F36: Resultado | G36: Puntos | H36: Jugador
B37: 0.54861111 | C37: =DATOS!D2 -> INDIVIDUAL 1A | H37: =DATOS!H2 -> INDIVIDUAL 8A
B38: 0.55416667 | C38: =DATOS!D3 -> INDIVIDUAL 1B | H38: =DATOS!H3 -> INDIVIDUAL 8B
B39: 0.55972222 | C39: =DATOS!D4 -> INDIVIDUAL 1C | H39: =DATOS!H4 -> INDIVIDUAL 8C
B40: 0.56527778 | C40: =DATOS!D5 -> INDIVIDUAL 1D | H40: =DATOS!H5 -> INDIVIDUAL 8D
B41: 0.57083333 | C41: =DATOS!D6 -> INDIVIDUAL 1E | H41: =DATOS!H6 -> INDIVIDUAL 8E
B42: 0.57638889 | C42: =DATOS!D7 -> INDIVIDUAL 1F | H42: =DATOS!H7 -> INDIVIDUAL 8F
C44: SUMA DE PUNTOS……. | H44: ….….SUMA DE PUNTOS
C46: RESULTADO MATCH | H46: RESULTADO MATCH
B51: Fecha………………… 3 del octubre de 2013
D54: HOJA RESULTADO DE MATCH
D56: =$B$11 -> ELIMINATORIAS ¼ FINAL (1º vs 8º)
B57: FOURSOME 1
B59: Fecha: 3 de octubre | F59: =$B$13 -> TEE 1 | I59: Hora: | J59: =$B$21 -> 0.35416667
B61: TERRITORIAL | D61: Jugadores
B62: =(DATOS!B2) -> FEDERACION 1 | D62: =(DATOS!C2) -> FOURSOME 11A
D63: =(DATOS!C3) -> FOURSOME 11B | G63: TERRITORIAL GANADORA | J63: RESULTADO
B65: TERRITORIAL | D65: Jugadores
B66: =(DATOS!F2) -> FEDERACION 8 | D66: =(DATOS!G2) -> FOURSOME 81A
D67: =(DATOS!G3) -> FOURSOME 81B
C69: Firma:
D72: HOJA RESULTADO DE MATCH
D74: =$B$11 -> ELIMINATORIAS ¼ FINAL (1º vs 8º)
B75: FOURSOME 2
...

Sheet 2VS7
D8: MATCH
B11: ELIMINATORIAS ¼ FINAL (2º vs 7º)
B13: TEE 1
B16: =DATOS!$B$11 -> FEDERACION 2 | G16: =DATOS!$F$11 -> FEDERACION 7
B18: Foursomes (2º vs 7º)
B20: HORA | C20: Jugador | E20: Puntos | F20: Resultado | G20: Puntos | H20: Jugador
B21: 0.37083333 | C21: =DATOS!C11 -> FOURSOME 21A | H21: =DATOS!G11 -> FOURSOME 71A
C22: =DATOS!C12 -> FOURSOME 21B | H22: =DATOS!G12 -> FOURSOME 71B
B24: HORA | C24: Jugador | E24: Puntos | F24: Resultado | G24: Puntos | H24: Jugador
B25: 0.37638889 | C25: =DATOS!C13 -> FOURSOME 22A | H25: =DATOS!G13 -> FOURSOME 72A
C26: =DATOS!C14 -> FOURSOME 22B | H26: =DATOS!G14 -> FOURSOME 72B
B28: HORA | C28: Jugador | E28: Puntos | F28: Resultado | G28: Puntos | H28: Jugador
B29: 0.38194444 | C29: =DATOS!C15 -> FOURSOME 23A | H29: =DATOS!G15 -> FOURSOME 73A
C30: =DATOS!C16 -> FOURSOME 23B | H30: =DATOS!G16 -> FOURSOME 73B
C32: SUMA DE PUNTOS………. | H32: ……….SUMA DE PUNTOS
B34: Individuales (2º vs 7º)
B36: HORA | C36: Jugador | E36: Puntos | F36: Resultado | G36: Puntos | H36: Jugador
B37: 0.58194444 | C37: =DATOS!D11 -> INDIVIDUAL 2A | H37: =DATOS!H11 -> INDIVIDUAL 7A
B38: 0.5875 | C38: =DATOS!D12 -> INDIVIDUAL 2B | H38: =DATOS!H12 -> INDIVIDUAL 7B
B39: 0.59305556 | C39: =DATOS!D13 -> INDIVIDUAL 2C | H39: =DATOS!H13 -> INDIVIDUAL 7C
B40: 0.59861111 | C40: =DATOS!D14 -> INDIVIDUAL 2D | H40: =DATOS!H14 -> INDIVIDUAL 7D
B41: 0.60416667 | C41: =DATOS!D15 -> INDIVIDUAL 2E | H41: =DATOS!H15 -> INDIVIDUAL 7E
B42: 0.60972222 | C42: =DATOS!D16 -> INDIVIDUAL 2F | H42: =DATOS!H16 -> INDIVIDUAL 7F
C44: SUMA DE PUNTOS……. | H44: ….….SUMA DE PUNTOS
C46: RESULTADO MATCH | H46: RESULTADO MATCH
B51: Fecha………………… 3 del octubre de 2013
D53: HOJA RESULTADO DE MATCH
D59: =$B$11 -> ELIMINATORIAS ¼ FINAL (2º vs 7º)
B60: FOURSOME 1
B62: Fecha: 3 de octubre | F62: =$B$13 -> TEE 1 | I62: Hora: | J62: =$B$21 -> 0.37083333
B64: TERRITORIAL | D64: Jugadores
B65: =DATOS!$B$11 -> FEDERACION 2 | D65: =DATOS!C11 -> FOURSOME 21A
D66: =DATOS!C12 -> FOURSOME 21B | G66: TERRITORIAL GANADORA | J66: RESULTADO
B68: TERRITORIAL | D68: Jugadores
B69: =DATOS!$F$11 -> FEDERACION 7 | D69: =DATOS!G11 -> FOURSOME 71A
D70: =DATOS!G12 -> FOURSOME 71B
C72: Firma:
D77: HOJA RESULTADO DE MATCH
D78: =$B$11 -> ELIMINATORIAS ¼ FINAL (2º vs 7º)
B79: FOURSOME 2
...

Sheet 3VS6
D8: MATCH
C11: ELIMINATORIAS ¼ FINAL (3º vs 6º)
B13: TEE 10
B16: =DATOS!$B$20 -> FEDERACION 3 | G16: =DATOS!$F$20 -> FEDERACION 6
B18: Foursomes (3º vs 6º)
B20: HORA | C20: Jugador | E20: Puntos | F20: Resultado | G20: Puntos | H20: Jugador
B21: 0.35416667 | C21: =DATOS!C20 -> FOURSOME 31A | H21: =DATOS!G20 -> FOURSOME 61A
C22: =DATOS!C21 -> FOURSOME 31B | H22: =DATOS!G21 -> FOURSOME 61B
B24: HORA | C24: Jugador | E24: Puntos | F24: Resultado | G24: Puntos | H24: Jugador
B25: 0.35972222 | C25: =DATOS!C22 -> FOURSOME 32A | H25: =DATOS!G22 -> FOURSOME 62A
C26: =DATOS!C23 -> FOURSOME 32B | H26: =DATOS!G23 -> FOURSOME 62B
B28: HORA | C28: Jugador | E28: Puntos | F28: Resultado | G28: Puntos | H28: Jugador
B29: 0.36527778 | C29: =DATOS!C24 -> FOURSOME 33A | H29: =DATOS!G24 -> FOURSOME 63A
C30: =DATOS!C25 -> FOURSOME 33B | H30: =DATOS!G25 -> FOURSOME 63B
C32: SUMA DE PUNTOS………. | H32: ……….SUMA DE PUNTOS
B34: Individuales (3º vs 6º)
B36: HORA | C36: Jugador | E36: Puntos | F36: Resultado | G36: Puntos | H36: Jugador
B37: 0.54861111 | C37: =DATOS!D20 -> INDIVIDUAL 3A | H37: =DATOS!H20 -> INDIVIDUAL 6A
B38: 0.55416667 | C38: =DATOS!D21 -> INDIVIDUAL 3B | H38: =DATOS!H21 -> INDIVIDUAL 6B
B39: 0.55972222 | C39: =DATOS!D22 -> INDIVIDUAL 3C | H39: =DATOS!H22 -> INDIVIDUAL 6C
B40: 0.56527778 | C40: =DATOS!D23 -> INDIVIDUAL 3D | H40: =DATOS!H23 -> INDIVIDUAL 6D
B41: 0.57083333 | C41: =DATOS!D24 -> INDIVIDUAL 3E | H41: =DATOS!H24 -> INDIVIDUAL 6E
B42: 0.57638889 | C42: =DATOS!D25 -> INDIVIDUAL 3F | H42: =DATOS!H25 -> INDIVIDUAL 6F
C44: SUMA DE PUNTOS……. | H44: ….….SUMA DE PUNTOS
C46: RESULTADO MATCH | H46: RESULTADO MATCH
B51: Fecha………………… 3 del octubre de 2013
D58: HOJA RESULTADO DE MATCH
D62: =$C$11 -> ELIMINATORIAS ¼ FINAL (3º vs 6º)
B63: FOURSOME 1
B65: Fecha: 3 de octubre | F65: =$B$13 -> TEE 10 | I65: Hora: | J65: =$B$21 -> 0.35416667
B67: TERRITORIAL | D67: Jugadores
B68: =DATOS!$B$20 -> FEDERACION 3 | D68: =DATOS!C20 -> FOURSOME 31A
D69: =DATOS!C21 -> FOURSOME 31B | G69: TERRITORIAL GANADORA | J69: RESULTADO
B71: TERRITORIAL | D71: Jugadores
B72: =DATOS!$F$20 -> FEDERACION 6 | D72: =DATOS!G20 -> FOURSOME 61A
D73: =DATOS!G21 -> FOURSOME 61B
C75: Firma:
D79: HOJA RESULTADO DE MATCH
D82: =$C$11 -> ELIMINATORIAS ¼ FINAL (3º vs 6º)
B83: FOURSOME 2
...

Sheet 4VS5
B8: MATCH
B11: ELIMINATORIAS ¼ FINAL (4º vs 5º)
B13: TEE 10
B16: =DATOS!$B$29 -> FEDERACION 4 | G16: =DATOS!$F$29 -> FEDERACION 5
B18: Foursomes (4º vs 5º)
B20: HORA | C20: Jugador | E20: Puntos | F20: Resultado | G20: Puntos | H20: Jugador
B21: 0.37083333 | C21: =DATOS!C29 -> FOURSOME 41A | H21: =DATOS!G29 -> FOURSOME 51A
C22: =DATOS!C30 -> FOURSOME 41B | H22: =DATOS!G30 -> FOURSOME 51B
B24: HORA | C24: Jugador | E24: Puntos | F24: Resultado | G24: Puntos | H24: Jugador
B25: 0.37638889 | C25: =DATOS!C31 -> FOURSOME 42A | H25: =DATOS!G31 -> FOURSOME 52A
C26: =DATOS!C32 -> FOURSOME 42B | H26: =DATOS!G32 -> FOURSOME 52B
B28: HORA | C28: Jugador | E28: Puntos | F28: Resultado | G28: Puntos | H28: Jugador
B29: 0.38194444 | C29: =DATOS!C33 -> FOURSOME 43A | H29: =DATOS!G33 -> FOURSOME 53A
C30: =DATOS!C34 -> FOURSOME 43B | H30: =DATOS!G34 -> FOURSOME 53B
C32: SUMA DE PUNTOS………. | H32: ……….SUMA DE PUNTOS
B34: Individuales (4º vs 5º)
B36: HORA | C36: Jugador | E36: Puntos | F36: Resultado | G36: Puntos | H36: Jugador
B37: 0.58194444 | C37: =DATOS!D29 -> INDIVIDUAL 4A | H37: =DATOS!H29 -> INDIVIDUAL 5A
B38: 0.5875 | C38: =DATOS!D30 -> INDIVIDUAL 4B | H38: =DATOS!H30 -> INDIVIDUAL 5B
B39: 0.59305556 | C39: =DATOS!D31 -> INDIVIDUAL 4C | H39: =DATOS!H31 -> INDIVIDUAL 5C
B40: 0.59861111 | C40: =DATOS!D32 -> INDIVIDUAL 4D | H40: =DATOS!H32 -> INDIVIDUAL 5D
B41: 0.60416667 | C41: =DATOS!D33 -> INDIVIDUAL 4E | H41: =DATOS!H33 -> INDIVIDUAL 5E
B42: 0.60972222 | C42: =DATOS!D34 -> INDIVIDUAL 4F | H42: =DATOS!H34 -> INDIVIDUAL 5F
C44: SUMA DE PUNTOS……. | H44: ….….SUMA DE PUNTOS
C46: RESULTADO MATCH | H46: RESULTADO MATCH
B51: Fecha………………… 3 del octubre de 2013
D53: HOJA RESULTADO DE MATCH
D55: =$B$11 -> ELIMINATORIAS ¼ FINAL (4º vs 5º)
B56: FOURSOME 1
B58: Fecha: 3 de octubre | F58: =$B$13 -> TEE 10 | I58: Hora: | J58: =$B$21 -> 0.37083333
B60: TERRITORIAL | D60: Jugadores
B61: =DATOS!$B$29 -> FEDERACION 4 | D61: =DATOS!C29 -> FOURSOME 41A
D62: =DATOS!C30 -> FOURSOME 41B | G62: TERRITORIAL GANADORA | J62: RESULTADO
B64: TERRITORIAL | D64: Jugadores
B65: =DATOS!$F$29 -> FEDERACION 5 | D65: =DATOS!G29 -> FOURSOME 51A
D66: =DATOS!G30 -> FOURSOME 51B
C68: Firma:
D71: HOJA RESULTADO DE MATCH
D73: =$B$11 -> ELIMINATORIAS ¼ FINAL (4º vs 5º)
B74: FOURSOME 2
...

Sheet ENVIO PRENSA
D6: MATCH
B9: ELIMINATORIAS ¼ FINAL (1º vs 8º)
B11: ='1VS8'!$B$13 -> TEE 1
B14: =(DATOS!B2) -> FEDERACION 1 | G14: =(DATOS!F2) -> FEDERACION 8
B16: FOURSOMES
B18: ='1VS8'!B20 -> HORA | C18: JUGADOR | E18: PUNTOS | F18: RESULTADO | G18: PUNTOS | H18: JUGADOR
B19: ='1VS8'!B21 -> 0.35416667 | C19: =(DATOS!C2) -> FOURSOME 11A | H19: =(DATOS!G2) -> FOURSOME 81A
C20: =(DATOS!C3) -> FOURSOME 11B | H20: =(DATOS!G3) -> FOURSOME 81B
B21: ='1VS8'!B25 -> 0.35972222 | C21: =(DATOS!C4) -> FOURSOME 12A | H21: =(DATOS!G4) -> FOURSOME 82A
C22: =(DATOS!C5) -> FOURSOME 12B | H22: =(DATOS!G5) -> FOURSOME 82B
B23: ='1VS8'!B29 -> 0.36527778 | C23: =DATOS!$C$6 -> FOURSOME 13A | H23: =DATOS!G6 -> FOURSOME 83A
C24: =DATOS!$C$7 -> FOURSOME 13B | H24: =DATOS!G7 -> FOURSOME 83B
C26: SUMA DE PUNTOS………. | H26: ……….SUMA DE PUNTOS
B28: INDIVIDUALES
B30: HORA | C30: JUGADOR | E30: PUNTOS | F30: RESULTADO | G30: PUNTOS | H30: JUGADOR
B31: ='1VS8'!B37 -> 0.54861111 | C31: =DATOS!D2 -> INDIVIDUAL 1A | H31: =DATOS!H2 -> INDIVIDUAL 8A
B32: ='1VS8'!B38 -> 0.55416667 | C32: =DATOS!D3 -> INDIVIDUAL 1B | H32: =DATOS!H3 -> INDIVIDUAL 8B
B33: ='1VS8'!B39 -> 0.55972222 | C33: =DATOS!D4 -> INDIVIDUAL 1C | H33: =DATOS!H4 -> INDIVIDUAL 8C
B34: ='1VS8'!B40 -> 0.56527778 | C34: =DATOS!D5 -> INDIVIDUAL 1D | H34: =DATOS!H5 -> INDIVIDUAL 8D
B35: ='1VS8'!B41 -> 0.57083333 | C35: =DATOS!D6 -> INDIVIDUAL 1E | H35: =DATOS!H6 -> INDIVIDUAL 8E
B36: ='1VS8'!B42 -> 0.57638889 | C36: =DATOS!D7 -> INDIVIDUAL 1F | H36: =DATOS!H7 -> INDIVIDUAL 8F
C38: SUMA DE PUNTOS……. | H38: ….….SUMA DE PUNTOS
C40: RESULTADO MATCH | H40: RESULTADO MATCH
D52: MATCH
B55: ELIMINATORIAS ¼ FINAL (2º vs 7º)
B57: TEE 1
B60: =(DATOS!F2) -> FEDERACION 8 | G60: =DATOS!$F$11 -> FEDERACION 7
B62: FOURSOMES
B64: HORA | C64: JUGADOR | E64: PUNTOS | F64: RESULTADO | G64: PUNTOS | H64: JUGADOR
B65: ='2VS7'!B21 -> 0.37083333 | C65: ='2VS7'!C21 -> FOURSOME 21A | H65: ='2VS7'!H21 -> FOURSOME 71A
C66: ='2VS7'!C22 -> FOURSOME 21B | H66: ='2VS7'!H22 -> FOURSOME 71B
B67: ='2VS7'!B25 -> 0.37638889 | C67: ='2VS7'!C25 -> FOURSOME 22A | H67: ='2VS7'!H25 -> FOURSOME 72A
C68: ='2VS7'!C26 -> FOURSOME 22B | H68: ='2VS7'!H26 -> FOURSOME 72B
B69: ='2VS7'!B29 -> 0.38194444 | C69: ='2VS7'!C29 -> FOURSOME 23A | H69: ='2VS7'!H29 -> FOURSOME 73A
C70: ='2VS7'!C30 -> FOURSOME 23B | H70: ='2VS7'!H30 -> FOURSOME 73B
C72: SUMA DE PUNTOS………. | H72: ……….SUMA DE PUNTOS
B74: INDIVIDUALES
B76: HORA | C76: JUGADOR | E76: PUNTOS | F76: RESULTADO | G76: PUNTOS | H76: JUGADOR
B77: ='2VS7'!B37 -> 0.58194444 | C77: ='2VS7'!C37 -> INDIVIDUAL 2A | H77: ='2VS7'!H37 -> INDIVIDUAL 7A
B78: ='2VS7'!B38 -> 0.5875 | C78: ='2VS7'!C38 -> INDIVIDUAL 2B | H78: ='2VS7'!H38 -> INDIVIDUAL 7B
...

Sheet CUADRO
B1: 1ª JORNADA | C1: 2ª JORNADA | D1: 3ª JORNADA | E1: CLASIFICACIÓN FINAL
A3: 1 | B3: =(DATOS!B2) -> FEDERACION 1
A5: 8 | B5: =(DATOS!F2) -> FEDERACION 8
A7: 4 | B7: =(DATOS!B29) -> FEDERACION 4
A9: 5 | B9: =(DATOS!F29) -> FEDERACION 5
A11: 3 | B11: =(DATOS!B20) -> FEDERACION 3 | E11: Campeón
A13: 6 | B13: =(DATOS!F20) -> FEDERACION 6
A15: 2 | B15: =(DATOS!B11) -> FEDERACION 2 | E15: Subcampeón
A17: 7 | B17: =(DATOS!F11) -> FEDERACION 7
C19: 3er y 4º PUESTO
E24: 3er Puesto
E27: 4º Puesto
C29: 5º A 8º PUESTO
E37: 5º Puesto
E41: 6º Puesto
C45: 7º Y 8º PUESTO
E49: 7º Puesto
E52: 8º Puesto
