Workbook

Sheet DATOS
B1: FEDERACION | C1: FOURSOME | D1: INDIVIDUALES | F1: FEDERACION | G1: FOURSOME | H1: INDIVIDUALES
A2: 1ª | B2: FEDERACION 1 | C2: FOURSOME 11A | D2: INDIVIDUAL 1A | E2: 8ª | F2: FEDERACION 8 | G2: FOURSOME 81A | H2: INDIVIDUAL 8A
C3: FOURSOME 11B | D3: INDIVIDUAL 1B | G3: FOURSOME 81B | H3: INDIVIDUAL 8B
C4: FOURSOME 12A | D4: INDIVIDUAL 1C | G4: FOURSOME 82A | H4: INDIVIDUAL 8C
C5: FOURSOME 12B | D5: INDIVIDUAL 1D | G5: FOURSOME 82B | H5: INDIVIDUAL 8D
C6: FOURSOME 13A | D6: INDIVIDUAL 1E | G6: FOURSOME 83A | H6: INDIVIDUAL 8E
C7: FOURSOME 13B | D7: INDIVIDUAL 1F | G7: FOURSOME 83B | H7: INDIVIDUAL 8F
B10: FEDERACION | C10: FOURSOME | D10: INDIVIDUALES | F10: FEDERACION | G10: FOURSOME | H10: INDIVIDUALES
A11: 2ª | B11: FEDERACION 2 | C11: FOURSOME 21A | D11: INDIVIDUAL 2A | E11: 7ª | F11: FEDERACION 7 | G11: FOURSOME 71A | H11: INDIVIDUAL 7A
C12: FOURSOME 21B | D12: INDIVIDUAL 2B | G12: FOURSOME 71B | H12: INDIVIDUAL 7B
C13: FOURSOME 22A | D13: INDIVIDUAL 2C | G13: FOURSOME 72A | H13: INDIVIDUAL 7C
C14: FOURSOME 22B | D14: INDIVIDUAL 2D | G14: FOURSOME 72B | H14: INDIVIDUAL 7D
C15: FOURSOME 23A | D15: INDIVIDUAL 2E | G15: FOURSOME 73A | H15: INDIVIDUAL 7E
C16: FOURSOME 23B | D16: INDIVIDUAL 2F | G16: FOURSOME 73B | H16: INDIVIDUAL 7F
B19: FEDERACION | C19: FOURSOME | D19: INDIVIDUALES | F19: FEDERACION | G19: FOURSOME | H19: INDIVIDUALES
A20: 3ª | B20: FEDERACION 3 | C20: FOURSOME 31A | D20: INDIVIDUAL 3A | E20: 6ª | F20: FEDERACION 6 | G20: FOURSOME 61A | H20: INDIVIDUAL 6A
C21: FOURSOME 31B | D21: INDIVIDUAL 3B | G21: FOURSOME 61B | H21: INDIVIDUAL 6B
C22: FOURSOME 32A | D22: INDIVIDUAL 3C | G22: FOURSOME 62A | H22: INDIVIDUAL 6C
C23: FOURSOME 32B | D23: INDIVIDUAL 3D | G23: FOURSOME 62B | H23: INDIVIDUAL 6D
C24: FOURSOME 33A | D24: INDIVIDUAL 3E | G24: FOURSOME 63A | H24: INDIVIDUAL 6E
C25: FOURSOME 33B | D25: INDIVIDUAL 3F | G25: FOURSOME 63B | H25: INDIVIDUAL 6F
B28: FEDERACION | C28: FOURSOME | D28: INDIVIDUALES | F28: FEDERACION | G28: FOURSOME | H28: INDIVIDUALES
A29: 4ª | B29: FEDERACION 4 | C29: FOURSOME 41A | D29: INDIVIDUAL 4A | E29: 5ª | F29: FEDERACION 5 | G29: FOURSOME 51A | H29: INDIVIDUAL 5A
C30: FOURSOME 41B | D30: INDIVIDUAL 4B | G30: FOURSOME 51B | H30: INDIVIDUAL 5B
C31: FOURSOME 42A | D31: INDIVIDUAL 4C | G31: FOURSOME 52A | H31: INDIVIDUAL 5C
C32: FOURSOME 42B | D32: INDIVIDUAL 4D | G32: FOURSOME 52B | H32: INDIVIDUAL 5D
C33: FOURSOME 43A | D33: INDIVIDUAL 4E | G33: FOURSOME 53A | H33: INDIVIDUAL 5E
C34: FOURSOME 43B | D34: INDIVIDUAL 4F | G34: FOURSOME 53B | H34: INDIVIDUAL 5F

Sheet 1VS8
D8: MATCH
B11: ELIMINATORIAS ¼ FINAL (1º vs 8º)
B13: TEE 1
B16: =(DATOS!B2) -> FEDERACION 1 | G16: =(DATOS!F2) -> FEDERACION 8
B18: Foursomes (1º vs 8º)
B20: HORA | C20: Jugador | E20: Puntos | F20: Resultado | G20: Puntos | H20: Jugador
B21: 0.35416667 | C21: =(DATOS!C2) -> FOURSOME 11A | H21: =(DATOS!G2) -> FOURSOME 81A
C22: =(DATOS!C3) -> FOURSOME 11B | H22: =(DATOS!G3) -> FOURSOME 81B
B24: HORA | C24: Jugador | E24: Puntos | F24: Resultado | G24: Puntos | H24: Jugador
B25: 0.35972222 | C25: =(DATOS!C4) -> FOURSOME 12A | H25: =(DATOS!G4) -> FOURSOME 82A
C26: =(DATOS!C5) -> FOURSOME 12B | H26: =(DATOS!G5) -> FOURSOME 82B
B28: HORA | C28: Jugador | E28: Puntos | F28: Resultado | G28: Puntos | H28: Jugador
B29: 0.36527778 | C29: =DATOS!$C$6 -> FOURSOME 13A | H29: =DATOS!G6 -> FOURSOME 83A
C30: =DATOS!$C$7 -> FOURSOME 13B | H30: =DATOS!G7 -> FOURSOME 83B
C32: SUMA DE PUNTOS………. | H32: ……….SUMA DE PUNTOS
B34: Individuales (1º vs 8º)
B36: HORA | C36: Jugador | E36: Puntos | F36: Resultado | G36: Puntos | H36: Jugador
B37: 0.54861111 | C37: =DATOS!D2 -> INDIVIDUAL 1A | H37: =DATOS!H2 -> INDIVIDUAL 8A
B38: 0.55416667 | C38: =DATOS!D3 -> INDIVIDUAL 1B | H38: =DATOS!H3 -> INDIVIDUAL 8B
B39: 0.55972222 | C39: =DATOS!D4 -> INDIVIDUAL 1C | H39: =DATOS!H4 -> INDIVIDUAL 8C
B40: 0.56527778 | C40: =DATOS!D5 -> INDIVIDUAL 1D | H40: =DATOS!H5 -> INDIVIDUAL 8D
B41: 0.57083333 | C41: =DATOS!D6 -> INDIVIDUAL 1E | H41: =DATOS!H6 -> INDIVIDUAL 8E
B42: 0.57638889 | C42: =DATOS!D7 -> INDIVIDUAL 1F | H42: =DATOS!H7 -> INDIVIDUAL 8F
C44: SUMA DE PUNTOS……. | H44: ….….SUMA DE PUNTOS
C46: RESULTADO MATCH | H46: RESULTADO MATCH
B51: Fecha………………… 3 del octubre de 2013
D54: HOJA RESULTADO DE MATCH
D56: =$B$11 -> ELIMINATORIAS ¼ FINAL (1º vs 8º)
B57: FOURSOME 1
B59: Fecha: 3 de octubre | F59: =$B$13 -> TEE 1 | I59: Hora: | J59: =$B$21 -> 0.35416667
B61: TERRITORIAL | D61: Jugadores
B62: =(DATOS!B2) -> FEDERACION 1 | D62: =(DATOS!C2) -> FOURSOME 11A
D63: =(DATOS!C3) -> FOURSOME 11B | G63: TERRITORIAL GANADORA | J63: RESULTADO
B65: TERRITORIAL | D65: Jugadores
B66: =(DATOS!F2) -> FEDERACION 8 | D66: =(DATOS!G2) -> FOURSOME 81A
D67: =(DATOS!G3) -> FOURSOME 81B
C69: Firma:
D72: HOJA RESULTADO DE MATCH
D74: =$B$11 -> ELIMINATORIAS ¼ FINAL (1º vs 8º)
B75: FOURSOME 2
B77: =$B$59 -> Fecha: 3 de octubre | F77: =$B$13 -> TEE 1 | I77: Hora: | J77: =$B$25 -> 0.35972222
B79: TERRITORIAL | D79: Jugadores
B80: =DATOS!$B$2 -> FEDERACION 1 | D80: =(DATOS!C4) -> FOURSOME 12A
D81: =(DATOS!C5) -> FOURSOME 12B | G81: TERRITORIAL GANADORA | J81: RESULTADO
B83: TERRITORIAL | D83: Jugadores
B84: =DATOS!$F$2 -> FEDERACION 8 | D84: =(DATOS!G4) -> FOURSOME 82A
D85: =(DATOS!G5) -> FOURSOME 82B
C87: Firma:
D89: HOJA RESULTADO DE MATCH
D91: =$B$11 -> ELIMINATORIAS ¼ FINAL (1º vs 8º)
B92: FOURSOME 3
B94: =$B$59 -> Fecha: 3 de octubre | F94: =$B$13 -> TEE 1 | I94: Hora: | J94: =$B$29 -> 0.36527778
B96: TERRITORIAL | D96: Jugadores
B97: =DATOS!$B$2 -> FEDERACION 1 | D97: =DATOS!C6 -> FOURSOME 13A
D98: =DATOS!C7 -> FOURSOME 13B | G98: TERRITORIAL GANADORA | J98: RESULTADO
B100: TERRITORIAL | D100: Jugadores
B101: =DATOS!$F$2 -> FEDERACION 8 | D101: =DATOS!G6 -> FOURSOME 83A
D102: =DATOS!G7 -> FOURSOME 83B
C104: Firma:
D109: HOJA RESULTADO DE MATCH
D111: =$B$11 -> ELIMINATORIAS ¼ FINAL (1º vs 8º)
B112: INDIVIDUALES 1
B114: =$B$59 -> Fecha: 3 de octubre | F114: =$B$13 -> TEE 1 | I114: Hora: | J114: =$B$37 -> 0.54861111
B116: TERRITORIAL | D116: Jugador
B117: =DATOS!$B$2 -> FEDERACION 1 | D117: =(DATOS!D2) -> INDIVIDUAL 1A
G118: TERRITORIAL GANADORA | J118: RESULTADO
B120: TERRITORIAL | D120: Jugador
B121: =DATOS!$F$2 -> FEDERACION 8 | D121: =(DATOS!H2) -> INDIVIDUAL 8A
C124: Firma:
D127: HOJA RESULTADO DE MATCH
D129: =$B$11 -> ELIMINATORIAS ¼ FINAL (1º vs 8º)
B130: INDIVIDUALES 2
B132: =$B$59 -> Fecha: 3 de octubre | F132: =$B$13 -> TEE 1 | I132: Hora: | J132: =$B$38 -> 0.55416667
B134: TERRITORIAL | D134: Jugador
B135: =DATOS!$B$2 -> FEDERACION 1 | D135: =(DATOS!D3) -> INDIVIDUAL 1B
G136: TERRITORIAL GANADORA | J136: RESULTADO
B138: TERRITORIAL | D138: Jugador
B139: =DATOS!$F$2 -> FEDERACION 8 | D139: =(DATOS!H3) -> INDIVIDUAL 8B
C142: Firma:
D144: HOJA RESULTADO DE MATCH
D146: =$B$11 -> ELIMINATORIAS ¼ FINAL (1º vs 8º)
B147: INDIVIDUALES 3
B149: =$B$59 -> Fecha: 3 de octubre | F149: =$B$13 -> TEE 1 | I149: Hora: | J149: =$B$39 -> 0.55972222
B151: TERRITORIAL | D151: Jugador
B152: =DATOS!$B$2 -> FEDERACION 1 | D152: =(DATOS!D4) -> INDIVIDUAL 1C
G153: TERRITORIAL GANADORA | J153: RESULTADO
B155: TERRITORIAL | D155: Jugador
B156: =DATOS!$F$2 -> FEDERACION 8 | D156: =(DATOS!H4) -> INDIVIDUAL 8C
C159: Firma:
D162: HOJA RESULTADO DE MATCH
D164: =$B$11 -> ELIMINATORIAS ¼ FINAL (1º vs 8º)
B165: INDIVIDUALES 4
B167: =$B$59 -> Fecha: 3 de octubre | F167: =$B$13 -> TEE 1 | I167: Hora: | J167: =$B$40 -> 0.56527778
B169: TERRITORIAL | D169: Jugador
B170: =DATOS!$B$2 -> FEDERACION 1 | D170: =DATOS!$D$5 -> INDIVIDUAL 1D
G171: TERRITORIAL GANADORA | J171: RESULTADO
B173: TERRITORIAL | D173: Jugador
B174: =DATOS!$F$2 -> FEDERACION 8 | D174: =DATOS!$H$5 -> INDIVIDUAL 8D
C177: Firma:
D179: HOJA RESULTADO DE MATCH
...

Sheet 2VS7
D8: MATCH
B11: ELIMINATORIAS ¼ FINAL (2º vs 7º)
B13: TEE 1
B16: =DATOS!$B$11 -> FEDERACION 2 | G16: =DATOS!$F$11 -> FEDERACION 7
B18: Foursomes (2º vs 7º)
B20: HORA | C20: Jugador | E20: Puntos | F20: Resultado | G20: Puntos | H20: Jugador
B21: 0.37083333 | C21: =DATOS!C11 -> FOURSOME 21A | H21: =DATOS!G11 -> FOURSOME 71A
C22: =DATOS!C12 -> FOURSOME 21B | H22: =DATOS!G12 -> FOURSOME 71B
B24: HORA | C24: Jugador | E24: Puntos | F24: Resultado | G24: Puntos | H24: Jugador
B25: 0.37638889 | C25: =DATOS!C13 -> FOURSOME 22A | H25: =DATOS!G13 -> FOURSOME 72A
C26: =DATOS!C14 -> FOURSOME 22B | H26: =DATOS!G14 -> FOURSOME 72B
B28: HORA | C28: Jugador | E28: Puntos | F28: Resultado | G28: Puntos | H28: Jugador
B29: 0.38194444 | C29: =DATOS!C15 -> FOURSOME 23A | H29: =DATOS!G15 -> FOURSOME 73A
C30: =DATOS!C16 -> FOURSOME 23B | H30: =DATOS!G16 -> FOURSOME 73B
C32: SUMA DE PUNTOS………. | H32: ……….SUMA DE PUNTOS
B34: Individuales (2º vs 7º)
B36: HORA | C36: Jugador | E36: Puntos | F36: Resultado | G36: Puntos | H36: Jugador
B37: 0.58194444 | C37: =DATOS!D11 -> INDIVIDUAL 2A | H37: =DATOS!H11 -> INDIVIDUAL 7A
B38: 0.5875 | C38: =DATOS!D12 -> INDIVIDUAL 2B | H38: =DATOS!H12 -> INDIVIDUAL 7B
B39: 0.59305556 | C39: =DATOS!D13 -> INDIVIDUAL 2C | H39: =DATOS!H13 -> INDIVIDUAL 7C
B40: 0.59861111 | C40: =DATOS!D14 -> INDIVIDUAL 2D | H40: =DATOS!H14 -> INDIVIDUAL 7D
B41: 0.60416667 | C41: =DATOS!D15 -> INDIVIDUAL 2E | H41: =DATOS!H15 -> INDIVIDUAL 7E
B42: 0.60972222 | C42: =DATOS!D16 -> INDIVIDUAL 2F | H42: =DATOS!H16 -> INDIVIDUAL 7F
C44: SUMA DE PUNTOS……. | H44: ….….SUMA DE PUNTOS
C46: RESULTADO MATCH | H46: RESULTADO MATCH
B51: Fecha………………… 3 del octubre de 2013
D53: HOJA RESULTADO DE MATCH
D59: =$B$11 -> ELIMINATORIAS ¼ FINAL (2º vs 7º)
B60: FOURSOME 1
B62: Fecha: 3 de octubre | F62: =$B$13 -> TEE 1 | I62: Hora: | J62: =$B$21 -> 0.37083333
B64: TERRITORIAL | D64: Jugadores
B65: =DATOS!$B$11 -> FEDERACION 2 | D65: =DATOS!C11 -> FOURSOME 21A
D66: =DATOS!C12 -> FOURSOME 21B | G66: TERRITORIAL GANADORA | J66: RESULTADO
B68: TERRITORIAL | D68: Jugadores
B69: =DATOS!$F$11 -> FEDERACION 7 | D69: =DATOS!G11 -> FOURSOME 71A
D70: =DATOS!G12 -> FOURSOME 71B
C72: Firma:
D77: HOJA RESULTADO DE MATCH
D78: =$B$11 -> ELIMINATORIAS ¼ FINAL (2º vs 7º)
B79: FOURSOME 2
B81: =$B$62 -> Fecha: 3 de octubre | F81: =$B$13 -> TEE 1 | I81: Hora: | J81: =$B$25 -> 0.37638889
B83: TERRITORIAL | D83: Jugadores
B84: =DATOS!$B$11 -> FEDERACION 2 | D84: =DATOS!C13 -> FOURSOME 22A
D85: =DATOS!C14 -> FOURSOME 22B | G85: TERRITORIAL GANADORA | J85: RESULTADO
B87: TERRITORIAL | D87: Jugadores
B88: =DATOS!$F$11 -> FEDERACION 7 | D88: =DATOS!G13 -> FOURSOME 72A
D89: =DATOS!G14 -> FOURSOME 72B
C91: Firma:
D95: HOJA RESULTADO DE MATCH
D98: =$B$11 -> ELIMINATORIAS ¼ FINAL (2º vs 7º)
B100: FOURSOME 3
B102: =$B$62 -> Fecha: 3 de octubre | F102: =$B$13 -> TEE 1 | I102: Hora: | J102: =$B$29 -> 0.38194444
B104: TERRITORIAL | D104: Jugadores
B105: =DATOS!$B$11 -> FEDERACION 2 | D105: =DATOS!C15 -> FOURSOME 23A
D106: =DATOS!C16 -> FOURSOME 23B | G106: TERRITORIAL GANADORA | J106: RESULTADO
B108: TERRITORIAL | D108: Jugadores
B109: =DATOS!$F$11 -> FEDERACION 7 | D109: =DATOS!G15 -> FOURSOME 73A
D110: =DATOS!G16 -> FOURSOME 73B
C112: Firma:
D115: HOJA RESULTADO DE MATCH
D117: =$B$11 -> ELIMINATORIAS ¼ FINAL (2º vs 7º)
B118: INDIVIDUALES 1
B120: =$B$62 -> Fecha: 3 de octubre | F120: =$B$13 -> TEE 1 | I120: Hora: | J120: =$B$37 -> 0.58194444
B122: TERRITORIAL | D122: Jugador
B123: =DATOS!$B$11 -> FEDERACION 2 | D123: =DATOS!$D$11 -> INDIVIDUAL 2A
G124: TERRITORIAL GANADORA | J124: RESULTADO
B126: TERRITORIAL | D126: Jugador
B127: =DATOS!$F$11 -> FEDERACION 7 | D127: =DATOS!$H$11 -> INDIVIDUAL 7A
C130: Firma:
D132: HOJA RESULTADO DE MATCH
D134: =$B$11 -> ELIMINATORIAS ¼ FINAL (2º vs 7º)
B135: INDIVIDUALES 2
B137: =$B$62 -> Fecha: 3 de octubre | F137: =$B$13 -> TEE 1 | I137: Hora: | J137: =$B$38 -> 0.5875
B139: TERRITORIAL | D139: Jugador
B140: =DATOS!$B$11 -> FEDERACION 2 | D140: =DATOS!$D$12 -> INDIVIDUAL 2B
G141: TERRITORIAL GANADORA | J141: RESULTADO
B143: TERRITORIAL | D143: Jugador
B144: =DATOS!$F$11 -> FEDERACION 7 | D144: =DATOS!$H$12 -> INDIVIDUAL 7B
C147: Firma:
D149: HOJA RESULTADO DE MATCH
D151: =$B$11 -> ELIMINATORIAS ¼ FINAL (2º vs 7º)
B152: INDIVIDUALES 3
B154: =$B$62 -> Fecha: 3 de octubre | F154: =$B$13 -> TEE 1 | I154: Hora: | J154: =$B$39 -> 0.59305556
B156: TERRITORIAL | D156: Jugador
B157: =DATOS!$B$11 -> FEDERACION 2 | D157: =DATOS!$D$13 -> INDIVIDUAL 2C
G158: TERRITORIAL GANADORA | J158: RESULTADO
B160: TERRITORIAL | D160: Jugador
B161: =DATOS!$F$11 -> FEDERACION 7 | D161: =DATOS!$H$13 -> INDIVIDUAL 7C
C164: Firma:
D167: HOJA RESULTADO DE MATCH
D169: =$B$11 -> ELIMINATORIAS ¼ FINAL (2º vs 7º)
B170: INDIVIDUALES 4
B172: =$B$62 -> Fecha: 3 de octubre | F172: =$B$13 -> TEE 1 | I172: Hora: | J172: =$B$40 -> 0.59861111
B174: TERRITORIAL | D174: Jugador
B175: =DATOS!$B$11 -> FEDERACION 2 | D175: =DATOS!$D$14 -> INDIVIDUAL 2D
G176: TERRITORIAL GANADORA | J176: RESULTADO
B178: TERRITORIAL | D178: Jugador
B179: =DATOS!$F$11 -> FEDERACION 7 | D179: =DATOS!$H$14 -> INDIVIDUAL 7D
C182: Firma:
D186: HOJA RESULTADO DE MATCH
...

Sheet 3VS6
D8: MATCH
C11: ELIMINATORIAS ¼ FINAL (3º vs 6º)
B13: TEE 10
B16: =DATOS!$B$20 -> FEDERACION 3 | G16: =DATOS!$F$20 -> FEDERACION 6
B18: Foursomes (3º vs 6º)
B20: HORA | C20: Jugador | E20: Puntos | F20: Resultado | G20: Puntos | H20: Jugador
B21: 0.35416667 | C21: =DATOS!C20 -> FOURSOME 31A | H21: =DATOS!G20 -> FOURSOME 61A
C22: =DATOS!C21 -> FOURSOME 31B | H22: =DATOS!G21 -> FOURSOME 61B
B24: HORA | C24: Jugador | E24: Puntos | F24: Resultado | G24: Puntos | H24: Jugador
B25: 0.35972222 | C25: =DATOS!C22 -> FOURSOME 32A | H25: =DATOS!G22 -> FOURSOME 62A
C26: =DATOS!C23 -> FOURSOME 32B | H26: =DATOS!G23 -> FOURSOME 62B
B28: HORA | C28: Jugador | E28: Puntos | F28: Resultado | G28: Puntos | H28: Jugador
B29: 0.36527778 | C29: =DATOS!C24 -> FOURSOME 33A | H29: =DATOS!G24 -> FOURSOME 63A
C30: =DATOS!C25 -> FOURSOME 33B | H30: =DATOS!G25 -> FOURSOME 63B
C32: SUMA DE PUNTOS………. | H32: ……….SUMA DE PUNTOS
B34: Individuales (3º vs 6º)
B36: HORA | C36: Jugador | E36: Puntos | F36: Resultado | G36: Puntos | H36: Jugador
B37: 0.54861111 | C37: =DATOS!D20 -> INDIVIDUAL 3A | H37: =DATOS!H20 -> INDIVIDUAL 6A
B38: 0.55416667 | C38: =DATOS!D21 -> INDIVIDUAL 3B | H38: =DATOS!H21 -> INDIVIDUAL 6B
B39: 0.55972222 | C39: =DATOS!D22 -> INDIVIDUAL 3C | H39: =DATOS!H22 -> INDIVIDUAL 6C
B40: 0.56527778 | C40: =DATOS!D23 -> INDIVIDUAL 3D | H40: =DATOS!H23 -> INDIVIDUAL 6D
B41: 0.57083333 | C41: =DATOS!D24 -> INDIVIDUAL 3E | H41: =DATOS!H24 -> INDIVIDUAL 6E
B42: 0.57638889 | C42: =DATOS!D25 -> INDIVIDUAL 3F | H42: =DATOS!H25 -> INDIVIDUAL 6F
C44: SUMA DE PUNTOS……. | H44: ….….SUMA DE PUNTOS
C46: RESULTADO MATCH | H46: RESULTADO MATCH
B51: Fecha………………… 3 del octubre de 2013
D58: HOJA RESULTADO DE MATCH
D62: =$C$11 -> ELIMINATORIAS ¼ FINAL (3º vs 6º)
B63: FOURSOME 1
B65: Fecha: 3 de octubre | F65: =$B$13 -> TEE 10 | I65: Hora: | J65: =$B$21 -> 0.35416667
B67: TERRITORIAL | D67: Jugadores
B68: =DATOS!$B$20 -> FEDERACION 3 | D68: =DATOS!C20 -> FOURSOME 31A
D69: =DATOS!C21 -> FOURSOME 31B | G69: TERRITORIAL GANADORA | J69: RESULTADO
B71: TERRITORIAL | D71: Jugadores
B72: =DATOS!$F$20 -> FEDERACION 6 | D72: =DATOS!G20 -> FOURSOME 61A
D73: =DATOS!G21 -> FOURSOME 61B
C75: Firma:
D79: HOJA RESULTADO DE MATCH
D82: =$C$11 -> ELIMINATORIAS ¼ FINAL (3º vs 6º)
B83: FOURSOME 2
B85: =$B$65 -> Fecha: 3 de octubre | F85: =$B$13 -> TEE 10 | I85: Hora: | J85: =$B$25 -> 0.35972222
B87: TERRITORIAL | D87: Jugadores
B88: =DATOS!$B$20 -> FEDERACION 3 | D88: =DATOS!C22 -> FOURSOME 32A
D89: =DATOS!C23 -> FOURSOME 32B | G89: TERRITORIAL GANADORA | J89: RESULTADO
B91: TERRITORIAL | D91: Jugadores
B92: =DATOS!$F$20 -> FEDERACION 6 | D92: =DATOS!G22 -> FOURSOME 62A
D93: =DATOS!G23 -> FOURSOME 62B
C95: Firma:
D98: HOJA RESULTADO DE MATCH
D100: =$C$11 -> ELIMINATORIAS ¼ FINAL (3º vs 6º)
B101: FOURSOME 3
B103: =$B$65 -> Fecha: 3 de octubre | F103: =$B$13 -> TEE 10 | I103: Hora: | J103: =$B$29 -> 0.36527778
B105: TERRITORIAL | D105: Jugadores
B106: =DATOS!$B$20 -> FEDERACION 3 | D106: =DATOS!C24 -> FOURSOME 33A
D107: =DATOS!C25 -> FOURSOME 33B | G107: TERRITORIAL GANADORA | J107: RESULTADO
B109: TERRITORIAL | D109: Jugadores
B110: =DATOS!$F$20 -> FEDERACION 6 | D110: =DATOS!G24 -> FOURSOME 63A
D111: =DATOS!G25 -> FOURSOME 63B
C113: Firma:
D116: HOJA RESULTADO DE MATCH
D118: =$C$11 -> ELIMINATORIAS ¼ FINAL (3º vs 6º)
B119: INDIVIDUALES 1
B121: =$B$65 -> Fecha: 3 de octubre | F121: =$B$13 -> TEE 10 | I121: Hora: | J121: =$B$37 -> 0.54861111
B123: TERRITORIAL | D123: Jugador
B124: =DATOS!$B$20 -> FEDERACION 3 | D124: =DATOS!$D$20 -> INDIVIDUAL 3A
G125: TERRITORIAL GANADORA | J125: RESULTADO
B127: TERRITORIAL | D127: Jugador
B128: =DATOS!$F$20 -> FEDERACION 6 | D128: =DATOS!$H$20 -> INDIVIDUAL 6A
C131: Firma:
D134: HOJA RESULTADO DE MATCH
D136: =$C$11 -> ELIMINATORIAS ¼ FINAL (3º vs 6º)
B137: INDIVIDUALES 2
B139: =$B$65 -> Fecha: 3 de octubre | F139: =$B$13 -> TEE 10 | I139: Hora: | J139: =$B$38 -> 0.55416667
B141: TERRITORIAL | D141: Jugador
B142: =DATOS!$B$20 -> FEDERACION 3 | D142: =DATOS!$D$21 -> INDIVIDUAL 3B
G143: TERRITORIAL GANADORA | J143: RESULTADO
B145: TERRITORIAL | D145: Jugador
B146: =DATOS!$F$20 -> FEDERACION 6 | D146: =DATOS!$H$21 -> INDIVIDUAL 6B
C149: Firma:
D152: HOJA RESULTADO DE MATCH
D154: =$C$11 -> ELIMINATORIAS ¼ FINAL (3º vs 6º)
B155: INDIVIDUALES 3
B157: =$B$65 -> Fecha: 3 de octubre | F157: =$B$13 -> TEE 10 | I157: Hora: | J157: =$B$39 -> 0.55972222
B159: TERRITORIAL | D159: Jugador
B160: =DATOS!$B$20 -> FEDERACION 3 | D160: =DATOS!$D$22 -> INDIVIDUAL 3C
G161: TERRITORIAL GANADORA | J161: RESULTADO
B163: TERRITORIAL | D163: Jugador
B164: =DATOS!$F$20 -> FEDERACION 6 | D164: =DATOS!$H$22 -> INDIVIDUAL 6C
C167: Firma:
D170: HOJA RESULTADO DE MATCH
D172: =$C$11 -> ELIMINATORIAS ¼ FINAL (3º vs 6º)
B173: INDIVIDUALES 4
B175: =$B$65 -> Fecha: 3 de octubre | F175: =$B$13 -> TEE 10 | I175: Hora: | J175: =$B$40 -> 0.56527778
B177: TERRITORIAL | D177: Jugador
B178: =DATOS!$B$20 -> FEDERACION 3 | D178: =DATOS!$D$23 -> INDIVIDUAL 3D
G179: TERRITORIAL GANADORA | J179: RESULTADO
B181: TERRITORIAL | D181: Jugador
B182: =DATOS!$F$20 -> FEDERACION 6 | D182: =DATOS!$H$23 -> INDIVIDUAL 6D
C185: Firma:
D188: HOJA RESULTADO DE MATCH
...

Sheet 4VS5
B8: MATCH
B11: ELIMINATORIAS ¼ FINAL (4º vs 5º)
B13: TEE 10
B16: =DATOS!$B$29 -> FEDERACION 4 | G16: =DATOS!$F$29 -> FEDERACION 5
B18: Foursomes (4º vs 5º)
B20: HORA | C20: Jugador | E20: Puntos | F20: Resultado | G20: Puntos | H20: Jugador
B21: 0.37083333 | C21: =DATOS!C29 -> FOURSOME 41A | H21: =DATOS!G29 -> FOURSOME 51A
C22: =DATOS!C30 -> FOURSOME 41B | H22: =DATOS!G30 -> FOURSOME 51B
B24: HORA | C24: Jugador | E24: Puntos | F24: Resultado | G24: Puntos | H24: Jugador
B25: 0.37638889 | C25: =DATOS!C31 -> FOURSOME 42A | H25: =DATOS!G31 -> FOURSOME 52A
C26: =DATOS!C32 -> FOURSOME 42B | H26: =DATOS!G32 -> FOURSOME 52B
B28: HORA | C28: Jugador | E28: Puntos | F28: Resultado | G28: Puntos | H28: Jugador
B29: 0.38194444 | C29: =DATOS!C33 -> FOURSOME 43A | H29: =DATOS!G33 -> FOURSOME 53A
C30: =DATOS!C34 -> FOURSOME 43B | H30: =DATOS!G34 -> FOURSOME 53B
C32: SUMA DE PUNTOS………. | H32: ……….SUMA DE PUNTOS
B34: Individuales (4º vs 5º)
B36: HORA | C36: Jugador | E36: Puntos | F36: Resultado | G36: Puntos | H36: Jugador
B37: 0.58194444 | C37: =DATOS!D29 -> INDIVIDUAL 4A | H37: =DATOS!H29 -> INDIVIDUAL 5A
B38: 0.5875 | C38: =DATOS!D30 -> INDIVIDUAL 4B | H38: =DATOS!H30 -> INDIVIDUAL 5B
B39: 0.59305556 | C39: =DATOS!D31 -> INDIVIDUAL 4C | H39: =DATOS!H31 -> INDIVIDUAL 5C
B40: 0.59861111 | C40: =DATOS!D32 -> INDIVIDUAL 4D | H40: =DATOS!H32 -> INDIVIDUAL 5D
B41: 0.60416667 | C41: =DATOS!D33 -> INDIVIDUAL 4E | H41: =DATOS!H33 -> INDIVIDUAL 5E
B42: 0.60972222 | C42: =DATOS!D34 -> INDIVIDUAL 4F | H42: =DATOS!H34 -> INDIVIDUAL 5F
C44: SUMA DE PUNTOS……. | H44: ….….SUMA DE PUNTOS
C46: RESULTADO MATCH | H46: RESULTADO MATCH
B51: Fecha………………… 3 del octubre de 2013
D53: HOJA RESULTADO DE MATCH
D55: =$B$11 -> ELIMINATORIAS ¼ FINAL (4º vs 5º)
B56: FOURSOME 1
B58: Fecha: 3 de octubre | F58: =$B$13 -> TEE 10 | I58: Hora: | J58: =$B$21 -> 0.37083333
B60: TERRITORIAL | D60: Jugadores
B61: =DATOS!$B$29 -> FEDERACION 4 | D61: =DATOS!C29 -> FOURSOME 41A
D62: =DATOS!C30 -> FOURSOME 41B | G62: TERRITORIAL GANADORA | J62: RESULTADO
B64: TERRITORIAL | D64: Jugadores
B65: =DATOS!$F$29 -> FEDERACION 5 | D65: =DATOS!G29 -> FOURSOME 51A
D66: =DATOS!G30 -> FOURSOME 51B
C68: Firma:
D71: HOJA RESULTADO DE MATCH
D73: =$B$11 -> ELIMINATORIAS ¼ FINAL (4º vs 5º)
B74: FOURSOME 2
B76: =$B$58 -> Fecha: 3 de octubre | F76: =$B$13 -> TEE 10 | I76: Hora: | J76: =$B$25 -> 0.37638889
B78: TERRITORIAL | D78: Jugadores
B79: =DATOS!$B$29 -> FEDERACION 4 | D79: =DATOS!C31 -> FOURSOME 42A
D80: =DATOS!C32 -> FOURSOME 42B | G80: TERRITORIAL GANADORA | J80: RESULTADO
B82: TERRITORIAL | D82: Jugadores
B83: =DATOS!$F$29 -> FEDERACION 5 | D83: =DATOS!G31 -> FOURSOME 52A
D84: =DATOS!G32 -> FOURSOME 52B
C86: Firma:
D89: HOJA RESULTADO DE MATCH
D91: =$B$11 -> ELIMINATORIAS ¼ FINAL (4º vs 5º)
B92: FOURSOME 3
B94: =$B$58 -> Fecha: 3 de octubre | F94: =$B$13 -> TEE 10 | I94: Hora: | J94: =$B$29 -> 0.38194444
B96: TERRITORIAL | D96: Jugadores
B97: =DATOS!$B$29 -> FEDERACION 4 | D97: =DATOS!C33 -> FOURSOME 43A
D98: =DATOS!C34 -> FOURSOME 43B | G98: TERRITORIAL GANADORA | J98: RESULTADO
B100: TERRITORIAL | D100: Jugadores
B101: =DATOS!$F$29 -> FEDERACION 5 | D101: =DATOS!G33 -> FOURSOME 53A
D102: =DATOS!G34 -> FOURSOME 53B
C104: Firma:
D107: HOJA RESULTADO DE MATCH
D109: =$B$11 -> ELIMINATORIAS ¼ FINAL (4º vs 5º)
B110: INDIVIDUALES 1
B112: =$B$58 -> Fecha: 3 de octubre | F112: =$B$13 -> TEE 10 | I112: Hora: | J112: =$B$37 -> 0.58194444
B114: TERRITORIAL | D114: Jugador
B115: =DATOS!$B$29 -> FEDERACION 4 | D115: =DATOS!$D$29 -> INDIVIDUAL 4A
G116: TERRITORIAL GANADORA | J116: RESULTADO
B118: TERRITORIAL | D118: Jugador
B119: =DATOS!$F$29 -> FEDERACION 5 | D119: =DATOS!$H$29 -> INDIVIDUAL 5A
C122: Firma:
D125: HOJA RESULTADO DE MATCH
D127: =$B$11 -> ELIMINATORIAS ¼ FINAL (4º vs 5º)
B128: INDIVIDUALES 2
B130: =$B$58 -> Fecha: 3 de octubre | F130: =$B$13 -> TEE 10 | I130: Hora: | J130: =$B$38 -> 0.5875
B132: TERRITORIAL | D132: Jugador
B133: =DATOS!$B$29 -> FEDERACION 4 | D133: =DATOS!$D$30 -> INDIVIDUAL 4B
G134: TERRITORIAL GANADORA | J134: RESULTADO
B136: TERRITORIAL | D136: Jugador
B137: =DATOS!$F$29 -> FEDERACION 5 | D137: =DATOS!$H$30 -> INDIVIDUAL 5B
C140: Firma:
D143: HOJA RESULTADO DE MATCH
D145: =$B$11 -> ELIMINATORIAS ¼ FINAL (4º vs 5º)
B146: INDIVIDUALES 3
B148: =$B$58 -> Fecha: 3 de octubre | F148: =$B$13 -> TEE 10 | I148: Hora: | J148: =$B$39 -> 0.59305556
B150: TERRITORIAL | D150: Jugador
B151: =DATOS!$B$29 -> FEDERACION 4 | D151: =DATOS!$D$31 -> INDIVIDUAL 4C
G152: TERRITORIAL GANADORA | J152: RESULTADO
B154: TERRITORIAL | D154: Jugador
B155: =DATOS!$F$29 -> FEDERACION 5 | D155: =DATOS!$H$31 -> INDIVIDUAL 5C
C158: Firma:
D161: HOJA RESULTADO DE MATCH
D163: =$B$11 -> ELIMINATORIAS ¼ FINAL (4º vs 5º)
B164: INDIVIDUALES 4
B166: =$B$58 -> Fecha: 3 de octubre | F166: =$B$13 -> TEE 10 | I166: Hora: | J166: =$B$40 -> 0.59861111
B168: TERRITORIAL | D168: Jugador
B169: =DATOS!$B$29 -> FEDERACION 4 | D169: =DATOS!$D$32 -> INDIVIDUAL 4D
G170: TERRITORIAL GANADORA | J170: RESULTADO
B172: TERRITORIAL | D172: Jugador
B173: =DATOS!$F$29 -> FEDERACION 5 | D173: =DATOS!$H$32 -> INDIVIDUAL 5D
C176: Firma:
D179: HOJA RESULTADO DE MATCH
...

Sheet ENVIO PRENSA
D6: MATCH
B9: ELIMINATORIAS ¼ FINAL (1º vs 8º)
B11: ='1VS8'!$B$13 -> TEE 1
B14: =(DATOS!B2) -> FEDERACION 1 | G14: =(DATOS!F2) -> FEDERACION 8
B16: FOURSOMES
B18: ='1VS8'!B20 -> HORA | C18: JUGADOR | E18: PUNTOS | F18: RESULTADO | G18: PUNTOS | H18: JUGADOR
B19: ='1VS8'!B21 -> 0.35416667 | C19: =(DATOS!C2) -> FOURSOME 11A | H19: =(DATOS!G2) -> FOURSOME 81A
C20: =(DATOS!C3) -> FOURSOME 11B | H20: =(DATOS!G3) -> FOURSOME 81B
B21: ='1VS8'!B25 -> 0.35972222 | C21: =(DATOS!C4) -> FOURSOME 12A | H21: =(DATOS!G4) -> FOURSOME 82A
C22: =(DATOS!C5) -> FOURSOME 12B | H22: =(DATOS!G5) -> FOURSOME 82B
B23: ='1VS8'!B29 -> 0.36527778 | C23: =DATOS!$C$6 -> FOURSOME 13A | H23: =DATOS!G6 -> FOURSOME 83A
C24: =DATOS!$C$7 -> FOURSOME 13B | H24: =DATOS!G7 -> FOURSOME 83B
C26: SUMA DE PUNTOS………. | H26: ……….SUMA DE PUNTOS
B28: INDIVIDUALES
B30: HORA | C30: JUGADOR | E30: PUNTOS | F30: RESULTADO | G30: PUNTOS | H30: JUGADOR
B31: ='1VS8'!B37 -> 0.54861111 | C31: =DATOS!D2 -> INDIVIDUAL 1A | H31: =DATOS!H2 -> INDIVIDUAL 8A
B32: ='1VS8'!B38 -> 0.55416667 | C32: =DATOS!D3 -> INDIVIDUAL 1B | H32: =DATOS!H3 -> INDIVIDUAL 8B
B33: ='1VS8'!B39 -> 0.55972222 | C33: =DATOS!D4 -> INDIVIDUAL 1C | H33: =DATOS!H4 -> INDIVIDUAL 8C
B34: ='1VS8'!B40 -> 0.56527778 | C34: =DATOS!D5 -> INDIVIDUAL 1D | H34: =DATOS!H5 -> INDIVIDUAL 8D
B35: ='1VS8'!B41 -> 0.57083333 | C35: =DATOS!D6 -> INDIVIDUAL 1E | H35: =DATOS!H6 -> INDIVIDUAL 8E
B36: ='1VS8'!B42 -> 0.57638889 | C36: =DATOS!D7 -> INDIVIDUAL 1F | H36: =DATOS!H7 -> INDIVIDUAL 8F
C38: SUMA DE PUNTOS……. | H38: ….….SUMA DE PUNTOS
C40: RESULTADO MATCH | H40: RESULTADO MATCH
D52: MATCH
B55: ELIMINATORIAS ¼ FINAL (2º vs 7º)
B57: TEE 1
B60: =(DATOS!F2) -> FEDERACION 8 | G60: =DATOS!$F$11 -> FEDERACION 7
B62: FOURSOMES
B64: HORA | C64: JUGADOR | E64: PUNTOS | F64: RESULTADO | G64: PUNTOS | H64: JUGADOR
B65: ='2VS7'!B21 -> 0.37083333 | C65: ='2VS7'!C21 -> FOURSOME 21A | H65: ='2VS7'!H21 -> FOURSOME 71A
C66: ='2VS7'!C22 -> FOURSOME 21B | H66: ='2VS7'!H22 -> FOURSOME 71B
B67: ='2VS7'!B25 -> 0.37638889 | C67: ='2VS7'!C25 -> FOURSOME 22A | H67: ='2VS7'!H25 -> FOURSOME 72A
C68: ='2VS7'!C26 -> FOURSOME 22B | H68: ='2VS7'!H26 -> FOURSOME 72B
B69: ='2VS7'!B29 -> 0.38194444 | C69: ='2VS7'!C29 -> FOURSOME 23A | H69: ='2VS7'!H29 -> FOURSOME 73A
C70: ='2VS7'!C30 -> FOURSOME 23B | H70: ='2VS7'!H30 -> FOURSOME 73B
C72: SUMA DE PUNTOS………. | H72: ……….SUMA DE PUNTOS
B74: INDIVIDUALES
B76: HORA | C76: JUGADOR | E76: PUNTOS | F76: RESULTADO | G76: PUNTOS | H76: JUGADOR
B77: ='2VS7'!B37 -> 0.58194444 | C77: ='2VS7'!C37 -> INDIVIDUAL 2A | H77: ='2VS7'!H37 -> INDIVIDUAL 7A
B78: ='2VS7'!B38 -> 0.5875 | C78: ='2VS7'!C38 -> INDIVIDUAL 2B | H78: ='2VS7'!H38 -> INDIVIDUAL 7B
B79: ='2VS7'!B39 -> 0.59305556 | C79: ='2VS7'!C39 -> INDIVIDUAL 2C | H79: ='2VS7'!H39 -> INDIVIDUAL 7C
B80: ='2VS7'!B40 -> 0.59861111 | C80: ='2VS7'!C40 -> INDIVIDUAL 2D | H80: ='2VS7'!H40 -> INDIVIDUAL 7D
B81: ='2VS7'!B41 -> 0.60416667 | C81: ='2VS7'!C41 -> INDIVIDUAL 2E | H81: ='2VS7'!H41 -> INDIVIDUAL 7E
B82: ='2VS7'!B42 -> 0.60972222 | C82: ='2VS7'!C42 -> INDIVIDUAL 2F | H82: ='2VS7'!H42 -> INDIVIDUAL 7F
C84: SUMA DE PUNTOS……. | H84: ….….SUMA DE PUNTOS
C86: RESULTADO MATCH | H86: RESULTADO MATCH
D96: MATCH
B99: ELIMINATORIAS ¼ FINAL (3º vs 6º)
B101: ='3VS6'!$B$13 -> TEE 10
B104: =DATOS!$B$20 -> FEDERACION 3 | G104: =DATOS!$F$20 -> FEDERACION 6
B106: FOURSOMES
B108: HORA | C108: JUGADOR | E108: PUNTOS | F108: RESULTADO | G108: PUNTOS | H108: JUGADOR
B109: ='3VS6'!B21 -> 0.35416667 | C109: ='3VS6'!C21 -> FOURSOME 31A | H109: ='3VS6'!H21 -> FOURSOME 61A
C110: ='3VS6'!C22 -> FOURSOME 31B | H110: ='3VS6'!H22 -> FOURSOME 61B
B111: ='3VS6'!B25 -> 0.35972222 | C111: ='3VS6'!C25 -> FOURSOME 32A | H111: ='3VS6'!H25 -> FOURSOME 62A
C112: ='3VS6'!C26 -> FOURSOME 32B | H112: ='3VS6'!H26 -> FOURSOME 62B
B113: ='3VS6'!B29 -> 0.36527778 | C113: ='3VS6'!C29 -> FOURSOME 33A | H113: ='3VS6'!H29 -> FOURSOME 63A
C114: ='3VS6'!C30 -> FOURSOME 33B | H114: ='3VS6'!H30 -> FOURSOME 63B
C116: SUMA DE PUNTOS………. | H116: ……….SUMA DE PUNTOS
B118: INDIVIDUALES
B120: HORA | C120: JUGADOR | E120: PUNTOS | F120: RESULTADO | G120: PUNTOS | H120: JUGADOR
B121: ='3VS6'!B37 -> 0.54861111 | C121: ='3VS6'!C37 -> INDIVIDUAL 3A | H121: ='3VS6'!H37 -> INDIVIDUAL 6A
B122: ='3VS6'!B38 -> 0.55416667 | C122: ='3VS6'!C38 -> INDIVIDUAL 3B | H122: ='3VS6'!H38 -> INDIVIDUAL 6B
B123: ='3VS6'!B39 -> 0.55972222 | C123: ='3VS6'!C39 -> INDIVIDUAL 3C | H123: ='3VS6'!H39 -> INDIVIDUAL 6C
B124: ='3VS6'!B40 -> 0.56527778 | C124: ='3VS6'!C40 -> INDIVIDUAL 3D | H124: ='3VS6'!H40 -> INDIVIDUAL 6D
B125: ='3VS6'!B41 -> 0.57083333 | C125: ='3VS6'!C41 -> INDIVIDUAL 3E | H125: ='3VS6'!H41 -> INDIVIDUAL 6E
B126: ='3VS6'!B42 -> 0.57638889 | C126: ='3VS6'!C42 -> INDIVIDUAL 3F | H126: ='3VS6'!H42 -> INDIVIDUAL 6F
C128: SUMA DE PUNTOS……. | H128: ….….SUMA DE PUNTOS
C130: RESULTADO MATCH | H130: RESULTADO MATCH
D140: MATCH
B143: ELIMINATORIAS ¼ FINAL (4º vs 5º)
B145: ='4VS5'!$B$13 -> TEE 10
B148: =DATOS!$B$29 -> FEDERACION 4 | G148: =DATOS!$F$29 -> FEDERACION 5
B150: FOURSOMES
B152: HORA | C152: JUGADOR | E152: PUNTOS | F152: RESULTADO | G152: PUNTOS | H152: JUGADOR
B153: ='4VS5'!B21 -> 0.37083333 | C153: ='4VS5'!C21 -> FOURSOME 41A | H153: ='4VS5'!H21 -> FOURSOME 51A
C154: ='4VS5'!C22 -> FOURSOME 41B | H154: ='4VS5'!H22 -> FOURSOME 51B
B155: ='4VS5'!B25 -> 0.37638889 | C155: ='4VS5'!C25 -> FOURSOME 42A | H155: ='4VS5'!H25 -> FOURSOME 52A
C156: ='4VS5'!C26 -> FOURSOME 42B | H156: ='4VS5'!H26 -> FOURSOME 52B
B157: ='4VS5'!B29 -> 0.38194444 | C157: ='4VS5'!C29 -> FOURSOME 43A | H157: ='4VS5'!H29 -> FOURSOME 53A
C158: ='4VS5'!C30 -> FOURSOME 43B | H158: ='4VS5'!H30 -> FOURSOME 53B
C160: SUMA DE PUNTOS………. | H160: ……….SUMA DE PUNTOS
B162: INDIVIDUALES
B164: HORA | C164: JUGADOR | E164: PUNTOS | F164: RESULTADO | G164: PUNTOS | H164: JUGADOR
B165: ='4VS5'!B37 -> 0.58194444 | C165: ='4VS5'!C37 -> INDIVIDUAL 4A | H165: ='4VS5'!H37 -> INDIVIDUAL 5A
B166: ='4VS5'!B38 -> 0.5875 | C166: ='4VS5'!C38 -> INDIVIDUAL 4B | H166: ='4VS5'!H38 -> INDIVIDUAL 5B
B167: ='4VS5'!B39 -> 0.59305556 | C167: ='4VS5'!C39 -> INDIVIDUAL 4C | H167: ='4VS5'!H39 -> INDIVIDUAL 5C
B168: ='4VS5'!B40 -> 0.59861111 | C168: ='4VS5'!C40 -> INDIVIDUAL 4D | H168: ='4VS5'!H40 -> INDIVIDUAL 5D
B169: ='4VS5'!B41 -> 0.60416667 | C169: ='4VS5'!C41 -> INDIVIDUAL 4E | H169: ='4VS5'!H41 -> INDIVIDUAL 5E
B170: ='4VS5'!B42 -> 0.60972222 | C170: ='4VS5'!C42 -> INDIVIDUAL 4F | H170: ='4VS5'!H42 -> INDIVIDUAL 5F
C172: SUMA DE PUNTOS……. | H172: ….….SUMA DE PUNTOS
C174: RESULTADO MATCH | H174: RESULTADO MATCH

Sheet CUADRO
B1: 1ª JORNADA | C1: 2ª JORNADA | D1: 3ª JORNADA | E1: CLASIFICACIÓN FINAL
A3: 1 | B3: =(DATOS!B2) -> FEDERACION 1
A5: 8 | B5: =(DATOS!F2) -> FEDERACION 8
A7: 4 | B7: =(DATOS!B29) -> FEDERACION 4
A9: 5 | B9: =(DATOS!F29) -> FEDERACION 5
A11: 3 | B11: =(DATOS!B20) -> FEDERACION 3 | E11: Campeón
A13: 6 | B13: =(DATOS!F20) -> FEDERACION 6
A15: 2 | B15: =(DATOS!B11) -> FEDERACION 2 | E15: Subcampeón
A17: 7 | B17: =(DATOS!F11) -> FEDERACION 7
C19: 3er y 4º PUESTO
E24: 3er Puesto
E27: 4º Puesto
C29: 5º A 8º PUESTO
E37: 5º Puesto
E41: 6º Puesto
C45: 7º Y 8º PUESTO
E49: 7º Puesto
E52: 8º Puesto
