Workbook

Sheet Masculino
A1: ABASCAL ALIA, Miguel
A2: ALBERRO GOT, Pablo
A3: ALIE ZANINI, Eduardo
A4: ALUSTIZA MARTINEZ, Iñaki
A5: BALLESTER ASENSIO, Alberto
A6: CABRERA BELLO, Rafael
A7: CABRERA BOLLO, Alejandro
A8: CADENAS CORTES, Samuel
A9: CALERO BELENGUER, Borja
A10: CALERO BELENGUER, Jose Luis
A11: CHAVES FERRER, Jesus
A12: COLOMO HIDALGO, Javier
... A80: HERNÁNDEZ FERNÁNDEZ, Jorge Manuel

Sheet Femenino
A1: ALEMÁN MARTÍNEZ-OLIVA, Matilde
A2: ALIÉ VILA, Elisabeth
A3: CAHILL MARRÓN, Emma Luisa
A4: DÍAZ-NEGRETE PALACIO, Inés
A5: ELÓSEGUI MAYOR, Tania
A6: FERNÁNDEZ ANSORENA, Ana
A7: GIMILIO BARBOZA, Cecilia María
A8: HERZOG RUÍZ DE ALEGRÍA, Raquel
A9: IBÁÑEZ GARCÍA, María Ester
A10: IGUARÁN VALLE, Lorea
A11: JIMÉNEZ GARCÍA, Rocio
A12: LEPINE, Marine
... A33: DURÁN GARCÍA, María del Mar

Sheet Clasificacion
A1: 70 | B1: =IF(J14<>0,6,IF(H14=0,2,4)) -> 6 | G1: =A1*2 -> 140 | H1: =A1*4 -> 280 | J1: =A1*6 -> 420
A5: EQUIPO | G5: TOTAL | I5: POSITION
B6: SPAIN | G6: =SUM(G13+H13+I13+J13) -> 762 | I6: =RANK(X8,X8:X24,1) -> 14
G8: 1st Round | H8: 2nd Round | I8: 3rd Round | J8: 4th round | N8: Total | O8: PUESTO | P8: Empatados | Q8: Desechados | R8: Puesto | S8: Empatados | T8: Mejor vuelta | U8: Puesto | X8: =G6 -> 762
G9: 50 | H9: 75 | I9: 69 | J9: 81 | X9: =G18 -> 760
G10: 54 | H10: 76 | I10: 75 | J10: 51 | M10: 1 | N10: =G6 -> 762 | O10: =RANK(N10,$N$10:$N$37,1) -> #REF! | P10: =COUNTIF($O$10:$O$37,O10) -> 28 | Q10: =IF(P10<>1,K14,) -> 0 | R10: =IF(Q10<>0,RANK(Q10,$Q$10:$Q$37,1),O10) -> #REF! | S10: =COUNTIF($R$10:$R$37,R10) -> 28 | T10: =IF(S10<>1,MIN(G10:J12),0) -> 25 | U10: =IF(S10=1,R10,RANK(T10,$T$10:$T$37,1)) -> #REF! | V10: =MIN(G10:J12) -> 25 | X10: =G29 -> 765
G11: 78 | H11: 71 | I11: 71 | J11: 74 | M11: 2 | N11: =G18 -> 760 | O11: =RANK(N11,$N$10:$N$37,1) -> #REF! | P11: =COUNTIF($O$10:$O$37,O11) -> 28 | Q11: =IF(P11<>1,K25,) -> 760 | R11: =IF(Q11<>0,RANK(Q11,$Q$10:$Q$37,1),O11) -> #REF! | S11: =COUNTIF($R$10:$R$37,R11) -> 28 | T11: =IF(S11<>1,MIN(G21:J23),0) -> 50 | U11: =IF(S11=1,R11,RANK(T11,$T$10:$T$37,1)) -> #REF! | V11: =MIN(G21:J23) -> 50 | X11: =G39 -> 0
G12: 25 | H12: 70 | I12: 71 | J12: 74 | M12: 3 | N12: =G29 -> 765 | O12: =RANK(N12,$N$10:$N$37,1) -> #REF! | P12: =COUNTIF($O$10:$O$37,O12) -> 28 | Q12: =IF(P12<>1,K36,) -> 765 | R12: =IF(Q12<>0,RANK(Q12,$Q$10:$Q$37,1),O12) -> #REF! | S12: =COUNTIF($R$10:$R$37,R12) -> 28 | T12: =IF(S12<>1,MIN(G32:J34),0) -> 50 | U12: =IF(S12=1,R12,RANK(T12,$T$10:$T$37,1)) -> #REF! | V12: =MIN(G32:J34) -> 50 | X12: =G49 -> 0
F13: TOTALES | G13: =SUM(G9:G12)-MAX(G10:G12) -> 129 | H13: =SUM(H9:H12)-MAX(H10:H12) -> 216 | I13: =SUM(I9:I12)-MAX(I10:I12) -> 211 | J13: =SUM(J9:J12)-MAX(J10:J12) -> 206 | K13: =SUM(G13:J13) -> 762 | M13: 4 | N13: =#REF! -> #REF! | O13: =RANK(N13,$N$10:$N$37,1) -> #REF! | P13: =COUNTIF($O$10:$O$37,O13) -> 28 | Q13: =IF(P13<>1,K44,) -> 0 | R13: =IF(Q13<>0,RANK(Q13,$Q$10:$Q$37,1),O13) -> #REF! | S13: =COUNTIF($R$10:$R$37,R13) -> 28 | T13: =IF(S13<>1,MIN(G40:J42),0) -> 0 | U13: =IF(S13=1,R13,RANK(T13,$T$10:$T$37,1)) -> #REF! | V13: =MIN(G40:J42) -> 0 | X13: =G59 -> 0
G14: =MAX(G10:G12) -> 78 | H14: =MAX(H10:H12) -> 76 | J14: =MAX(J10:J12) -> 74 | M14: 5 | N14: =#REF! -> #REF! | O14: =RANK(N14,$N$10:$N$37,1) -> #REF! | P14: =COUNTIF($O$10:$O$37,O14) -> 28 | Q14: =IF(P14<>1,K53,) -> 0 | R14: =IF(Q14<>0,RANK(Q14,$Q$10:$Q$37,1),O14) -> #REF! | S14: =COUNTIF($R$10:$R$37,R14) -> 28 | T14: =IF(S14<>1,MIN(G49:J51),0) -> 0 | U14: =IF(S14=1,R14,RANK(T14,$T$10:$T$37,1)) -> #REF! | V14: =MIN(G49:J51) -> 0 | X14: =G69 -> 0
M15: 6 | N15: =G57 -> 0 | O15: =RANK(N15,$N$10:$N$37,1) -> #REF! | P15: =COUNTIF($O$10:$O$37,O15) -> 28 | Q15: =IF(P15<>1,K63,) -> 0 | R15: =IF(Q15<>0,RANK(Q15,$Q$10:$Q$37,1),O15) -> #REF! | S15: =COUNTIF($R$10:$R$37,R15) -> 28 | T15: =IF(S15<>1,MIN(G59:J61),0) -> 0 | U15: =IF(S15=1,R15,RANK(T15,$T$10:$T$37,1)) -> #REF! | V15: =MIN(G59:J61) -> 0
M16: 7 | N16: =#REF! -> #REF! | O16: =RANK(N16,$N$10:$N$37,1) -> #REF! | P16: =COUNTIF($O$10:$O$37,O16) -> 28 | Q16: =IF(P16<>1,#REF!,) -> #REF! | R16: =IF(Q16<>0,RANK(Q16,$Q$10:$Q$37,1),O16) -> #REF! | S16: =COUNTIF($R$10:$R$37,R16) -> 28 | T16: =IF(S16<>1,MIN(#REF!),0) -> #REF! | U16: =IF(S16=1,R16,RANK(T16,$T$10:$T$37,1)) -> #REF! | V16: =MIN(#REF!) -> #REF!
A17: EQUIPO | G17: TOTAL | I17: POSITION | M17: 8 | N17: =#REF! -> #REF! | O17: =RANK(N17,$N$10:$N$37,1) -> #REF! | P17: =COUNTIF($O$10:$O$37,O17) -> 28 | Q17: =IF(P17<>1,#REF!,) -> #REF! | R17: =IF(Q17<>0,RANK(Q17,$Q$10:$Q$37,1),O17) -> #REF! | S17: =COUNTIF($R$10:$R$37,R17) -> 28 | T17: =IF(S17<>1,MIN(#REF!),0) -> #REF! | U17: =IF(S17=1,R17,RANK(T17,$T$10:$T$37,1)) -> #REF! | V17: =MIN(#REF!) -> #REF! | X17: =G79 -> 0
B18: SPAIN | G18: =SUM(G25+H25+I25+J25) -> 760 | I18: =RANK(X9,X8:X24,1) -> 13 | M18: 9 | N18: =#REF! -> #REF! | O18: =RANK(N18,$N$10:$N$37,1) -> #REF! | P18: =COUNTIF($O$10:$O$37,O18) -> 28 | Q18: =IF(P18<>1,#REF!,) -> #REF! | R18: =IF(Q18<>0,RANK(Q18,$Q$10:$Q$37,1),O18) -> #REF! | S18: =COUNTIF($R$10:$R$37,R18) -> 28 | T18: =IF(S18<>1,MIN(#REF!),0) -> #REF! | U18: =IF(S18=1,R18,RANK(T18,$T$10:$T$37,1)) -> #REF! | V18: =MIN(#REF!) -> #REF! | X18: =G89 -> 0
M19: 10 | N19: =#REF! -> #REF! | O19: =RANK(N19,$N$10:$N$37,1) -> #REF! | P19: =COUNTIF($O$10:$O$37,O19) -> 28 | Q19: =IF(P19<>1,#REF!,) -> #REF! | R19: =IF(Q19<>0,RANK(Q19,$Q$10:$Q$37,1),O19) -> #REF! | S19: =COUNTIF($R$10:$R$37,R19) -> 28 | T19: =IF(S19<>1,MIN(#REF!),0) -> #REF! | U19: =IF(S19=1,R19,RANK(T19,$T$10:$T$37,1)) -> #REF! | V19: =MIN(#REF!) -> #REF! | X19: =G99 -> 0
G20: 1st Round | H20: 2nd Round | I20: 3rd Round | J20: 4th round | M20: 11 | N20: =#REF! -> #REF! | O20: =RANK(N20,$N$10:$N$37,1) -> #REF! | P20: =COUNTIF($O$10:$O$37,O20) -> 28 | Q20: =IF(P20<>1,#REF!,) -> #REF! | R20: =IF(Q20<>0,RANK(Q20,$Q$10:$Q$37,1),O20) -> #REF! | S20: =COUNTIF($R$10:$R$37,R20) -> 28 | T20: =IF(S20<>1,MIN(#REF!),0) -> #REF! | U20: =IF(S20=1,R20,RANK(T20,$T$10:$T$37,1)) -> #REF! | V20: =MIN(#REF!) -> #REF! | X20: =G109 -> 0
G21: 50 | H21: 75 | I21: 69 | J21: 81 | M21: 12 | N21: =#REF! -> #REF! | O21: =RANK(N21,$N$10:$N$37,1) -> #REF! | P21: =COUNTIF($O$10:$O$37,O21) -> 28 | Q21: =IF(P21<>1,#REF!,) -> #REF! | R21: =IF(Q21<>0,RANK(Q21,$Q$10:$Q$37,1),O21) -> #REF! | S21: =COUNTIF($R$10:$R$37,R21) -> 28 | T21: =IF(S21<>1,MIN(#REF!),0) -> #REF! | U21: =IF(S21=1,R21,RANK(T21,$T$10:$T$37,1)) -> #REF! | V21: =MIN(#REF!) -> #REF! | X21: =G119 -> 0
G22: 54 | H22: 81 | I22: 75 | J22: 51 | M22: 13 | N22: =#REF! -> #REF! | O22: =RANK(N22,$N$10:$N$37,1) -> #REF! | P22: =COUNTIF($O$10:$O$37,O22) -> 28 | Q22: =IF(P22<>1,#REF!,) -> #REF! | R22: =IF(Q22<>0,RANK(Q22,$Q$10:$Q$37,1),O22) -> #REF! | S22: =COUNTIF($R$10:$R$37,R22) -> 28 | T22: =IF(S22<>1,MIN(#REF!),0) -> #REF! | U22: =IF(S22=1,R22,RANK(T22,$T$10:$T$37,1)) -> #REF! | V22: =MIN(#REF!) -> #REF! | X22: =G129 -> 0
G23: 78 | H23: 71 | I23: 69 | J23: 74 | M23: 14 | N23: =#REF! -> #REF! | O23: =RANK(N23,$N$10:$N$37,1) -> #REF! | P23: =COUNTIF($O$10:$O$37,O23) -> 28 | Q23: =IF(P23<>1,#REF!,) -> #REF! | R23: =IF(Q23<>0,RANK(Q23,$Q$10:$Q$37,1),O23) -> #REF! | S23: =COUNTIF($R$10:$R$37,R23) -> 28 | T23: =IF(S23<>1,MIN(#REF!),0) -> #REF! | U23: =IF(S23=1,R23,RANK(T23,$T$10:$T$37,1)) -> #REF! | V23: =MIN(#REF!) -> #REF! | X23: =G139 -> 0
G24: 25 | H24: 70 | I24: 71 | J24: 74 | M24: 15 | N24: =#REF! -> #REF! | O24: =RANK(N24,$N$10:$N$37,1) -> #REF! | P24: =COUNTIF($O$10:$O$37,O24) -> 28 | Q24: =IF(P24<>1,#REF!,) -> #REF! | R24: =IF(Q24<>0,RANK(Q24,$Q$10:$Q$37,1),O24) -> #REF! | S24: =COUNTIF($R$10:$R$37,R24) -> 28 | T24: =IF(S24<>1,MIN(#REF!),0) -> #REF! | U24: =IF(S24=1,R24,RANK(T24,$T$10:$T$37,1)) -> #REF! | V24: =MIN(#REF!) -> #REF! | X24: =G149 -> 0
F25: TOTALES | G25: =SUM(G21:G24)-MAX(G22:G24) -> 129 | H25: =SUM(H21:H24)-MAX(H22:H24) -> 216 | I25: =SUM(I21:I24)-MAX(I22:I24) -> 209 | J25: =SUM(J21:J24)-MAX(J22:J24) -> 206 | K25: =SUM(G25:J25) -> 760 | M25: 16 | N25: =#REF! -> #REF! | O25: =RANK(N25,$N$10:$N$37,1) -> #REF! | P25: =COUNTIF($O$10:$O$37,O25) -> 28 | Q25: =IF(P25<>1,#REF!,) -> #REF! | R25: =IF(Q25<>0,RANK(Q25,$Q$10:$Q$37,1),O25) -> #REF! | S25: =COUNTIF($R$10:$R$37,R25) -> 28 | T25: =IF(S25<>1,MIN(#REF!),0) -> #REF! | U25: =IF(S25=1,R25,RANK(T25,$T$10:$T$37,1)) -> #REF! | V25: =MIN(#REF!) -> #REF!
M26: 17 | N26: =#REF! -> #REF! | O26: =RANK(N26,$N$10:$N$37,1) -> #REF! | P26: =COUNTIF($O$10:$O$37,O26) -> 28 | Q26: =IF(P26<>1,#REF!,) -> #REF! | R26: =IF(Q26<>0,RANK(Q26,$Q$10:$Q$37,1),O26) -> #REF! | S26: =COUNTIF($R$10:$R$37,R26) -> 28 | T26: =IF(S26<>1,MIN(#REF!),0) -> #REF! | U26: =IF(S26=1,R26,RANK(T26,$T$10:$T$37,1)) -> #REF! | V26: =MIN(#REF!) -> #REF!
M27: 18 | N27: =#REF! -> #REF! | O27: =RANK(N27,$N$10:$N$37,1) -> #REF! | P27: =COUNTIF($O$10:$O$37,O27) -> 28 | Q27: =IF(P27<>1,#REF!,) -> #REF! | R27: =IF(Q27<>0,RANK(Q27,$Q$10:$Q$37,1),O27) -> #REF! | S27: =COUNTIF($R$10:$R$37,R27) -> 28 | T27: =MIN(#REF!) -> #REF! | U27: =IF(S27=1,R27,RANK(T27,$T$10:$T$37,1)) -> #REF! | V27: =MIN(#REF!) -> #REF!
A28: EQUIPO | G28: TOTAL | I28: POSITION | M28: 19 | N28: =#REF! -> #REF! | O28: =RANK(N28,$N$10:$N$37,1) -> #REF! | P28: =COUNTIF($O$10:$O$37,O28) -> 28 | Q28: =IF(P28<>1,#REF!,) -> #REF! | R28: =IF(Q28<>0,RANK(Q28,$Q$10:$Q$37,1),O28) -> #REF! | S28: =COUNTIF($R$10:$R$37,R28) -> 28 | T28: =IF(S28<>1,MIN(#REF!),0) -> #REF! | U28: =IF(S28=1,R28,RANK(T28,$T$10:$T$37,1)) -> #REF! | V28: =MIN(#REF!) -> #REF!
B29: SPAIN | G29: =SUM(G36+H36+I36+J36) -> 765 | I29: =RANK(X10,X8:X24,1) -> 15 | M29: 20 | N29: =#REF! -> #REF! | O29: =RANK(N29,$N$10:$N$37,1) -> #REF! | P29: =COUNTIF($O$10:$O$37,O29) -> 28 | Q29: =IF(P29<>1,#REF!,) -> #REF! | R29: =IF(Q29<>0,RANK(Q29,$Q$10:$Q$37,1),O29) -> #REF! | S29: =COUNTIF($R$10:$R$37,R29) -> 28 | T29: =IF(S29<>1,MIN(#REF!),0) -> #REF! | U29: =IF(S29=1,R29,RANK(T29,$T$10:$T$37,1)) -> #REF! | V29: =MIN(#REF!) -> #REF!
M30: 21 | N30: =#REF! -> #REF! | O30: =RANK(N30,$N$10:$N$37,1) -> #REF! | P30: =COUNTIF($O$10:$O$37,O30) -> 28 | Q30: =IF(P30<>1,#REF!,) -> #REF! | R30: =IF(Q30<>0,RANK(Q30,$Q$10:$Q$37,1),O30) -> #REF! | S30: =COUNTIF($R$10:$R$37,R30) -> 28 | T30: =IF(S30<>1,MIN(#REF!),0) -> #REF! | U30: =IF(S30=1,R30,RANK(T30,$T$10:$T$37,1)) -> #REF! | V30: =MIN(#REF!) -> #REF!
G31: 1st Round | H31: 2nd Round | I31: 3rd Round | J31: 4th round | M31: 22 | N31: =#REF! -> #REF! | O31: =RANK(N31,$N$10:$N$37,1) -> #REF! | P31: =COUNTIF($O$10:$O$37,O31) -> 28 | Q31: =IF(P31<>1,#REF!,) -> #REF! | R31: =IF(Q31<>0,RANK(Q31,$Q$10:$Q$37,1),O31) -> #REF! | S31: =COUNTIF($R$10:$R$37,R31) -> 28 | T31: =IF(S31<>1,MIN(#REF!),0) -> #REF! | U31: =IF(S31=1,R31,RANK(T31,$T$10:$T$37,1)) -> #REF! | V31: =MIN(#REF!) -> #REF!
G32: 50 | H32: 80 | I32: 69 | J32: 81 | M32: 23 | N32: =#REF! -> #REF! | O32: =RANK(N32,$N$10:$N$37,1) -> #REF! | P32: =COUNTIF($O$10:$O$37,O32) -> 28 | Q32: =IF(P32<>1,#REF!,) -> #REF! | R32: =IF(Q32<>0,RANK(Q32,$Q$10:$Q$37,1),O32) -> #REF! | S32: =COUNTIF($R$10:$R$37,R32) -> 28 | T32: =IF(S32<>1,MIN(#REF!),0) -> #REF! | U32: =IF(S32=1,R32,RANK(T32,$T$10:$T$37,1)) -> #REF! | V32: =MIN(#REF!) -> #REF!
G33: 54 | H33: 81 | I33: 75 | J33: 51 | M33: 24 | N33: =#REF! -> #REF! | O33: =RANK(N33,$N$10:$N$37,1) -> #REF! | P33: =COUNTIF($O$10:$O$37,O33) -> 28 | Q33: =IF(P33<>1,#REF!,) -> #REF! | R33: =IF(Q33<>0,RANK(Q33,$Q$10:$Q$37,1),O33) -> #REF! | S33: =COUNTIF($R$10:$R$37,R33) -> 28 | T33: =IF(S33<>1,MIN(#REF!),0) -> #REF! | U33: =IF(S33=1,R33,RANK(T33,$T$10:$T$37,1)) -> #REF! | V33: =MIN(#REF!) -> #REF!
G34: 81 | H34: 71 | I34: 69 | J34: 74 | M34: 25 | N34: =#REF! -> #REF! | O34: =RANK(N34,$N$10:$N$37,1) -> #REF! | P34: =COUNTIF($O$10:$O$37,O34) -> 28 | Q34: =IF(P34<>1,#REF!,) -> #REF! | R34: =IF(Q34<>0,RANK(Q34,$Q$10:$Q$37,1),O34) -> #REF! | S34: =COUNTIF($R$10:$R$37,R34) -> 28 | T34: =IF(S34<>1,MIN(#REF!),0) -> #REF! | U34: =IF(S34=1,R34,RANK(T34,$T$10:$T$37,1)) -> #REF! | V34: =MIN(#REF!) -> #REF!
G35: 25 | H35: 70 | I35: 71 | J35: 74 | M35: 26 | N35: =#REF! -> #REF! | O35: =RANK(N35,$N$10:$N$37,1) -> #REF! | P35: =COUNTIF($O$10:$O$37,O35) -> 28 | Q35: =IF(P35<>1,#REF!,) -> #REF! | R35: =IF(Q35<>0,RANK(Q35,$Q$10:$Q$37,1),O35) -> #REF! | S35: =COUNTIF($R$10:$R$37,R35) -> 28 | T35: =IF(S35<>1,MIN(#REF!),0) -> #REF! | U35: =IF(S35=1,R35,RANK(T35,$T$10:$T$37,1)) -> #REF! | V35: =MIN(#REF!) -> #REF!
F36: TOTALES | G36: =SUM(G32:G35)-MAX(G33:G35) -> 129 | H36: =SUM(H32:H35)-MAX(H33:H35) -> 221 | I36: =SUM(I32:I35)-MAX(I33:I35) -> 209 | J36: =SUM(J32:J35)-MAX(J33:J35) -> 206 | K36: =SUM(G36:J36) -> 765 | M36: 27 | N36: =#REF! -> #REF! | O36: =RANK(N36,$N$10:$N$37,1) -> #REF! | P36: =COUNTIF($O$10:$O$37,O36) -> 28 | Q36: =IF(P36<>1,K123,) -> 0 | R36: =IF(Q36<>0,RANK(Q36,$Q$10:$Q$37,1),O36) -> #REF! | S36: =COUNTIF($R$10:$R$37,R36) -> 28 | T36: =IF(S36<>1,MIN(#REF!),0) -> #REF! | U36: =IF(S36=1,R36,RANK(T36,$T$10:$T$37,1)) -> #REF! | V36: =MIN(#REF!) -> #REF!
A37: 70 | B37: =IF(J47<>0,6,IF(H47=0,2,4)) -> 2 | G37: =A37*2 -> 140 | H37: =A37*4 -> 280 | J37: =A37*6 -> 420 | M37: 28 | N37: =#REF! -> #REF! | O37: =RANK(N37,$N$10:$N$37,1) -> #REF! | P37: =COUNTIF($O$10:$O$37,O37) -> 28 | Q37: =IF(P37<>1,#REF!,) -> #REF! | R37: =IF(Q37<>0,RANK(Q37,$Q$10:$Q$37,1),O37) -> #REF! | S37: =COUNTIF($R$10:$R$37,R37) -> 28 | T37: =IF(S37<>1,MIN(#REF!),0) -> #REF! | U37: =IF(S37=1,R37,RANK(T37,$T$10:$T$37,1)) -> #REF! | V37: =MIN(#REF!) -> #REF!
A38: EQUIPO | G38: TOTAL | I38: POSITION
B39: SPAIN | G39: =SUM(G46+H46+I46+J46) -> 0
G41: 1st Round | H41: 2nd Round | I41: 3rd Round | J41: 4th round
F46: TOTALES | G46: =SUM(G42:G45)-MAX(G43:G45) -> 0 | H46: =SUM(H42:H45)-MAX(H43:H45) -> 0 | I46: =SUM(I42:I45)-MAX(I43:I45) -> 0 | J46: =SUM(J42:J45)-MAX(J43:J45) -> 0 | K46: =SUM(G46:J46) -> 0
G47: =MAX(G43:G45) -> 0 | H47: =MAX(H43:H45) -> 0 | J47: =MAX(J43:J45) -> 0
A48: EQUIPO | G48: TOTAL | I48: POSITION
B49: SPAIN | G49: =SUM(G56+H56+I56+J56) -> 0
...

Sheet Lista  clasificacion
B3: Equipo | C3: Resultado | D3: Posición
B4: =Clasificacion!B6 -> SPAIN | C4: =Clasificacion!G6 -> 762 | D4: =Clasificacion!H6 -> 0
B5: =Clasificacion!B18 -> SPAIN | C5: =Clasificacion!G18 -> 760 | D5: =Clasificacion!H18 -> 0
B6: =Clasificacion!B29 -> SPAIN | C6: =Clasificacion!G29 -> 765 | D6: =Clasificacion!H29 -> 0
B7: =Clasificacion!#REF! -> #REF! | C7: =Clasificacion!#REF! -> #REF! | D7: =Clasificacion!#REF! -> #REF!
B8: =Clasificacion!#REF! -> #REF! | C8: =Clasificacion!#REF! -> #REF! | D8: =Clasificacion!#REF! -> #REF!
B9: =Clasificacion!B57 -> 0 | C9: =Clasificacion!G57 -> 0 | D9: =Clasificacion!H57 -> 0
B10: =Clasificacion!#REF! -> #REF! | C10: =Clasificacion!#REF! -> #REF! | D10: =Clasificacion!#REF! -> #REF!
B11: =Clasificacion!#REF! -> #REF! | C11: =Clasificacion!#REF! -> #REF! | D11: =Clasificacion!#REF! -> #REF!
B12: =Clasificacion!#REF! -> #REF! | C12: =Clasificacion!#REF! -> #REF! | D12: =Clasificacion!#REF! -> #REF!
B13: =Clasificacion!#REF! -> #REF! | C13: =Clasificacion!#REF! -> #REF! | D13: =Clasificacion!#REF! -> #REF!
B14: =Clasificacion!#REF! -> #REF! | C14: =Clasificacion!#REF! -> #REF! | D14: =Clasificacion!#REF! -> #REF!
B15: =Clasificacion!#REF! -> #REF! | C15: =Clasificacion!#REF! -> #REF! | D15: =Clasificacion!#REF! -> #REF!
B16: =Clasificacion!#REF! -> #REF! | C16: =Clasificacion!#REF! -> #REF! | D16: =Clasificacion!#REF! -> #REF!
B17: =Clasificacion!#REF! -> #REF! | C17: =Clasificacion!#REF! -> #REF! | D17: =Clasificacion!#REF! -> #REF!
B18: =Clasificacion!#REF! -> #REF! | C18: =Clasificacion!#REF! -> #REF! | D18: =Clasificacion!#REF! -> #REF!
B19: =Clasificacion!#REF! -> #REF! | C19: =Clasificacion!#REF! -> #REF! | D19: =Clasificacion!#REF! -> #REF!
B20: =Clasificacion!#REF! -> #REF! | C20: =Clasificacion!#REF! -> #REF! | D20: =Clasificacion!#REF! -> #REF!
B21: =Clasificacion!#REF! -> #REF! | C21: =Clasificacion!#REF! -> #REF! | D21: =Clasificacion!#REF! -> #REF!
... B33: =Clasificacion!#REF! -> #REF! | C33: =Clasificacion!#REF! -> #REF! | D33: =Clasificacion!#REF! -> #REF!

Sheet Universidades
A1: SAN PABLO - CEU
A2: PAÍS VASCO
A3: GRANADA
A4: LAS PALMAS
A5: COMPLUTENSE - MADRID
A6: POMPEU FABRA
A7: MÁLAGA
A8: PÚBLICA DE NAVARRA
A9: POLITÉCNICA - MADRID
A10: U.N.E.D.
A11: VALENCIA
A12: POLITÉCNICA - VALENCIA
... A32: MIGUEL HERNÁNDEZ
