Workbook

Sheet TRANSFERENCIA
A1: ORDEN DE TRANSFERENCIA CAJA MADRID
A2: FECHA | B2: =LIQUIDACION!K35 -> 0
A4: ORDENANTE | C4: CÓDICO CUENTA CLIENTE DE CARGO O IBAN
A5: REAL FEDERACIÓN ESPAÑOLA DE GOLF | C5: IBAN:
C6: ENTIDAD OFICINA D.C. Nº DE CUENTA
C7: 2038 2488 11 6000121578
A9: POR ORDEN DE:
A10: BENEFICIARIO | C10: CÓDICO CUENTA CLIENTE DE ABONO O IBAN
A11: =LIQUIDACION!E7 -> 0 | C11: IBAN:
C12: ENTIDAD OFICINA D.C. Nº DE CUENTA
C13: =LIQUIDACION!I45 -> 0
A15: IMPORTE NOMINAL | B15: TIPO GASTO | C15: COMISION | D15: IMPORTE TOTAL
A16: =IF(LIQUIDACION!E40=0,LIQUIDACION!E42,IF(LIQUIDACION!E42<LIQUIDACION!E40,0,(LIQUIDACION!E42)*-1)) -> 0
A17: CONCEPTO: | B17: =LIQUIDACION!H9 -> 0
C19: Firma

Sheet DIARIO
A2: Nombre: | C2: =LIQUIDACION!E7 -> 0
A5: Fecha | B5: Nº Asiento | C5: Nº Doc. | D5: Tipo | E5: Nº de cuenta | F5: Descripción | H5: Actuación | I5: Grupo | J5: Actividad | K5: Debe | L5: Haber | M5: Tipo Contr. | N5: Cta. Contr. | O5: Cód. Depart. | P5: Cód. Programa
A6: =TODAY() -> 40896 | D6: C | E6: 65501 | F6: =$C$2 -> 0 | G6: =LIQUIDACION!$H$9 -> 0 | H6: =RIGHT(LIQUIDACION!G9,7) | K6: =SUM(LIQUIDACION!K28:'LIQUIDACION'!K31) -> 0
A7: =TODAY() -> 40896 | D7: C | E7: 65500 | F7: =$C$2 -> 0 | G7: =LIQUIDACION!$H$9 -> 0 | H7: =RIGHT(LIQUIDACION!G9,7) | K7: =SUM(LIQUIDACION!K15:'LIQUIDACION'!K23) -> 0
A8: =TODAY() -> 40896
A9: =TODAY() -> 40896
I10: A pagar | K10: =SUM(K6:K9) -> 0
D11: C | E11: B
A14: Comentarios:
E16: =IF(LIQUIDACION!I45<>0,"TIENE HOJA DE TRANSFERENCIA",) -> 0

Sheet RETRIB. DIRECTIVOS Y OTROS
A2: Nombre: | C2: =LIQUIDACION!E7 -> 0
A5: Tipo | B5: Número | C5: Conc. Retr. | D5: Descripción | F5: Actuación | G5: Grupo | H5: Actividad | I5: Importe | J5: Clave | K5: %Ret | L5: Importe Ret. | M5: Neto | N5: Cód. Depart. | O5: Cód. Programa
A6: C | B6: 65501 | C6: 10 | D6: =$C$2 -> 0 | E6: =LIQUIDACION!$H$9 -> 0 | F6: =RIGHT(LIQUIDACION!$G$9,7) | I6: =P6*LIQUIDACION!E25 -> 0 | J6: F | K6: 15 | L6: =IF((LIQUIDACION!K25)<>0,LIQUIDACION!K26,0) -> 0 | M6: =I6+L6 -> 0 | P6: =IF(LIQUIDACION!G25=54,LIQUIDACION!G25-26.67,IF(LIQUIDACION!G25=72.12,LIQUIDACION!G25-26.67,LIQUIDACION!G25-53.34)) -> -53.34
A7: C | B7: 65500 | C7: 08 | D7: =$C$2 -> 0 | E7: =LIQUIDACION!$H$9 -> 0 | F7: =RIGHT(LIQUIDACION!$G$9,7) | I7: =LIQUIDACION!E21*(LIQUIDACION!H21-0.19) -> 0 | J7: F | K7: 15 | L7: =-I7*K7/100 -> 0 | M7: =I7+L7 -> 0
A8: C | B8: 65500 | C8: 07 | D8: =$C$2 -> 0 | E8: =LIQUIDACION!$H$9 -> 0 | F8: =RIGHT(LIQUIDACION!$G$9,7) | I8: =SUM(LIQUIDACION!K15:'LIQUIDACION'!K18)+LIQUIDACION!K23 -> 0 | J8: Z | M8: =I8 -> 0
A9: C | B9: 65501 | C9: 09 | D9: =$C$2 -> 0 | E9: =LIQUIDACION!$H$9 -> 0 | F9: =RIGHT(LIQUIDACION!$G$9,7) | I9: =SUM(LIQUIDACION!K28:'LIQUIDACION'!K31) -> 0 | J9: Z | M9: =I9 -> 0
A10: C | B10: 65500 | C10: 16 | D10: =$C$2 -> 0 | E10: =LIQUIDACION!$H$9 -> 0 | F10: =RIGHT(LIQUIDACION!$G$9,7) | I10: =LIQUIDACION!E21*0.19 -> 0 | J10: L | M10: =I10 -> 0
A11: C | B11: 65501 | C11: 19 | F11: =RIGHT(LIQUIDACION!$G$9,7) | I11: =LIQUIDACION!K25-I6 -> 0 | J11: L | M11: =I11-L11 -> 0
K12: A pagar | M12: =SUM(M6:M11) -> 0
A14: Comentarios:
C16: =IF(LIQUIDACION!I45<>0,"TIENE HOJA DE TRANSFERENCIA",) -> 0

Sheet LIQUIDACION
A2: REAL FEDERACIÓN ESPAÑOLA DE GOLF
A5: JUSTIFICACIÓN DE GASTOS POR INDEMNIZACIONES DE CARACTER INDIVIDUAL
E6: Ejercicio
A7: Nombre y apellidos
A8: D.N.I. | F8: Cargo que desempeña
A9: Grupo | E9: Motivo del desplazamiento
A10: Lugar | G10: País
A11: Fechas del desplazamiento | F11: de | H11: a | J11: de
A12: Tipo de cambio de divisa | F12: =IF(E12=0,"","€/unidad de divisa") | I12: ES NECESARIO CUMPLIMENTAR TODA LA CABECERA
A13: GASTOS DE LOCOMOCION
A15: - | B15: Transporte regular (*): | E15: Ferrocarril | I15: Importe | K15: =CALCULOS!B10 -> 0 | L15: 0.26
E16: Avión | I16: Importe | K16: =CALCULOS!D10 -> 0 | L16: 0.19
E17: Autobús | I17: Importe | L17: 0.24
E18: Otros | I18: Importe | K18: =CALCULOS!F10 -> 0
A19: - | B19: Vehículo propio | E19: Matrícula
B20: Itinerario
B21: Kms. recorridos | G21: Importe/km | H21: 0.26 | I21: Importe | K21: =E21*H21 -> 0
A22: - | B22: Otros gastos desplazamiento: | F22: =IF(K22<>0,"Retención exceso pago kilometraje",) -> 0 | K22: =IF(H21=0.26,-(E21*0.07)*15/100,0) -> 0
I23: Importe
A25: GASTOS POR DIETAS | F25: =IF(E25=0,"","dias X") | H25: =IF(E25=0,"","EUR/día") | I25: =IF(E25=0," ","Importe") | K25: =IF(E25=0,0,(E25*G25)) -> 0
F26: =IF(E25=0," ","15% I.R.P.F.sobre exceso de dieta") | K26: =IF(G25=102,-(7.3)*E25,IF(G25=54,-(4.1)*E25,IF(G25=240,-(7.3)*E25,IF(G25=72.12,-(6.82)*E25,IF(G25=123.21,-(10.48)*E25,IF(G25=240.4,-(28.06)*E25,""))))))
A27: GASTOS DE MANUTENCIÓN
B28: Nº Días | E28: Importe manutención según recibos | I28: Importe | K28: =CALCULOS!H10 -> 0 | L28: 102
A29: GASTOS DE ALOJAMIENTO (*) | L29: 240.4
B30: Nº Días | E30: Importe alojamiento según recibos | I30: Importe | K30: =CALCULOS!J10 -> 0
B31: Varios | K31: =CALCULOS!L10 -> 0
E32: TOTAL GASTOS | K32: =SUM(K15:K31) -> 0
D33: INTRODUCIR LA FECHA EN QUE SE HACE LA LIQUIDACIÓN
I35: Madrid, a
C36: Conforme
C37: EL PRESIDENTE | H37: EL INTERESADO - Recibí
B40: P. Fondos
B41: Gastos | E41: =K32 -> 0
B42: =IF(E42>=0,"a n/ favor","a s/ favor") -> a n/ favor | E42: =IF(E40=0,E41,E40-E41) -> 0
B43: Devuelve
A45: VºBº | G45: Nº Cuenta corriente
A46: Justificantes que se adjuntan | E46: Billetes originales
E47: Factura Hotel
E48: Otros
A49: (*) Es imprescincible para su justificación la presentación del justificante original.En el caso de viajes al extranjero se adjuntará documento
...

Sheet CALCULOS
A3: Nombre y apellidos | D3: =LIQUIDACION!D7 -> 0
A4: D.N.I. | D4: =LIQUIDACION!D8 -> 0 | F4: Cargo que desempeña | H4: =LIQUIDACION!H8 -> 0
A5: Grupo | E5: Motivo del desplazamiento | G5: =LIQUIDACION!G9 -> 0
A6: Lugar | C6: =LIQUIDACION!C10 -> 0 | G6: País | H6: =LIQUIDACION!H10 -> 0
A7: Fechas | C7: =CONCATENATE(LIQUIDACION!E11," ",LIQUIDACION!G11," ",LIQUIDACION!H11," ",LIQUIDACION!I11," ",LIQUIDACION!K11) -> a | F7: Cambio Divisa | H7: =IF(LIQUIDACION!E12=0,1,LIQUIDACION!E12) -> 1
A10: FERROCARRIL | B10: =SUM(A12:A31)+SUM(B12:B31)*$H$7 -> 0 | C10: AVION | D10: =SUM(C12:C31)+SUM(D12:D31)*$H$7 -> 0 | E10: OTROS DESPLAZ. | F10: =SUM(E12:E31)+SUM(F12:F31)*$H$7 -> 0 | G10: MANUTENCION | H10: =SUM(G12:G31)+SUM(H12:H31)*$H$7 -> 0 | I10: ALOJAMIENTO | J10: =SUM(I12:I31)+SUM(J12:J31)*$H$7 -> 0 | K10: VARIOS | L10: =SUM(K12:K31)+SUM(L12:L31)*$H$7 -> 0 | M10: =B10+D10+F10+H10+J10+L10 -> 0
A11: € | B11: Divisa | C11: € | D11: Divisa | E11: € | F11: Divisa | G11: € | H11: Divisa | I11: € | J11: Divisa | K11: € | L11: Divisa
A32: =SUM(A12:A31) -> 0 | B32: =SUM(B12:B31) -> 0 | C32: =SUM(C12:C31) -> 0 | D32: =SUM(D12:D31) -> 0 | E32: =SUM(E12:E31) -> 0 | F32: =SUM(F12:F31) -> 0 | G32: =SUM(G12:G31) -> 0 | H32: =SUM(H12:H31) -> 0 | ... L32: =SUM(L12:L31) -> 0

Sheet ACTUACIONES
A1: Nº | B1: Actuación | C1: Lugar | D1: Fecha inicio | E1: Fecha fin
A2: 12-001 | B2: MATCH CUADRANGULAR | C2: Costa Ballena, Jerez | D2: 40933 | E2: 40935
A3: 12-002 | B3: COPA BALEARES | C3: Mallorca | D3: 40941 | E3: 40944
A4: 12-003 | B4: MATCH FRANCIA-ESPAÑA (SUB-18) | C4: PAU | D4: 40950 | E4: 40951
A5: 12-004 | B5: Cº INTERNACIONAL DE PORTUGAL | C5: MONTADO G.R | D5: 40954 | E5: 40957
A6: 12-005 | B6: Cº INTERNACIONAL ESPAÑA. COPA SM EL REY | C6: MALLORCA | D6: 40968 | E6: 40972
A7: 12-006 | B7: CONCENTRACIÓN | C7: A DETERMINAR | D7: 40969 | E7: 40972
A8: 12-007 | B8: COPA ANDALUCÍA | C8: LA CAÑADA (CÁDIZ) | D8: 40982 | E8: 40985
A9: 12-008 | B9: COPA SOTOGRANDE | C9: SOTOGRANDE, CÁDIZ | D9: 40990 | E9: 40993
A10: 12-009 | B10: Cº ESPAÑA JUNIOR Y BOYS | C10: A DETERMINAR | D10: 41000 | E10: 41003
A11: 12-010 | B11: Cº DE BARCELONA | C11: EL PRAT, BARCELONA | D11: 41018 | E11: 41021
A12: 12-011 | B12: LYTHAM TROPHY | C12: ROYAL LYTHAM | D12: 41033 | E12: 41035
A13: 12-012 | B13: Cº DE CANARIAS | C13: A DETERMINAR | D13: 41046 | E13: 41049
... A184: 12-912 | B184: MASTER SENIOR | C184: A DETERMINAR | D184: 40909 | E184: 40909

Sheet INSTRUCCIONES
